BEGIN:VCALENDAR
VERSION:2.0
PRODID:-//Wandern mit Freunden - ECPv6.15.20//NONSGML v1.0//EN
CALSCALE:GREGORIAN
METHOD:PUBLISH
X-WR-CALNAME:Wandern mit Freunden
X-ORIGINAL-URL:https://wandern-mit-freunden.ch
X-WR-CALDESC:Veranstaltungen im Wandern mit Freunden
REFRESH-INTERVAL;VALUE=DURATION:PT1H
X-Robots-Tag:noindex
X-PUBLISHED-TTL:PT1H
BEGIN:VTIMEZONE
TZID:Europe/Zurich
BEGIN:DAYLIGHT
TZOFFSETFROM:+0100
TZOFFSETTO:+0200
TZNAME:CEST
DTSTART:20250330T010000
END:DAYLIGHT
BEGIN:STANDARD
TZOFFSETFROM:+0200
TZOFFSETTO:+0100
TZNAME:CET
DTSTART:20251026T010000
END:STANDARD
BEGIN:DAYLIGHT
TZOFFSETFROM:+0100
TZOFFSETTO:+0200
TZNAME:CEST
DTSTART:20260329T010000
END:DAYLIGHT
BEGIN:STANDARD
TZOFFSETFROM:+0200
TZOFFSETTO:+0100
TZNAME:CET
DTSTART:20261025T010000
END:STANDARD
BEGIN:DAYLIGHT
TZOFFSETFROM:+0100
TZOFFSETTO:+0200
TZNAME:CEST
DTSTART:20270328T010000
END:DAYLIGHT
BEGIN:STANDARD
TZOFFSETFROM:+0200
TZOFFSETTO:+0100
TZNAME:CET
DTSTART:20271031T010000
END:STANDARD
END:VTIMEZONE
BEGIN:VEVENT
DTSTART;TZID=Europe/Zurich:20260304T093000
DTEND;TZID=Europe/Zurich:20260304T163000
DTSTAMP:20260424T082253
CREATED:20260223T082432Z
LAST-MODIFIED:20260302T112302Z
UID:10001353-1772616600-1772641800@wandern-mit-freunden.ch
SUMMARY:Schneeschuhtour Feldis-Furggabüel-Pradaschier
DESCRIPTION:Am Mittwoch 4.3.26 wandern wir mit Schneeschuhen von Mutta (Feldis)  zum Dreibündenstein und auf den/die Furggabüel. Dort geht es ein Stück zurück und weiter via Grüenabüel nach Pradaschier.( Alle Bergbahnen kosten zusammengerechnet mit Halbtax ca 23.-) \n  \nStreckenlänge: 7.6km                        446m ufä 652m abä                      4h 10min                              ca 4h reine Wanderzeit \nRoute auf Schweizmobil \n  \nAnfahrt ab Zürich: Zürich ab 7:07/ Chur an 08:22\, ab 08:28/ Rhäzüns an 8:45\, ab 9:10 mit Luftseilbahn Feldis/ Feldis an 9:17\, ab ca 9:35 mit Sessellift nach Mutta. \nRückfahrt ab Pradaschier Churwalden \n  \nEssen aus dem Rucksack \n  \nAnmeldungen können durch eingeloggte Benutzer unten im Kommentarfeld eingetragen werden. \nMaximal 10 Personen \nEure Barbara
URL:https://wandern-mit-freunden.ch/event/schneeschuhtour-feldis-furggabueel-pradaschier/
CATEGORIES:Geplante Wanderungen,Schneeschuh Tour
END:VEVENT
BEGIN:VEVENT
DTSTART;TZID=Europe/Zurich:20260307T100000
DTEND;TZID=Europe/Zurich:20260307T160000
DTSTAMP:20260424T082253
CREATED:20260224T075757Z
LAST-MODIFIED:20260306T063937Z
UID:10001354-1772877600-1772899200@wandern-mit-freunden.ch
SUMMARY:Schneeschuhtour Sparenmoos ob Zweisimmen
DESCRIPTION:  \nAm Samstag 7.3.26 begehen wir die Schneeschuhtour 190 und als zweiten Teil den Winterwanderweg 770 \nEin zusätzliches Busticket ist nötig. Dieses können wir für 20.- hin und zurück (mit Halbtax GA) am Schalter in Zweisimmen lösen. \nStreckenlänge 9.5km                                        390m ufä und abä                                  4h 10min reine Wanderzeit \nRoute auf Schweizmobil \n  \nAnfahrt ab Zürich HB: Zürich ab 7:02/ Spiez an 8:34\, ab 8:38/ Zweisimmen an 9:20/ Extrabus 9:35 \nRückfahrt ab Sparenmoos  15 oder (eher) 16 Uhr (Dies müssen wir ev. vorher entscheiden) \n  \nEssen aus dem Rucksack \n  \nEure Barbara
URL:https://wandern-mit-freunden.ch/event/voraussichtlich-schneeschuhtour-sparenmoos-ob-zweisimmen/
CATEGORIES:Geplante Wanderungen,Schneeschuh Tour
END:VEVENT
END:VCALENDAR