BEGIN:VCALENDAR
VERSION:2.0
PRODID:-//Wandern mit Freunden - ECPv6.15.20//NONSGML v1.0//EN
CALSCALE:GREGORIAN
METHOD:PUBLISH
X-WR-CALNAME:Wandern mit Freunden
X-ORIGINAL-URL:https://wandern-mit-freunden.ch
X-WR-CALDESC:Veranstaltungen im Wandern mit Freunden
REFRESH-INTERVAL;VALUE=DURATION:PT1H
X-Robots-Tag:noindex
X-PUBLISHED-TTL:PT1H
BEGIN:VTIMEZONE
TZID:Europe/Zurich
BEGIN:DAYLIGHT
TZOFFSETFROM:+0100
TZOFFSETTO:+0200
TZNAME:CEST
DTSTART:20250330T010000
END:DAYLIGHT
BEGIN:STANDARD
TZOFFSETFROM:+0200
TZOFFSETTO:+0100
TZNAME:CET
DTSTART:20251026T010000
END:STANDARD
BEGIN:DAYLIGHT
TZOFFSETFROM:+0100
TZOFFSETTO:+0200
TZNAME:CEST
DTSTART:20260329T010000
END:DAYLIGHT
BEGIN:STANDARD
TZOFFSETFROM:+0200
TZOFFSETTO:+0100
TZNAME:CET
DTSTART:20261025T010000
END:STANDARD
BEGIN:DAYLIGHT
TZOFFSETFROM:+0100
TZOFFSETTO:+0200
TZNAME:CEST
DTSTART:20270328T010000
END:DAYLIGHT
BEGIN:STANDARD
TZOFFSETFROM:+0200
TZOFFSETTO:+0100
TZNAME:CET
DTSTART:20271031T010000
END:STANDARD
END:VTIMEZONE
BEGIN:VEVENT
DTSTART;TZID=Europe/Zurich:20260106T103000
DTEND;TZID=Europe/Zurich:20260106T170000
DTSTAMP:20260424T173113
CREATED:20260102T120405Z
LAST-MODIFIED:20260105T083347Z
UID:10001338-1767695400-1767718800@wandern-mit-freunden.ch
SUMMARY:Alle Jahre wieder: Kaffi und 3 Königskuchen mit vorheriger kurzer Wanderung
DESCRIPTION:Liebe Wanderfreunde \nSchon bald traditionell wandern wir am 6. Januar auf einer kleinen Route zu mir nach Hause. \nIch habe bereits wieder zwei dieser 3 Königskuchen der Bio Bäckerei aus Ötwil am See bestellt. Darin sind besonders schnügeligi Könige versteckt. \n \n  \nWanderroute: Küsnachter Tobel-Zollikon-ZH Seefeld \n  \nFahrplan ab Zürich HB: Zürich ab 10:15 (Stadelhofen ab 10:18)/ Küsnacht ZH an 10:27 \nRückfahrt ab Tramhaltestelle Höschgasse \n  \nMittagessen aus dem Rucksack \nMaximal 10 Personen \nIch freue mich! Barbara
URL:https://wandern-mit-freunden.ch/event/alle-jahre-wieder-kaffi-und-3-koenigskuchen-mit-vorheriger-kurzer-wanderung/
CATEGORIES:Geplante Wanderungen,Sonstige Ausflüge,Wanderung
END:VEVENT
BEGIN:VEVENT
DTSTART;TZID=Europe/Zurich:20260111T103000
DTEND;TZID=Europe/Zurich:20260111T150000
DTSTAMP:20260424T173113
CREATED:20260108T081148Z
LAST-MODIFIED:20260109T110247Z
UID:10001339-1768127400-1768143600@wandern-mit-freunden.ch
SUMMARY:SONNTAG: Montagnola - Collina-d'Oro - Lugano (TI)
DESCRIPTION:Max. Gruppengrösse: 10 Personen \nWanderung auf Sonntag verschoben. \nAm kommenden SONNTAG (11.01.26)\nwandern wir ab Montagnola über den Collina-d’Oro-Hügel zurück nach Montagnola\nund weiter bis Lugano-Stazione. \nGeplante Wanderroute:\nCertenago\, Paese (435m) Bus-Haltestelle\nMontagnola (467m) – Bigogno (542m)\nAgra (558m) – Roncone (502m)\nCollina-d’Oro-Hügel – Montagnola\nSant’Abbondio (409m) – Parco Tassino (360m)\nLugano (330m) / Bahnstation \nStreckenlänge:\nca. 13 km\, 400 m aufwärts\, 510 m abwärts\, 3.5 Std.\, T1-T2 \nRoute auf SchweizMobil.ch:\nL I N K \n \nFahrplan ab Zürich HB (geändert!)\nZürich HB ab 07:33 / Lugano an 09:28\nStartkaffi im Bahnhof-Buffet\nLugano\, Stazione Via Sorengo ab 10:13 (mit Bus B 436 Richtung Agra)\nCertenago\, Paese an 10:20 \nRückfahrt ab Lugano:\nxx:30 / xx:58 \nVerpflegung aus dem Rucksack \nAnmeldungen\nkönnen durch eingeloggte Benutzer unten im Kommentarfeld eingetragen werden. \nBeat\nhttps://wmf-pfanniblog-2.blogspot.com/\nhttps://www.youtube.com/@beatwmf2059
URL:https://wandern-mit-freunden.ch/event/samstag-montagnola-collina-doro-lugano-ti/
CATEGORIES:Geplante Wanderungen,Wanderung
END:VEVENT
END:VCALENDAR