BEGIN:VCALENDAR
VERSION:2.0
PRODID:-//Wandern mit Freunden - ECPv6.15.20//NONSGML v1.0//EN
CALSCALE:GREGORIAN
METHOD:PUBLISH
X-ORIGINAL-URL:https://wandern-mit-freunden.ch
X-WR-CALDESC:Veranstaltungen im Wandern mit Freunden
REFRESH-INTERVAL;VALUE=DURATION:PT1H
X-Robots-Tag:noindex
X-PUBLISHED-TTL:PT1H
BEGIN:VTIMEZONE
TZID:Europe/Zurich
BEGIN:DAYLIGHT
TZOFFSETFROM:+0100
TZOFFSETTO:+0200
TZNAME:CEST
DTSTART:20230326T010000
END:DAYLIGHT
BEGIN:STANDARD
TZOFFSETFROM:+0200
TZOFFSETTO:+0100
TZNAME:CET
DTSTART:20231029T010000
END:STANDARD
BEGIN:DAYLIGHT
TZOFFSETFROM:+0100
TZOFFSETTO:+0200
TZNAME:CEST
DTSTART:20240331T010000
END:DAYLIGHT
BEGIN:STANDARD
TZOFFSETFROM:+0200
TZOFFSETTO:+0100
TZNAME:CET
DTSTART:20241027T010000
END:STANDARD
BEGIN:DAYLIGHT
TZOFFSETFROM:+0100
TZOFFSETTO:+0200
TZNAME:CEST
DTSTART:20250330T010000
END:DAYLIGHT
BEGIN:STANDARD
TZOFFSETFROM:+0200
TZOFFSETTO:+0100
TZNAME:CET
DTSTART:20251026T010000
END:STANDARD
END:VTIMEZONE
BEGIN:VEVENT
DTSTART;TZID=Europe/Zurich:20241023T093000
DTEND;TZID=Europe/Zurich:20241023T150000
DTSTAMP:20260425T121224
CREATED:20211107T103414Z
LAST-MODIFIED:20241021T085655Z
UID:10000854-1729675800-1729695600@wandern-mit-freunden.ch
SUMMARY:MITTWOCH: Zu den Perückensträuchern ob Turtmann (VS)
DESCRIPTION:Max. Gruppengrösse: 10 Personen \nAm kommenden Mittwoch (23.10.24)\nunternehmen wir eine Rundwanderung am Sonnenhang ob Turtmann im Rhonetal. \nWir durchqueren die herbstlich leuchtenden Perückensträucher. \n \nGeplante Wanderroute:\nTurtmann / Bahnstation (623m)\nAufstieg durch den Hang mit den Perückensträuchern\nHohe Brücke (900m) – Oberrotafen (946m)\nWiler (1255m) – Feschel (1280m) – Erschmatt (1224m)\nTurtmann / Bahnstation (623m) \nStreckenlänge:\nca. 12 km\, 800 m auf- und abwärts\, 4.5 Std.\, T1-T2 \nWebcam:\nGuttet-Feschel / 1’258 Meter über Meer \nRoute auf SchweizMobil.ch:\nL I N K \n \nWanderung vor 3 Jahren:\n09.11.21 / Durch die Perückensträucher ob Getwing (Turtmann / VS) \nFahrplan ab Zürich HB:\nZürich HB ab 07:02\nVisp an 09:02 / ab 09:10\nTurtmann an 09:20 \nRückfahrt ab Turtmann:\n14:36 / 15:04 / 15:36 / (16:04) / 16:36 \nVerpflegung aus dem Rucksack \nAnmeldungen\nkönnen durch eingeloggte Benutzer unten im Kommentarfeld eingetragen werden. \nBeat\nhttps://wmf-pfanniblog-2.blogspot.com/\nhttps://www.youtube.com/@beatwmf2059
URL:https://wandern-mit-freunden.ch/event/geplant-zu-den-perueckenstraeuchern-ob-turtmann-vs/
CATEGORIES:Geplante Wanderungen,Wanderung
END:VEVENT
BEGIN:VEVENT
DTSTART;TZID=Europe/Zurich:20241026T090000
DTEND;TZID=Europe/Zurich:20241026T160000
DTSTAMP:20260425T121224
CREATED:20241024T200933Z
LAST-MODIFIED:20241105T193046Z
UID:10001202-1729933200-1729958400@wandern-mit-freunden.ch
SUMMARY:Tweralpspitz-Chrüzegg
DESCRIPTION:Am Samstag 26.10.24 wandern wir von Hintergoldingen\, Austrasse über Obere Atzmännig und Rotstein auf den Tweralpspitz. Via Chrüzegg gehen wir zum Zielort Atzmännig\, Schutt. \n  \nStreckenlänge: 11.02km                               787m ufä/ 772m abä                        ca 4h reine Wanderzeit \n  \n  \nAnfahrt ab Zürich HB: Zürich ab 08:09/ Rüti ZH an 08:38\, ab 08:45 (mit Bus 631)/ Eschenbach SG\, Post an 08:56\, Eschenbach\, Sternen ab 09:09 (mit Bus 630) / Hintergoldingen\, Austrasse an 09:22 \nRückfahrt ab Atzmännig alle 30min \n  \nEssen aus dem Rucksack \n  \nMindestens 3/ Maximal 10 Personen \nAnmeldungen können durch eingeloggte Benutzer unten im Kommentarfeld eingetragen werden. \n  \nBarbara 076 530 43 60 \n  \n  \n  \n  \n 
URL:https://wandern-mit-freunden.ch/event/tweralpspitz-chruezegg/
CATEGORIES:Geplante Wanderungen,Wanderung
END:VEVENT
END:VCALENDAR