BEGIN:VCALENDAR
VERSION:2.0
PRODID:-//Wandern mit Freunden - ECPv6.15.20//NONSGML v1.0//EN
CALSCALE:GREGORIAN
METHOD:PUBLISH
X-ORIGINAL-URL:https://wandern-mit-freunden.ch
X-WR-CALDESC:Veranstaltungen im Wandern mit Freunden
REFRESH-INTERVAL;VALUE=DURATION:PT1H
X-Robots-Tag:noindex
X-PUBLISHED-TTL:PT1H
BEGIN:VTIMEZONE
TZID:Europe/Zurich
BEGIN:DAYLIGHT
TZOFFSETFROM:+0100
TZOFFSETTO:+0200
TZNAME:CEST
DTSTART:20230326T010000
END:DAYLIGHT
BEGIN:STANDARD
TZOFFSETFROM:+0200
TZOFFSETTO:+0100
TZNAME:CET
DTSTART:20231029T010000
END:STANDARD
BEGIN:DAYLIGHT
TZOFFSETFROM:+0100
TZOFFSETTO:+0200
TZNAME:CEST
DTSTART:20240331T010000
END:DAYLIGHT
BEGIN:STANDARD
TZOFFSETFROM:+0200
TZOFFSETTO:+0100
TZNAME:CET
DTSTART:20241027T010000
END:STANDARD
BEGIN:DAYLIGHT
TZOFFSETFROM:+0100
TZOFFSETTO:+0200
TZNAME:CEST
DTSTART:20250330T010000
END:DAYLIGHT
BEGIN:STANDARD
TZOFFSETFROM:+0200
TZOFFSETTO:+0100
TZNAME:CET
DTSTART:20251026T010000
END:STANDARD
END:VTIMEZONE
BEGIN:VEVENT
DTSTART;TZID=Europe/Zurich:20241006T090000
DTEND;TZID=Europe/Zurich:20241006T150000
DTSTAMP:20260425T194748
CREATED:20241004T071144Z
LAST-MODIFIED:20241007T132521Z
UID:10001193-1728205200-1728226800@wandern-mit-freunden.ch
SUMMARY:SONNTAG: Bad Ragaz-Burgruine Wartenstein-Pfäfers-Taminaschlucht
DESCRIPTION:Leider haben sich die Prognosen für meine Ursprüngliche Idee beim Glaspass täglich verschlechtert. \nBei dieser Route brauchen wir kein Fernsichtwetter: \nAm Sonntag 6.10.24 wandern wir ab Bad Ragaz zuerst ein Stückli dem Rhein entlang. Nach dem Golfplatz gehts weiter Richtung Rosenbergli und zur Burgruine Wartenstein. Dann durch Pfäfers zur Naturbrücke und zum Alten Bad Pfäfers. (Unglaublich aber wahr: Ich war noch nie in der Schlucht und würde sie gerne besichtigen. Eintritt 5.- Wer keine Lust hat\, könnte in dieser Zeit im Restaurant etwas trinken). Weiter geht es dann durch den öffentlichen Teil der Schlucht bis Bad Ragaz zurück. \n  \nStreckenlänge: 14.72km                                     520m ufä und abä                            ca 4h 20min reine Wanderzeit \n  \n  \nAnfahrt ab Zürich HB: Zürich ab 08:12/ Bad Ragaz an 09:28 \nRückfahrt ab Bad Ragaz.  \n  \nEssen aus dem Rucksack \n  \nAnmeldungen können durch eingeloggte Benutzer unten im Kommentarfeld eingetragen werden. \n Maximal 10 Personen. \nNEUE ANMERKUNG: ICH HABE BIS MONTAG UNTERWEGS KEINEN MOBILE EMPFANG. TREFFPUNKT IST SPÄTESTENS IN BAD RAGAZ BAHNHOF KIOSK. FRÜHENER ISCHS AU OHNI GANGÄ 😜 \n  \nBarbara
URL:https://wandern-mit-freunden.ch/event/sonntag-bad-ragaz-burgruine-wartenstein-pfaefers-taminaschlucht/
CATEGORIES:Geplante Wanderungen,Wanderung
END:VEVENT
BEGIN:VEVENT
DTSTART;TZID=Europe/Zurich:20241006T100000
DTEND;TZID=Europe/Zurich:20241006T160000
DTSTAMP:20260425T194748
CREATED:20241001T123247Z
LAST-MODIFIED:20241003T120128Z
UID:10001187-1728208800-1728230400@wandern-mit-freunden.ch
SUMMARY:☃️  VERSCHOBEN: Glaser Grat - Tguma - Glaspass ❄️
DESCRIPTION:Leider sind die Prognosen täglich extrem schlechter geworden. Mehr Schnee\, mehr Kühl\, weniger Sonne und eventuell sogar Nebel. \nAm Sonntag 6.10.24  wandern wir von Tschappina\,Glaspass via Glaserpass und Bischolapass auf den Tguma. Danach gehen wir ein kleines Stück den gleichen Weg zurück. Via Pascuminersee\, Obergmeind und Bruchalp wandern wir dann zurück zum Glaspass. \n  \nStreckenlänge: 13.44km                                   731m ufä und abä                                 ca 4h 30min reine Wanderzeit \nRoute auf Schweizmobil \n  \nAnfahrt ab Zürich: Zürich ab 07:38/ Chur an 08:52\, ab 08:58/ Thusis an 09:27\, ab 09:34 ( Bus 531) / Tschappina\, Glaspass an 10:05 \nRückfahrt ab Tschappina Glaspass voraussichtlich 15:49 ( letzte Fahrt. Daher vielleicht keine Einkehr zum Schluss) \n  \nEssen aus dem Rucksack \n  \nMindestens 3 Personen/ Maximal 10 \nAnmeldungen können durch eingeloggte Benutzer unten im Kommentarfeld eingetragen werden. \n  \nBarbara 076 530 43 60 \n 
URL:https://wandern-mit-freunden.ch/event/voraussichtlich-sonntag-glaser-grat-tguma-glaspass/
CATEGORIES:Geplante Wanderungen,Wanderung
END:VEVENT
END:VCALENDAR