BEGIN:VCALENDAR
VERSION:2.0
PRODID:-//Wandern mit Freunden - ECPv6.15.20//NONSGML v1.0//EN
CALSCALE:GREGORIAN
METHOD:PUBLISH
X-ORIGINAL-URL:https://wandern-mit-freunden.ch
X-WR-CALDESC:Veranstaltungen im Wandern mit Freunden
REFRESH-INTERVAL;VALUE=DURATION:PT1H
X-Robots-Tag:noindex
X-PUBLISHED-TTL:PT1H
BEGIN:VTIMEZONE
TZID:Europe/Zurich
BEGIN:DAYLIGHT
TZOFFSETFROM:+0100
TZOFFSETTO:+0200
TZNAME:CEST
DTSTART:20230326T010000
END:DAYLIGHT
BEGIN:STANDARD
TZOFFSETFROM:+0200
TZOFFSETTO:+0100
TZNAME:CET
DTSTART:20231029T010000
END:STANDARD
BEGIN:DAYLIGHT
TZOFFSETFROM:+0100
TZOFFSETTO:+0200
TZNAME:CEST
DTSTART:20240331T010000
END:DAYLIGHT
BEGIN:STANDARD
TZOFFSETFROM:+0200
TZOFFSETTO:+0100
TZNAME:CET
DTSTART:20241027T010000
END:STANDARD
BEGIN:DAYLIGHT
TZOFFSETFROM:+0100
TZOFFSETTO:+0200
TZNAME:CEST
DTSTART:20250330T010000
END:DAYLIGHT
BEGIN:STANDARD
TZOFFSETFROM:+0200
TZOFFSETTO:+0100
TZNAME:CET
DTSTART:20251026T010000
END:STANDARD
END:VTIMEZONE
BEGIN:VEVENT
DTSTART;TZID=Europe/Zurich:20240806T093000
DTEND;TZID=Europe/Zurich:20240806T150000
DTSTAMP:20260422T203203
CREATED:20240804T170018Z
LAST-MODIFIED:20240804T170129Z
UID:10001173-1722936600-1722956400@wandern-mit-freunden.ch
SUMMARY:DIENSTAG: Tschiertschen - Joch - Parpan (GR)
DESCRIPTION:Max. Gruppengrösse: 10 Personen \nAm kommenden Dienstag (06.08.24)\nwandern wir ab Tschiertschen im Schanfigg über die Jochalp nach Parpan. \nGeplante Wanderroute:\nTschiertschen\, Dorf (1335m) / Bus-Haltestelle\nFurgglis (1659m) – Gruoba (1942m)\nJoch (2020m) / Aussichtspunkt P. 2034\nOberberg (1754m) – Kuonrigahus (1554m)\nParpan\, Post (1494m) / Bus-Haltestelle \nStreckenlänge:\nca. 11.5 km\, 690 m aufwärts\, 530 m abwärts\, 4 Std.\, T1 \nRoute auf SchweizMobil.ch:\nL I N K \n \nRouten-Infos auf chur.graubuenden.ch:\nTschiertschen – Joch – Parpan \nFahrplan ab Zürich HB:\nZürich HB ab 07:38\nChur an 08:52 / ab 09:04 (mit Bus B 42 Richtung Tschiertschen\, Dorf)\nTschiertschen\, Dorf an 09:30 \nRückfahrt ab Parpan\, Post:\nxx:02 / xx:32 \nVerpflegung aus dem Rucksack \nAnmeldungen\nkönnen durch eingeloggte Benutzer unten im Kommentarfeld eingetragen werden. \nBeat\nhttps://wmf-pfanniblog-2.blogspot.com/\nhttps://www.youtube.com/@beatwmf2059
URL:https://wandern-mit-freunden.ch/event/dienstag-tschiertschen-joch-parpan-gr/
CATEGORIES:Geplante Wanderungen,Wanderung
END:VEVENT
BEGIN:VEVENT
DTSTART;TZID=Europe/Zurich:20240809T103000
DTEND;TZID=Europe/Zurich:20240809T160000
DTSTAMP:20260422T203203
CREATED:20240807T081543Z
LAST-MODIFIED:20240807T081544Z
UID:10001174-1723199400-1723219200@wandern-mit-freunden.ch
SUMMARY:FREITAG: Flüelapass - Grialetschhütte SAC - Dürrboden (GR)
DESCRIPTION:Max. Gruppengrösse: 10 Personen \nAm kommenden Freitag (09.08.24)\nwandern wir vom Flüelapass über die Fuorcla Radönt zur Grialetschhütte SAC\nund hinunter nach Dürrboden im Dischmatal. \nGeplante Wanderroute:\nFlüela\, Ospiz (2383m) / Bus-Endstation\nFuorcla Radönt (2786m) – Grialetschfurgga (2537m)\nGrialetsch-Hütte SAC / Chamanna da Grialetsch (2542m)\nFurggasee (2509m) – Gletschboda (2125m)\nDavos Dischma\, Dürrboden (2004m) / Bus-Haltestelle \nStreckenlänge:\nca. 11 km\, 610 m aufwärts\, 990 m abwärts\, 4-5 Std.\, T2-T3 \nRoute auf SchweizMobil.ch:\nL I N K \n \nFahrplan ab Zürich HB:\nZürich HB ab 07:38\nLandquart an 08:41 / ab 08:47\nDavos Dorf an 09:52 / ab 10:00 (mit Bus B 331 Richtung Flüela\, Ospiz)\nFlüela\, Ospiz an 10:23 \nRückfahrt ab Davos Dischma\, Dürrboden:\n15:35 / 17:00 \nVerpflegung aus dem Rucksack \nAnmeldungen\nkönnen durch eingeloggte Benutzer unten im Kommentarfeld eingetragen werden. \nBeat\nhttps://wmf-pfanniblog-2.blogspot.com/\nhttps://www.youtube.com/@beatwmf2059
URL:https://wandern-mit-freunden.ch/event/freitag-flueelapass-grialetschhuette-sac-duerrboden-gr/
CATEGORIES:Geplante Wanderungen,Wanderung
END:VEVENT
END:VCALENDAR