BEGIN:VCALENDAR
VERSION:2.0
PRODID:-//Wandern mit Freunden - ECPv6.15.20//NONSGML v1.0//EN
CALSCALE:GREGORIAN
METHOD:PUBLISH
X-WR-CALNAME:Wandern mit Freunden
X-ORIGINAL-URL:https://wandern-mit-freunden.ch
X-WR-CALDESC:Veranstaltungen im Wandern mit Freunden
REFRESH-INTERVAL;VALUE=DURATION:PT1H
X-Robots-Tag:noindex
X-PUBLISHED-TTL:PT1H
BEGIN:VTIMEZONE
TZID:Europe/Zurich
BEGIN:DAYLIGHT
TZOFFSETFROM:+0100
TZOFFSETTO:+0200
TZNAME:CEST
DTSTART:20230326T010000
END:DAYLIGHT
BEGIN:STANDARD
TZOFFSETFROM:+0200
TZOFFSETTO:+0100
TZNAME:CET
DTSTART:20231029T010000
END:STANDARD
BEGIN:DAYLIGHT
TZOFFSETFROM:+0100
TZOFFSETTO:+0200
TZNAME:CEST
DTSTART:20240331T010000
END:DAYLIGHT
BEGIN:STANDARD
TZOFFSETFROM:+0200
TZOFFSETTO:+0100
TZNAME:CET
DTSTART:20241027T010000
END:STANDARD
BEGIN:DAYLIGHT
TZOFFSETFROM:+0100
TZOFFSETTO:+0200
TZNAME:CEST
DTSTART:20250330T010000
END:DAYLIGHT
BEGIN:STANDARD
TZOFFSETFROM:+0200
TZOFFSETTO:+0100
TZNAME:CET
DTSTART:20251026T010000
END:STANDARD
END:VTIMEZONE
BEGIN:VEVENT
DTSTART;TZID=Europe/Zurich:20240729T093000
DTEND;TZID=Europe/Zurich:20240729T150000
DTSTAMP:20260422T214522
CREATED:20240727T093403Z
LAST-MODIFIED:20240730T060920Z
UID:10001170-1722245400-1722265200@wandern-mit-freunden.ch
SUMMARY:MONTAG: Bergli - Berglistüber Wasserfall - Braunwald (GL)
DESCRIPTION:Max. Gruppengrösse: 10 Personen \nAm kommenden Montag (29.07.24)\nwandern wir zum Berglistüber Wasserfall oberhalb von Linthal\,\nweiter Richtung Urner Boden bis zur Kantonsgrenze GL-UR\nund anschliessend hinüber nach Braunwald. \nGeplante Wanderroute:\nKlausenpassstrasse / Linthal\, Bergli (914m) / Bus-Haltestelle\nAbstecher zum Berglistüber Wasserfall\nKantonsgrenze GL/UR (1300m)\nVorder Stafel (1398m) – Unter Stafel (1441m)\nNussbüel / Bergrestaurant (1270m)\nBraunwald / Braunwaldbahn (1256m) \nStreckenlänge:\nca. 12.5 km\, 790 m aufwärts\, 450 m abwärts\, 4.5 Std.\, T2 \nRoute auf SchweizMobil.ch:\nL I N K \n \nWanderung vor 8 Jahren:\n03.07.16 / Zum Berglistüber-Wasserfall \nFahrplan ab Zürich HB:\nZürich HB ab 07:43\nLinthal an 09:16 / ab 09:25 (mit Bus B 408)\nLinthal\, Bergli an 09:33 \nRückfahrt ab Braunwald:\nxx:25 \nVerpflegung aus dem Rucksack \nEinkehrmöglichkeit:\nBergrestaurant Nussbüel \nAnmeldungen\nkönnen durch eingeloggte Benutzer unten im Kommentarfeld eingetragen werden. \nBeat\nhttps://wmf-pfanniblog-2.blogspot.com/\nhttps://www.youtube.com/@beatwmf2059
URL:https://wandern-mit-freunden.ch/event/montag-bergli-berglistueber-wasserfall-braunwald-gl/
CATEGORIES:Geplante Wanderungen,Wanderung
END:VEVENT
BEGIN:VEVENT
DTSTART;TZID=Europe/Zurich:20240803T094500
DTEND;TZID=Europe/Zurich:20240803T150000
DTSTAMP:20260422T214522
CREATED:20240731T121817Z
LAST-MODIFIED:20240804T165227Z
UID:10001172-1722678300-1722697200@wandern-mit-freunden.ch
SUMMARY:SAMSTAG: Churwalden - Passugg - Rabiosaschlucht - Chur (GR)
DESCRIPTION:Max. Gruppengrösse: 10 Personen \nAm kommenden Samstag (03.08.24)\nwandern wir von Churwalden-Egga hinunter nach Passugg\,\ndort ein Stück weit in die Rabiosaschlucht (-> Rabiosa) hinein bis zur Trinkhalle Passugg\,\netwas weiter oben zurück nach Passugg und entlang der Plessur nach Chur. \nGeplante Wanderroute:\nChurwalden\, Egga (1147m) / Bus-Haltestelle\nBurgruine Strassberg (1112m) – Palfrei (1010m)\nPassugg / Riedwiesli (800m)\nRabiosaschlucht / Quellenweg / Trinkhalle Passugg (820m)\nPassüggli (905m) – Passugg (770m)\nChur Altstadt – Chur Bahnhof (585m) \nStreckenlänge:\nca. 11 km\, 340 m aufwärts\, 910 m abwärts\, 3.5 Std.\, T2 \nRoute auf SchweizMobil.ch:\nL I N K \n \nInfos\nzum Wegabschnitt in die Rabiosaschlucht bis zur Trinkhalle:\nRabiosa\, „die Tobende“ oder wo das Passugger herkommt \nNachträglicher Hinweis / 03.08.24:\nDer Quellenweg ab Passugg zur Trinkhalle in der Rabiosaschlucht\nist wegen Steinschlaggefahr gesperrt (dies vermutlich dauerhaft)! \n \n \nFahrplan ab Zürich HB:\nZürich HB ab 08:07\nChur an 09:22 / ab 09:30 (mit Bus B 182 Richtung Lenzerheide)\nChurwalden\, Egga an 09:45 \nRückfahrt ab Chur:\nxx:07 / xx:38 \nVerpflegung aus dem Rucksack \nAnmeldungen\nkönnen durch eingeloggte Benutzer unten im Kommentarfeld eingetragen werden. \nBeat\nhttps://wmf-pfanniblog-2.blogspot.com/\nhttps://www.youtube.com/@beatwmf2059 \n \n\nQuelle:\nhttps://pro-tschiertschen-praden.ch/spaziergang-zum-passugger-sauerwasser/\n(Bündner Tagblatt / 16.10.17)
URL:https://wandern-mit-freunden.ch/event/geplant-churwalden-passugg-rabiusaschlucht-chur-gr/
CATEGORIES:Geplante Wanderungen,Wanderung
END:VEVENT
END:VCALENDAR