BEGIN:VCALENDAR
VERSION:2.0
PRODID:-//Wandern mit Freunden - ECPv6.15.20//NONSGML v1.0//EN
CALSCALE:GREGORIAN
METHOD:PUBLISH
X-ORIGINAL-URL:https://wandern-mit-freunden.ch
X-WR-CALDESC:Veranstaltungen im Wandern mit Freunden
REFRESH-INTERVAL;VALUE=DURATION:PT1H
X-Robots-Tag:noindex
X-PUBLISHED-TTL:PT1H
BEGIN:VTIMEZONE
TZID:Europe/Zurich
BEGIN:DAYLIGHT
TZOFFSETFROM:+0100
TZOFFSETTO:+0200
TZNAME:CEST
DTSTART:20190331T010000
END:DAYLIGHT
BEGIN:STANDARD
TZOFFSETFROM:+0200
TZOFFSETTO:+0100
TZNAME:CET
DTSTART:20191027T010000
END:STANDARD
BEGIN:DAYLIGHT
TZOFFSETFROM:+0100
TZOFFSETTO:+0200
TZNAME:CEST
DTSTART:20200329T010000
END:DAYLIGHT
BEGIN:STANDARD
TZOFFSETFROM:+0200
TZOFFSETTO:+0100
TZNAME:CET
DTSTART:20201025T010000
END:STANDARD
BEGIN:DAYLIGHT
TZOFFSETFROM:+0100
TZOFFSETTO:+0200
TZNAME:CEST
DTSTART:20210328T010000
END:DAYLIGHT
BEGIN:STANDARD
TZOFFSETFROM:+0200
TZOFFSETTO:+0100
TZNAME:CET
DTSTART:20211031T010000
END:STANDARD
END:VTIMEZONE
BEGIN:VEVENT
DTSTART;VALUE=DATE:20200620
DTEND;VALUE=DATE:20200621
DTSTAMP:20260425T182829
CREATED:20200602T083844Z
LAST-MODIFIED:20200621T024808Z
UID:10000705-1592611200-1592697599@wandern-mit-freunden.ch
SUMMARY:Von Visp nach Brig\, entlang der Visperi-Suone (VS)
DESCRIPTION:Am Samstag (20.06.20)\nunternehmen wir eine Wanderung\nentlang der Visperi-Suone zwischen Visp und Brig. \nGeplante Wanderroute:\nVisp Bahnhof (650m) –\nHinter dem Spital erfolgt Zustieg zur Visperi Suone (727m)\nGamsen / P. 723 / P. 687 – Waldmatte (759m)\nHolzji (842m) – Wickert (891m)\nAbstieg in die Saltina-Schlucht (ca. 800m)\nder Saltina entlang nach Brig\nBahnhof Brig (672m) \nStreckenlänge:\nca. 16 km\, 560 m aufwärts\, 530 m abwärts\, 4.5 Std.\, T2-T3 \nRoute auf SchweizMobil: \n \nWanderung vor 6 Jahren:\n29.05.14 / Entlang der Visperi: Suonenwanderung zwischen Visp und Brig \nFahrplan ab Zürich HB:\nZürich HB ab 08:02 / Visp an 10:02 \nRückfahrt ab Brig \nVerpflegung aus dem Rucksack \nAnmeldungen\nkönnen durch eingeloggte Teilnehmer unten im Kommentarfeld erfolgen\noder mir per WhatsApp oder SMS mitgeteilt werden. \nBeat / http://pfanniblog.blogspot.ch/
URL:https://wandern-mit-freunden.ch/event/von-visp-nach-brig-entlang-der-visperi-suone-vs/
CATEGORIES:Geplante Wanderungen,Wanderung
END:VEVENT
END:VCALENDAR