BEGIN:VCALENDAR
VERSION:2.0
PRODID:-//Wandern mit Freunden - ECPv6.15.20//NONSGML v1.0//EN
CALSCALE:GREGORIAN
METHOD:PUBLISH
X-ORIGINAL-URL:https://wandern-mit-freunden.ch
X-WR-CALDESC:Veranstaltungen im Wandern mit Freunden
REFRESH-INTERVAL;VALUE=DURATION:PT1H
X-Robots-Tag:noindex
X-PUBLISHED-TTL:PT1H
BEGIN:VTIMEZONE
TZID:Europe/Zurich
BEGIN:DAYLIGHT
TZOFFSETFROM:+0100
TZOFFSETTO:+0200
TZNAME:CEST
DTSTART:20220327T010000
END:DAYLIGHT
BEGIN:STANDARD
TZOFFSETFROM:+0200
TZOFFSETTO:+0100
TZNAME:CET
DTSTART:20221030T010000
END:STANDARD
BEGIN:DAYLIGHT
TZOFFSETFROM:+0100
TZOFFSETTO:+0200
TZNAME:CEST
DTSTART:20230326T010000
END:DAYLIGHT
BEGIN:STANDARD
TZOFFSETFROM:+0200
TZOFFSETTO:+0100
TZNAME:CET
DTSTART:20231029T010000
END:STANDARD
BEGIN:DAYLIGHT
TZOFFSETFROM:+0100
TZOFFSETTO:+0200
TZNAME:CEST
DTSTART:20240331T010000
END:DAYLIGHT
BEGIN:STANDARD
TZOFFSETFROM:+0200
TZOFFSETTO:+0100
TZNAME:CET
DTSTART:20241027T010000
END:STANDARD
END:VTIMEZONE
BEGIN:VEVENT
DTSTART;TZID=Europe/Zurich:20230723T110000
DTEND;TZID=Europe/Zurich:20230723T180000
DTSTAMP:20260423T143911
CREATED:20230518T160137Z
LAST-MODIFIED:20240225T201247Z
UID:10001010-1690110000-1690135200@wandern-mit-freunden.ch
SUMMARY:Sonntag/ Saxeten-Rengglipass-Aeschiried
DESCRIPTION:Am Sonntag 23.7.23 wandern wir von Saxeten\, Schulhaus über den Rengglipass nach Aeschiried\, Suld Pochtenfall \n  \nStreckenlänge 9.39km                      804m ufä/ 834m abä                         ca. 4h Wanderzeit \n  \n  \nAnfahrt ab Zürich: Zürich ab 07:44/ Interlaken Ost an 09:58\, ab 10:05/ Wilderswil an 10:09\, ab 10:42/ Saxeten\, Schulhaus an 11:03 \nRückfahrt ab Aeschiried\, Suld Pochtfall voraussichtlich um 16:35 ansonsten 17:35 über Spiez \n  \nEssen aus dem Rucksack \nMeine Mobilenummer: 076 530 43 60 \nBarbara \nMind. 3Personen/ maximal 10 Personen
URL:https://wandern-mit-freunden.ch/event/voraussichtlich-saxeten-rengglipass-aeschiried/
CATEGORIES:Geplante Wanderungen,Wanderung
END:VEVENT
END:VCALENDAR