BEGIN:VCALENDAR
VERSION:2.0
PRODID:-//Wandern mit Freunden - ECPv6.15.20//NONSGML v1.0//EN
CALSCALE:GREGORIAN
METHOD:PUBLISH
X-WR-CALNAME:Wandern mit Freunden
X-ORIGINAL-URL:https://wandern-mit-freunden.ch
X-WR-CALDESC:Veranstaltungen im Wandern mit Freunden
REFRESH-INTERVAL;VALUE=DURATION:PT1H
X-Robots-Tag:noindex
X-PUBLISHED-TTL:PT1H
BEGIN:VTIMEZONE
TZID:Europe/Zurich
BEGIN:DAYLIGHT
TZOFFSETFROM:+0100
TZOFFSETTO:+0200
TZNAME:CEST
DTSTART:20210328T010000
END:DAYLIGHT
BEGIN:STANDARD
TZOFFSETFROM:+0200
TZOFFSETTO:+0100
TZNAME:CET
DTSTART:20211031T010000
END:STANDARD
BEGIN:DAYLIGHT
TZOFFSETFROM:+0100
TZOFFSETTO:+0200
TZNAME:CEST
DTSTART:20220327T010000
END:DAYLIGHT
BEGIN:STANDARD
TZOFFSETFROM:+0200
TZOFFSETTO:+0100
TZNAME:CET
DTSTART:20221030T010000
END:STANDARD
BEGIN:DAYLIGHT
TZOFFSETFROM:+0100
TZOFFSETTO:+0200
TZNAME:CEST
DTSTART:20230326T010000
END:DAYLIGHT
BEGIN:STANDARD
TZOFFSETFROM:+0200
TZOFFSETTO:+0100
TZNAME:CET
DTSTART:20231029T010000
END:STANDARD
END:VTIMEZONE
BEGIN:VEVENT
DTSTART;VALUE=DATE:20220928
DTEND;VALUE=DATE:20220929
DTSTAMP:20260421T220633
CREATED:20220925T204535Z
LAST-MODIFIED:20220926T044859Z
UID:10000930-1664323200-1664409599@wandern-mit-freunden.ch
SUMMARY:Papiermühle Basel
DESCRIPTION:Am Mittwoch 28.9.22 besuchen wir die Papiermühle Basel. \nLink: Papiermühle Basel \nEintrittspreis:   15.-/ AHV 13.- \nWenn es danach nicht grad in Chüble schiffed könnten wir noch etwas dem Rhein entlang laufen. \nFahrplan ab Zürich: Zürich ab 09:34/ Basel an 10:28\, ab 10:35 Tram/ Basel\, Bankverein an 10:38 \nMeine Mobile Nummer: 076 530 43 60 \nBarbara \nMind. 4 Personen\, Max. 10 Personen
URL:https://wandern-mit-freunden.ch/event/papiermuehle-basel/
CATEGORIES:Sonstige Ausflüge
END:VEVENT
END:VCALENDAR