BEGIN:VCALENDAR
VERSION:2.0
PRODID:-//Wandern mit Freunden - ECPv6.15.20//NONSGML v1.0//EN
CALSCALE:GREGORIAN
METHOD:PUBLISH
X-WR-CALNAME:Wandern mit Freunden
X-ORIGINAL-URL:https://wandern-mit-freunden.ch
X-WR-CALDESC:Veranstaltungen im Wandern mit Freunden
REFRESH-INTERVAL;VALUE=DURATION:PT1H
X-Robots-Tag:noindex
X-PUBLISHED-TTL:PT1H
BEGIN:VTIMEZONE
TZID:Europe/Zurich
BEGIN:DAYLIGHT
TZOFFSETFROM:+0100
TZOFFSETTO:+0200
TZNAME:CEST
DTSTART:20230326T010000
END:DAYLIGHT
BEGIN:STANDARD
TZOFFSETFROM:+0200
TZOFFSETTO:+0100
TZNAME:CET
DTSTART:20231029T010000
END:STANDARD
BEGIN:DAYLIGHT
TZOFFSETFROM:+0100
TZOFFSETTO:+0200
TZNAME:CEST
DTSTART:20240331T010000
END:DAYLIGHT
BEGIN:STANDARD
TZOFFSETFROM:+0200
TZOFFSETTO:+0100
TZNAME:CET
DTSTART:20241027T010000
END:STANDARD
BEGIN:DAYLIGHT
TZOFFSETFROM:+0100
TZOFFSETTO:+0200
TZNAME:CEST
DTSTART:20250330T010000
END:DAYLIGHT
BEGIN:STANDARD
TZOFFSETFROM:+0200
TZOFFSETTO:+0100
TZNAME:CET
DTSTART:20251026T010000
END:STANDARD
BEGIN:DAYLIGHT
TZOFFSETFROM:+0100
TZOFFSETTO:+0200
TZNAME:CEST
DTSTART:20260329T010000
END:DAYLIGHT
BEGIN:STANDARD
TZOFFSETFROM:+0200
TZOFFSETTO:+0100
TZNAME:CET
DTSTART:20261025T010000
END:STANDARD
BEGIN:DAYLIGHT
TZOFFSETFROM:+0100
TZOFFSETTO:+0200
TZNAME:CEST
DTSTART:20270328T010000
END:DAYLIGHT
BEGIN:STANDARD
TZOFFSETFROM:+0200
TZOFFSETTO:+0100
TZNAME:CET
DTSTART:20271031T010000
END:STANDARD
END:VTIMEZONE
BEGIN:VEVENT
DTSTART;TZID=Europe/Zurich:20260328T090000
DTEND;TZID=Europe/Zurich:20260328T150000
DTSTAMP:20260424T022530
CREATED:20260309T142721Z
LAST-MODIFIED:20260331T070805Z
UID:10001358-1774688400-1774710000@wandern-mit-freunden.ch
SUMMARY:SAMSTAG: Uferwanderung Romanshorn - Münsterlingen (TG)
DESCRIPTION:Am kommenden Samstag (28.03.26)\nwandern wir dem BodenseeUfer entlang\, von Romanshorn bis Münsterlingen. \nGeplante Wanderroute:\nRomanshorn (398m) / Bahnhof\nUttwil (398m) – Kesswil / Seedorf (398m)\nGüttingen / Zollerhus (399m) – Altnau (398m)\nMünsterlingen-Scherzingen (405m) / Bahnstation \nStreckenlänge:\nca. 17 km\, flach\, 4Std.\, T1 \nInfos auf SchweizMobil:\nRoute 919 / Bodensee-Uferweg\n(in Gegenrichtung: Kreuzlingen – Romanshorn) \nRoute auf SchweizMobil.ch:\nL I N K \n \nWanderung vor 2 Jahren:\n10.02.24 / Uferwanderung von Romanshorn bis Münsterlingen (TG) \nFahrplan ab Zürich HB:\nZürich HB ab 08:04 / Romanshorn an 09:12 \nRückfahrt ab Münsterlingen-Scherzingen:\nxx:04 / xx:23 / xx:34 \nVerpflegung aus dem Rucksack \nEinkehrmöglichkeit:\nBodensee Café Scherzingen \nAnmeldungen\nkönnen durch eingeloggte Benutzer unten im Kommentarfeld eingetragen werden. \nBeat\nhttps://wmf-pfanniblog-2.blogspot.com/\nhttps://www.youtube.com/@beatwmf2059
URL:https://wandern-mit-freunden.ch/event/mittwoch-uferwanderung-romanshorn-muensterlingen-tg/
CATEGORIES:Geplante Wanderungen,Wanderung
END:VEVENT
BEGIN:VEVENT
DTSTART;TZID=Europe/Zurich:20240210T100000
DTEND;TZID=Europe/Zurich:20240210T150000
DTSTAMP:20260424T022530
CREATED:20240207T172441Z
LAST-MODIFIED:20240209T053148Z
UID:10001109-1707559200-1707577200@wandern-mit-freunden.ch
SUMMARY:SAMSTAG: Uferwanderung von Romanshorn bis Münsterlingen (TG)
DESCRIPTION:Max. Gruppengrösse: 10 Personen \nStart um eine Stunde vorverschoben. / Abfahrt in Zürich um 09:05 Uhr. \nAm kommenden Samstag (10.02.24)\nwandern wir dem BodenseeUfer entlang von Romanshorn bis Münsterlingen. \nGeplante Wanderroute:\nRomanshorn (398m) / Bahnhof\nUttwil (398m) – Kesswil / Seedorf (398m)\nGüttingen / Zollerhus (399m) – Altnau (398m)\nMünsterlingen-Scherzingen (405m) / Bahnstation \nStreckenlänge:\nca. 17 km\, flach\, 4Std.\, T1 \nInfos auf SchweizMobil:\nRoute 919 / Bodensee-Uferweg\n(in Gegenrichtung: Kreuzlingen – Romanshorn) \nRoute auf SchweizMobil.ch:\nL I N K \n \nWanderung vor 9 Jahren:\n25.03.15 / Konstanz / Kreuzlingen – Kesswil (Thurgauer Bodensee-Uferweg) \nFahrplan ab Zürich HB:\nZürich HB ab 09:05 / Romanshorn an 10:12 \nRückfahrt ab Münsterlingen-Scherzingen:\nxx:04 / xx:23 \nVerpflegung aus dem Rucksack \nEinkehrmöglichkeit:\nBodensee Café Scherzingen \nAnmeldungen\nkönnen durch eingeloggte Benutzer unten im Kommentarfeld eingetragen werden. \nBeat\nhttps://wmf-pfanniblog-2.blogspot.com/
URL:https://wandern-mit-freunden.ch/event/geplant-uferwanderung-von-romanshorn-bis-muensterlingen-tg/
CATEGORIES:Geplante Wanderungen,Wanderung
END:VEVENT
END:VCALENDAR