BEGIN:VCALENDAR
VERSION:2.0
PRODID:-//Wandern mit Freunden - ECPv6.15.20//NONSGML v1.0//EN
CALSCALE:GREGORIAN
METHOD:PUBLISH
X-ORIGINAL-URL:https://wandern-mit-freunden.ch
X-WR-CALDESC:Veranstaltungen im Wandern mit Freunden
REFRESH-INTERVAL;VALUE=DURATION:PT1H
X-Robots-Tag:noindex
X-PUBLISHED-TTL:PT1H
BEGIN:VTIMEZONE
TZID:Europe/Zurich
BEGIN:DAYLIGHT
TZOFFSETFROM:+0100
TZOFFSETTO:+0200
TZNAME:CEST
DTSTART:20220327T010000
END:DAYLIGHT
BEGIN:STANDARD
TZOFFSETFROM:+0200
TZOFFSETTO:+0100
TZNAME:CET
DTSTART:20221030T010000
END:STANDARD
BEGIN:DAYLIGHT
TZOFFSETFROM:+0100
TZOFFSETTO:+0200
TZNAME:CEST
DTSTART:20230326T010000
END:DAYLIGHT
BEGIN:STANDARD
TZOFFSETFROM:+0200
TZOFFSETTO:+0100
TZNAME:CET
DTSTART:20231029T010000
END:STANDARD
BEGIN:DAYLIGHT
TZOFFSETFROM:+0100
TZOFFSETTO:+0200
TZNAME:CEST
DTSTART:20240331T010000
END:DAYLIGHT
BEGIN:STANDARD
TZOFFSETFROM:+0200
TZOFFSETTO:+0100
TZNAME:CET
DTSTART:20241027T010000
END:STANDARD
END:VTIMEZONE
BEGIN:VEVENT
DTSTART;VALUE=DATE:20230329
DTEND;VALUE=DATE:20230330
DTSTAMP:20260420T014259
CREATED:20230325T124805Z
LAST-MODIFIED:20230327T152559Z
UID:10000997-1680048000-1680134399@wandern-mit-freunden.ch
SUMMARY:MITTWOCH: Bruzella - Monte Bisbino - Morbio Superiore (TI/IT)
DESCRIPTION:Max. Gruppengrösse: 10 Personen\nID und Euro mitnehmen! \nAm kommenden Mittwoch (29.03.23)\nwandern wir zum Monte Bisbino\,\nein italienischer Grenzberg zwischen Mendrisio und Comersee. \nGeplante Wanderroute:\nBruzella\, Paese / Postauto-Haltestelle (594m)\nMonte Bisbino (1325m)\nSagno (690m) – San Martino (740m)\nMorbio Superiore (450m) \nStreckenlänge:\nca. 13 km\, 830 m aufwärts\, 970 m abwärts\, 4.5 Std.\, T2 \nRoute auf SchweizMobil.ch:\nL I N K \n \nWanderung vor 10 Jahren:\n16.07.13 / Sagno (TI) <-> Monte Bisbino (IT) \nFahrplan ab Zürich HB:\nZürich HB ab 07:33\nLugano an 09:30 / ab 09:36\nMendrisio an 09:57 / ab 10:02 (mit Bus B 513 Richtung Chiasso)\nMorbio Superiore\, Posta an 10:13 / ab 10:16 (mit Bus B 515 Richtung Muggio)\nBruzella\, Paese an 10:25 \nRückfahrt ab Morbio Superiore\, Posta:\n15:44 / 16:44 / 17:14 \nVerpflegung aus dem Rucksack \nEinkehrmöglichkeit auf dem Monte Bisbino:\nRistoro Alpino Vetta Bisbino \nAnmeldungen\nkönnen durch eingeloggte Benutzer unten im Kommentarfeld eingetragen werden. \nBeat\nhttps://wmf-pfanniblog-2.blogspot.com/
URL:https://wandern-mit-freunden.ch/event/geplant-bruzella-monte-bisbino-morbio-superiore-ti-it/
CATEGORIES:Geplante Wanderungen,Wanderung
END:VEVENT
END:VCALENDAR