BEGIN:VCALENDAR
VERSION:2.0
PRODID:-//Wandern mit Freunden - ECPv6.15.20//NONSGML v1.0//EN
CALSCALE:GREGORIAN
METHOD:PUBLISH
X-WR-CALNAME:Wandern mit Freunden
X-ORIGINAL-URL:https://wandern-mit-freunden.ch
X-WR-CALDESC:Veranstaltungen im Wandern mit Freunden
REFRESH-INTERVAL;VALUE=DURATION:PT1H
X-Robots-Tag:noindex
X-PUBLISHED-TTL:PT1H
BEGIN:VTIMEZONE
TZID:Europe/Zurich
BEGIN:DAYLIGHT
TZOFFSETFROM:+0100
TZOFFSETTO:+0200
TZNAME:CEST
DTSTART:20190331T010000
END:DAYLIGHT
BEGIN:STANDARD
TZOFFSETFROM:+0200
TZOFFSETTO:+0100
TZNAME:CET
DTSTART:20191027T010000
END:STANDARD
BEGIN:DAYLIGHT
TZOFFSETFROM:+0100
TZOFFSETTO:+0200
TZNAME:CEST
DTSTART:20200329T010000
END:DAYLIGHT
BEGIN:STANDARD
TZOFFSETFROM:+0200
TZOFFSETTO:+0100
TZNAME:CET
DTSTART:20201025T010000
END:STANDARD
BEGIN:DAYLIGHT
TZOFFSETFROM:+0100
TZOFFSETTO:+0200
TZNAME:CEST
DTSTART:20210328T010000
END:DAYLIGHT
BEGIN:STANDARD
TZOFFSETFROM:+0200
TZOFFSETTO:+0100
TZNAME:CET
DTSTART:20211031T010000
END:STANDARD
END:VTIMEZONE
BEGIN:VEVENT
DTSTART;VALUE=DATE:20200118
DTEND;VALUE=DATE:20200119
DTSTAMP:20260426T055438
CREATED:20200117T045729Z
LAST-MODIFIED:20200119T061408Z
UID:10000677-1579305600-1579391999@wandern-mit-freunden.ch
SUMMARY:SAMSTAG: Meyrin - La Plaine (Genf)
DESCRIPTION:Hinweis am Samstagmorgen:\nStart um 1.5 Stunden vorverlegt! \nMorgen Samstag (18.01.20)\nunternehmen wir eine Wanderung durch das westliche Hinterland von Genf. \nGeplante Wanderroute:\nMeyrin-CERN (431 m)\nBourdigny-Dessous (449 m) – Choully (502 m) – Le Moulin Fabry (421 m)\nLes Granges (404 m) – Essertines (454 m) – Dardagny (416 m)\nLa Plaine (355 m) \nStreckenlänge:\nca. 18 km\, 400 m aufwärts\, 480m abwärts\, 4.5 Std.\, T1 \nRoute auf SchweizMobil: \n \nFahrplan ab Zürich HB:\nZürich HB ab 06:03\nGenève an 08:47 / Genève-Cornavin ab 08:57 (Tram 18)\nMeyrin-CERN an 09:18 \nRückfahrt\nvoraussichtlich ab La Plaine:\nxx:23 / xx:53 \nVerpflegung aus dem Rucksack \nAnmeldungen\nkönnen durch eingeloggte Teilnehmer unten im Kommentarfeld erfolgen\noder mir per WhatsApp oder SMS mitgeteilt werden. \nBeat / http://pfanniblog.blogspot.ch/
URL:https://wandern-mit-freunden.ch/event/meyrin-la-plaine-genf/
CATEGORIES:Geplante Wanderungen,Wanderung
END:VEVENT
END:VCALENDAR