BEGIN:VCALENDAR
VERSION:2.0
PRODID:-//Wandern mit Freunden - ECPv6.15.20//NONSGML v1.0//EN
CALSCALE:GREGORIAN
METHOD:PUBLISH
X-ORIGINAL-URL:https://wandern-mit-freunden.ch
X-WR-CALDESC:Veranstaltungen im Wandern mit Freunden
REFRESH-INTERVAL;VALUE=DURATION:PT1H
X-Robots-Tag:noindex
X-PUBLISHED-TTL:PT1H
BEGIN:VTIMEZONE
TZID:Europe/Zurich
BEGIN:DAYLIGHT
TZOFFSETFROM:+0100
TZOFFSETTO:+0200
TZNAME:CEST
DTSTART:20200329T010000
END:DAYLIGHT
BEGIN:STANDARD
TZOFFSETFROM:+0200
TZOFFSETTO:+0100
TZNAME:CET
DTSTART:20201025T010000
END:STANDARD
BEGIN:DAYLIGHT
TZOFFSETFROM:+0100
TZOFFSETTO:+0200
TZNAME:CEST
DTSTART:20210328T010000
END:DAYLIGHT
BEGIN:STANDARD
TZOFFSETFROM:+0200
TZOFFSETTO:+0100
TZNAME:CET
DTSTART:20211031T010000
END:STANDARD
BEGIN:DAYLIGHT
TZOFFSETFROM:+0100
TZOFFSETTO:+0200
TZNAME:CEST
DTSTART:20220327T010000
END:DAYLIGHT
BEGIN:STANDARD
TZOFFSETFROM:+0200
TZOFFSETTO:+0100
TZNAME:CET
DTSTART:20221030T010000
END:STANDARD
BEGIN:DAYLIGHT
TZOFFSETFROM:+0100
TZOFFSETTO:+0200
TZNAME:CEST
DTSTART:20230326T010000
END:DAYLIGHT
BEGIN:STANDARD
TZOFFSETFROM:+0200
TZOFFSETTO:+0100
TZNAME:CET
DTSTART:20231029T010000
END:STANDARD
BEGIN:DAYLIGHT
TZOFFSETFROM:+0100
TZOFFSETTO:+0200
TZNAME:CEST
DTSTART:20240331T010000
END:DAYLIGHT
BEGIN:STANDARD
TZOFFSETFROM:+0200
TZOFFSETTO:+0100
TZNAME:CET
DTSTART:20241027T010000
END:STANDARD
BEGIN:DAYLIGHT
TZOFFSETFROM:+0100
TZOFFSETTO:+0200
TZNAME:CEST
DTSTART:20250330T010000
END:DAYLIGHT
BEGIN:STANDARD
TZOFFSETFROM:+0200
TZOFFSETTO:+0100
TZNAME:CET
DTSTART:20251026T010000
END:STANDARD
END:VTIMEZONE
BEGIN:VEVENT
DTSTART;VALUE=DATE:20210103
DTEND;VALUE=DATE:20210104
DTSTAMP:20260421T184552
CREATED:20210102T103440Z
LAST-MODIFIED:20210104T061628Z
UID:10000759-1609632000-1609718399@wandern-mit-freunden.ch
SUMMARY:SONNTAG: Ab Luzern über die Horwer Halbinsel (LU)
DESCRIPTION:Max. Gruppengrösse: 5 Personen. \nMorgen Sonntag (03.01.21)\nwandern wir ab Luzern über die Horwer Halbinsel bis Ennethorw. \nGeplante Wanderroute:\nBahnhof Luzern (435m)\nSeepromenade – Tribschen (435m) – Stutz\nSeeblick (ca. 600m) – Felmis – Birrholz (505m)\nAussichtspunkt Dickiwald (556m)\nWinkel (437m) – Steinibachried\nEnnethorw / Bushaltestelle Horw-Werkhof (435m) \nStreckenlänge:\nca. 13 km\, 380 m auf- und abwärts\, 3.5 Std.\, T1 \nRoute auf SchweizMobil: \n \nWanderung vor 7 Jahren:\n18.01.14 / Streifzug über die Horwer Halbinsel (Luzern) \nFahrplan ab Zürich HB:\nZürich HB ab 09:10 / Luzern an 09:51 \nRückfahrt ab Horw-Werkhof:\nxx:11 / xx:26 / xx:41 / xx:56 \nVerpflegung aus dem Rucksack \nAnmeldungen\nkönnen durch eingeloggte Benutzer unten im Kommentarfeld eingetragen werden. \nBeat\nhttps://wmf-pfanniblog.blogspot.com/\nhttps://pfanniblog.blogspot.ch/
URL:https://wandern-mit-freunden.ch/event/sonntag-ab-luzern-ueber-die-horwer-halbinsel-lu/
CATEGORIES:Geplante Wanderungen,Wanderung
END:VEVENT
BEGIN:VEVENT
DTSTART;TZID=Europe/Zurich:20240207T093000
DTEND;TZID=Europe/Zurich:20240207T150000
DTSTAMP:20260421T184552
CREATED:20240204T145002Z
LAST-MODIFIED:20240205T145825Z
UID:10001108-1707298200-1707318000@wandern-mit-freunden.ch
SUMMARY:MITTWOCH: Meierskappel - Michaelskreuz - Luzern (LU)
DESCRIPTION:Max. Gruppengrösse: 10 Personen \nAm kommenden Mittwoch (07.02.24)\nwandern wir von Meierskappel\, Robmatt\nhinauf zum Michaelskreuz auf dem Rooterberg\nsowie weiter durch Udligenswil und Adligenswil hinunter nach Luzern. \nGeplante Wanderroute:\nMeierskappel\, Robmatt (653m) / Bus-Haltestelle\nObertal (649m) – Michaelskreuz (795m) – Hinteregg (774m)\nUdligenswil (621m) – Obermöösli (601m) – Adligenswil (534m)\nLuzern / Bahnhof (435m) \nStreckenlänge:\nca. 17 km\, 450 m aufwärts\, 660 m abwärts\, 4.5 Std.\, T1 \nRoute auf SchweizMobil.ch:\nL I N K \n \nZwei Wanderungen vor 12 Jahren:\n02.04.12 / Über den Rooterberg: Rotkreuz – Michaelskreuz – Dottenberg – Ebikon\n28.04.12 / Von Risch am Zugersee über den Rooterberg und bis nach Adligenswil \nFahrplan ab Zürich HB:\nZürich HB ab 08:35\nRotkreuz an 09:10 / ab 09:15 (Bahnhof Süd / Bus B 73 Richtung Luzern)\nMeierskappel\, Robmatt an 09:24 \nRückfahrt ab Bahnhof Luzern \nVerpflegung aus dem Rucksack \nAnmeldungen\nkönnen durch eingeloggte Benutzer unten im Kommentarfeld eingetragen werden. \nBeat\nhttps://wmf-pfanniblog-2.blogspot.com/
URL:https://wandern-mit-freunden.ch/event/geplant-meierskappel-michaelskreuz-luzern-lu/
CATEGORIES:Geplante Wanderungen,Wanderung
END:VEVENT
END:VCALENDAR