BEGIN:VCALENDAR
VERSION:2.0
PRODID:-//Wandern mit Freunden - ECPv6.15.20//NONSGML v1.0//EN
CALSCALE:GREGORIAN
METHOD:PUBLISH
X-WR-CALNAME:Wandern mit Freunden
X-ORIGINAL-URL:https://wandern-mit-freunden.ch
X-WR-CALDESC:Veranstaltungen im Wandern mit Freunden
REFRESH-INTERVAL;VALUE=DURATION:PT1H
X-Robots-Tag:noindex
X-PUBLISHED-TTL:PT1H
BEGIN:VTIMEZONE
TZID:Europe/Zurich
BEGIN:DAYLIGHT
TZOFFSETFROM:+0100
TZOFFSETTO:+0200
TZNAME:CEST
DTSTART:20200329T010000
END:DAYLIGHT
BEGIN:STANDARD
TZOFFSETFROM:+0200
TZOFFSETTO:+0100
TZNAME:CET
DTSTART:20201025T010000
END:STANDARD
BEGIN:DAYLIGHT
TZOFFSETFROM:+0100
TZOFFSETTO:+0200
TZNAME:CEST
DTSTART:20210328T010000
END:DAYLIGHT
BEGIN:STANDARD
TZOFFSETFROM:+0200
TZOFFSETTO:+0100
TZNAME:CET
DTSTART:20211031T010000
END:STANDARD
BEGIN:DAYLIGHT
TZOFFSETFROM:+0100
TZOFFSETTO:+0200
TZNAME:CEST
DTSTART:20220327T010000
END:DAYLIGHT
BEGIN:STANDARD
TZOFFSETFROM:+0200
TZOFFSETTO:+0100
TZNAME:CET
DTSTART:20221030T010000
END:STANDARD
BEGIN:DAYLIGHT
TZOFFSETFROM:+0100
TZOFFSETTO:+0200
TZNAME:CEST
DTSTART:20230326T010000
END:DAYLIGHT
BEGIN:STANDARD
TZOFFSETFROM:+0200
TZOFFSETTO:+0100
TZNAME:CET
DTSTART:20231029T010000
END:STANDARD
BEGIN:DAYLIGHT
TZOFFSETFROM:+0100
TZOFFSETTO:+0200
TZNAME:CEST
DTSTART:20240331T010000
END:DAYLIGHT
BEGIN:STANDARD
TZOFFSETFROM:+0200
TZOFFSETTO:+0100
TZNAME:CET
DTSTART:20241027T010000
END:STANDARD
BEGIN:DAYLIGHT
TZOFFSETFROM:+0100
TZOFFSETTO:+0200
TZNAME:CEST
DTSTART:20250330T010000
END:DAYLIGHT
BEGIN:STANDARD
TZOFFSETFROM:+0200
TZOFFSETTO:+0100
TZNAME:CET
DTSTART:20251026T010000
END:STANDARD
BEGIN:DAYLIGHT
TZOFFSETFROM:+0100
TZOFFSETTO:+0200
TZNAME:CEST
DTSTART:20260329T010000
END:DAYLIGHT
BEGIN:STANDARD
TZOFFSETFROM:+0200
TZOFFSETTO:+0100
TZNAME:CET
DTSTART:20261025T010000
END:STANDARD
END:VTIMEZONE
BEGIN:VEVENT
DTSTART;TZID=Europe/Zurich:20250201T100000
DTEND;TZID=Europe/Zurich:20250201T153000
DTSTAMP:20260419T211212
CREATED:20250130T163337Z
LAST-MODIFIED:20250202T080237Z
UID:10001235-1738404000-1738423800@wandern-mit-freunden.ch
SUMMARY:SAMSTAG: Bargis - Fidaz - Foppa - Flims (GR)
DESCRIPTION:Max. Gruppengrösse: 10 Personen \nAm kommenden Samstag (01.02.25)\nwandern wir ab Bargis via Fidaz und Foppa nach Flims.\n(Schneewanderung / mit Schuhspikes und Stöcken / ohne Schneeschuhe!) \nGeplante Wanderroute:\nFidaz\, Bargis (1550m) / Bus-Endstation\nWinterWanderRoute 271 / Bargis-Rundweg\nAbstieg nach Fidaz (1188m) über Winterweg oder Strasse\nWinterWanderRoute 273 / Höhenweg Fidaz-Foppa\nFoppa (1429m)\nAbstieg nach Flims Dorf *)\, Post (1075m) / Bus-Haltestelle \nStreckenlänge:\nca. 13 km\, 330 m aufwärts\, 790 m abwärts\, 4.5 Std.\, T1 \n*) Nachträglicher Hinweis:\nDer unten eingezeichnete Schlittelweg ab Foppa ist für Wanderung gesperrt!\nAbstieg Foppa->Flims erfolgt über präparierten WinterWanderWeg. \nRoute auf SchweizMobil.ch:\nL I N K \n \nFahrplan ab Zürich HB:\nZürich HB ab 07:38\nChur an 08:52 / ab 08:57 (mit Bus EXB 81 Richtung Laax)\nFlims Dorf\, Post an 09:22 / ab 09:35 (mit Bus B 118 Richtung Fidaz\, Bargis)\nFidaz\, Bargis an 09:56 \nHinweis\nzum Streckenabschnitt Fidaz\, Waldrand bis Fidaz\, Bargis:\nFür GA / Tageskarte muss ein 1/2-Preis-Ticket gekauft werden. \nRückfahrt ab Flims Dorf\, Post:\nxx:28 / xx:58 \nVerpflegung aus dem Rucksack \nAnmeldungen\nkönnen durch eingeloggte Benutzer unten im Kommentarfeld eingetragen werden. \nBeat\nhttps://wmf-pfanniblog-2.blogspot.com/\nhttps://www.youtube.com/@beatwmf2059
URL:https://wandern-mit-freunden.ch/event/samstag-bargis-fidaz-foppa-flims-gr/
CATEGORIES:Geplante Wanderungen,Winter-Wanderung
END:VEVENT
BEGIN:VEVENT
DTSTART;VALUE=DATE:20210901
DTEND;VALUE=DATE:20210902
DTSTAMP:20260419T211212
CREATED:20210829T124154Z
LAST-MODIFIED:20210831T032144Z
UID:10000837-1630454400-1630540799@wandern-mit-freunden.ch
SUMMARY:MITTWOCH: Bargis - Flimserstein - Foppa (GR)
DESCRIPTION:Max. Gruppengrösse: 10 Personen \nMorgen Mittwoch (01.09.21)\nwandern wir von Fidaz-Bargis über den Flimserstein und hinunter zur Alp Foppa. \nGeplante Wanderroute:\nBargis / Postauto-Endstation (1549m)\nTegia Gronda (2019m) – Flimserstein (2283m / 2386m)\nIls Lags (2347m) – P. 2394 – P. 2516 – P. 2011 – Naraus (1839m)\nFoppa / Sesselbahn-Mittelstation (1429m) \nStreckenlänge:\nca. 13 km\, 1010 m aufwärts\, 1130 m abwärts\, 5 Std.\, T2-T3 \nTalfahrt:\nSesselbahn Flims-Foppa\n(Ticket: 17 Franken / AHV -10%) \nVerlängerungs-Variante:\nAbstieg bis zur Bergbahn-Talstation Flims-Dorf\n+ ca. 3km\, + 350 hm abwärts\, + 45 Min. \nRoute auf SchweizMobil.ch:\nL I N K \n \nFahrplan ab Zürich HB:\nZürich HB ab 07:07\nChur an 08:23 / ab 08:28 (mit Postauto Richtung Laax)\nFlims Dorf\, Post an 08:58 / ab 09:00 (mit Postauto)\nFidaz\, Bargis an 09:25 \nRückfahrt mit Postauto ab Flims Dorf\, Bergbahnen:\nxx:26 \nVerpflegung aus dem Rucksack \nAnmeldungen\nkönnen durch eingeloggte Benutzer unten im Kommentarfeld eingetragen werden. \nBeat\nhttps://wmf-pfanniblog.blogspot.com/\nhttps://pfanniblog.blogspot.ch/
URL:https://wandern-mit-freunden.ch/event/geplant-bargis-flimserstein-foppa-gr/
CATEGORIES:Geplante Wanderungen,Wanderung
END:VEVENT
END:VCALENDAR