BEGIN:VCALENDAR
VERSION:2.0
PRODID:-//Wandern mit Freunden - ECPv6.15.20//NONSGML v1.0//EN
CALSCALE:GREGORIAN
METHOD:PUBLISH
X-WR-CALNAME:Wandern mit Freunden
X-ORIGINAL-URL:https://wandern-mit-freunden.ch
X-WR-CALDESC:Veranstaltungen im Wandern mit Freunden
REFRESH-INTERVAL;VALUE=DURATION:PT1H
X-Robots-Tag:noindex
X-PUBLISHED-TTL:PT1H
BEGIN:VTIMEZONE
TZID:Europe/Zurich
BEGIN:DAYLIGHT
TZOFFSETFROM:+0100
TZOFFSETTO:+0200
TZNAME:CEST
DTSTART:20180325T010000
END:DAYLIGHT
BEGIN:STANDARD
TZOFFSETFROM:+0200
TZOFFSETTO:+0100
TZNAME:CET
DTSTART:20181028T010000
END:STANDARD
BEGIN:DAYLIGHT
TZOFFSETFROM:+0100
TZOFFSETTO:+0200
TZNAME:CEST
DTSTART:20190331T010000
END:DAYLIGHT
BEGIN:STANDARD
TZOFFSETFROM:+0200
TZOFFSETTO:+0100
TZNAME:CET
DTSTART:20191027T010000
END:STANDARD
BEGIN:DAYLIGHT
TZOFFSETFROM:+0100
TZOFFSETTO:+0200
TZNAME:CEST
DTSTART:20200329T010000
END:DAYLIGHT
BEGIN:STANDARD
TZOFFSETFROM:+0200
TZOFFSETTO:+0100
TZNAME:CET
DTSTART:20201025T010000
END:STANDARD
BEGIN:DAYLIGHT
TZOFFSETFROM:+0100
TZOFFSETTO:+0200
TZNAME:CEST
DTSTART:20210328T010000
END:DAYLIGHT
BEGIN:STANDARD
TZOFFSETFROM:+0200
TZOFFSETTO:+0100
TZNAME:CET
DTSTART:20211031T010000
END:STANDARD
BEGIN:DAYLIGHT
TZOFFSETFROM:+0100
TZOFFSETTO:+0200
TZNAME:CEST
DTSTART:20220327T010000
END:DAYLIGHT
BEGIN:STANDARD
TZOFFSETFROM:+0200
TZOFFSETTO:+0100
TZNAME:CET
DTSTART:20221030T010000
END:STANDARD
BEGIN:DAYLIGHT
TZOFFSETFROM:+0100
TZOFFSETTO:+0200
TZNAME:CEST
DTSTART:20230326T010000
END:DAYLIGHT
BEGIN:STANDARD
TZOFFSETFROM:+0200
TZOFFSETTO:+0100
TZNAME:CET
DTSTART:20231029T010000
END:STANDARD
BEGIN:DAYLIGHT
TZOFFSETFROM:+0100
TZOFFSETTO:+0200
TZNAME:CEST
DTSTART:20240331T010000
END:DAYLIGHT
BEGIN:STANDARD
TZOFFSETFROM:+0200
TZOFFSETTO:+0100
TZNAME:CET
DTSTART:20241027T010000
END:STANDARD
BEGIN:DAYLIGHT
TZOFFSETFROM:+0100
TZOFFSETTO:+0200
TZNAME:CEST
DTSTART:20250330T010000
END:DAYLIGHT
BEGIN:STANDARD
TZOFFSETFROM:+0200
TZOFFSETTO:+0100
TZNAME:CET
DTSTART:20251026T010000
END:STANDARD
END:VTIMEZONE
BEGIN:VEVENT
DTSTART;TZID=Europe/Zurich:20241012T100000
DTEND;TZID=Europe/Zurich:20241012T160000
DTSTAMP:20260424T155102
CREATED:20230815T063235Z
LAST-MODIFIED:20241012T041102Z
UID:10001054-1728727200-1728748800@wandern-mit-freunden.ch
SUMMARY:SAMSTAG: St. Antönien - Salfsch - Salginatobelbrücke - Schiers (Prättigau / GR)
DESCRIPTION:Max. Gruppengrösse: 10 Personen \nAm kommenden Samstag (12.10.24)\nwandern wir von St. Antönien via Salfsch nach Schiers.\nWir überqueren die Chleibach-Hängebrücke und die Salginatobelbrücke. \nGeplante Wanderroute:\nSt. Antönien\, Platz (1419m) / Bus-Haltestelle\nChleibach-Hängebrücke (1298 m) – Salfsch (1288 m)\nSagen (1031 m) – Salginatobelbrücke (874m)\nSchiers (654m) / RhB-Bahnstation \nStreckenlänge:\nca. 18 km\, 390 m aufwärts\, 1160 m abwärts\, 5 Std.\, T2 \nRoute auf SchweizMobil.ch:\nL I N K \nHinweis:\nDie auf SchweizMobil eingezeichnete Wegsperrung zwischen Aschüel und Salfsch\ngilt von Montag bis Freitag.\nAm Wochenende ist dieser Wegabschnitt begehbar. \n \nRouteninfos auf wandersite.ch:\nSt.Antönien – Chleibach – Salfsch – Schraubbach – Schiers \nWanderung vor 5 Jahren:\n01.11.19 / Schuders – Chleibach-Hängebrücke – Pany (Prättigau / GR) \nFahrplan ab Zürich HB:\nZürich HB ab 07:27\nAufgrund von Bauarbeiten wurde bei dieser Verbindung der Fahrplan angepasst.\nLandquart an 08:41 / ab 08:47\nKüblis an 09:10 / ab 09:18\nSt. Antönien\, Platz an 09:43 \nRückfahrt ab Schiers:\nxx:00 / xx:29 \nVerpflegung aus dem Rucksack \nAnmeldungen\nkönnen durch eingeloggte Benutzer unten im Kommentarfeld eingetragen werden. \nBeat\nhttps://wmf-pfanniblog-2.blogspot.com/\nhttps://www.youtube.com/@beatwmf2059
URL:https://wandern-mit-freunden.ch/event/geplant-st-antoenien-salfsch-salginatobelbruecke-schiers-praettigau-gr/
CATEGORIES:Geplante Wanderungen,Wanderung
END:VEVENT
BEGIN:VEVENT
DTSTART;VALUE=DATE:20191101
DTEND;VALUE=DATE:20191102
DTSTAMP:20260424T155102
CREATED:20191027T081928Z
LAST-MODIFIED:20191102T051033Z
UID:10000648-1572566400-1572652799@wandern-mit-freunden.ch
SUMMARY:FREITAG: Schuders - Chleibach-Hängebrücke - Pany (Prättigau / GR)
DESCRIPTION:HINWEISE:\nGutes Schuhwerk tragen!\nNach den gegenwärtigen Regentagen\nist am Donnerstag stellenweise mit feuchten Wegetappen zu rechnen.\nAnmeldungen bitte bis Donnerstag-Mittag eintragen\,\ndamit ich Postautofahrt anmelden kann. \nAm kommenden FREITAG (01.11.19)\nunternehmen wir eine Wanderung zwischen Schuders und Pany im Prättigau. \nGeplante Wanderroute:\nSchuders (1270 m)\nSagen (1031 m) – Salfsch (1288 m)\nChleibach-Hängebrücke (1298 m)\nLitzigada / St. Antönien\, Aschüel (1596 m)\nBova (1610 m) – Tüfelstein (1385 m)\nPany (1249 m) \nStreckenlänge:\nca. 16 km\, 900 m auf- und abwärts\, 5 Std.\, T2 \nRoute auf SchweizMobil: \n \nFahrplan ab Zürich HB:\nZürich HB ab 07:37\nLandquart an 08:41 / ab 08:47\nSchiers an 08:58 / ab 09:04 (mit Kleinbus / Reservation empfohlen! )\nSchuders an 09:24 \nVerpflegung aus dem Rucksack \nEinkehrmöglichkeit in Pany:\nCafé Sunnä-Eggä \nRückfahrt\nvoraussichtlich ab Pany:\n15:30 / 15:56 / 16:31 \nAnmeldungen\nkönnen durch eingeloggte Teilnehmer unten im Kommentarfeld erfolgen\noder mir per WhatsApp oder SMS mitgeteilt werden. \nBeat / http://pfanniblog.blogspot.ch/
URL:https://wandern-mit-freunden.ch/event/schuders-chleibach-haengebruecke-pany-praettigau-gr/
CATEGORIES:Geplante Wanderungen,Wanderung
END:VEVENT
END:VCALENDAR