BEGIN:VCALENDAR
VERSION:2.0
PRODID:-//Wandern mit Freunden - ECPv6.15.20//NONSGML v1.0//EN
CALSCALE:GREGORIAN
METHOD:PUBLISH
X-WR-CALNAME:Wandern mit Freunden
X-ORIGINAL-URL:https://wandern-mit-freunden.ch
X-WR-CALDESC:Veranstaltungen im Wandern mit Freunden
REFRESH-INTERVAL;VALUE=DURATION:PT1H
X-Robots-Tag:noindex
X-PUBLISHED-TTL:PT1H
BEGIN:VTIMEZONE
TZID:Europe/Zurich
BEGIN:DAYLIGHT
TZOFFSETFROM:+0100
TZOFFSETTO:+0200
TZNAME:CEST
DTSTART:20210328T010000
END:DAYLIGHT
BEGIN:STANDARD
TZOFFSETFROM:+0200
TZOFFSETTO:+0100
TZNAME:CET
DTSTART:20211031T010000
END:STANDARD
BEGIN:DAYLIGHT
TZOFFSETFROM:+0100
TZOFFSETTO:+0200
TZNAME:CEST
DTSTART:20220327T010000
END:DAYLIGHT
BEGIN:STANDARD
TZOFFSETFROM:+0200
TZOFFSETTO:+0100
TZNAME:CET
DTSTART:20221030T010000
END:STANDARD
BEGIN:DAYLIGHT
TZOFFSETFROM:+0100
TZOFFSETTO:+0200
TZNAME:CEST
DTSTART:20230326T010000
END:DAYLIGHT
BEGIN:STANDARD
TZOFFSETFROM:+0200
TZOFFSETTO:+0100
TZNAME:CET
DTSTART:20231029T010000
END:STANDARD
END:VTIMEZONE
BEGIN:VEVENT
DTSTART;VALUE=DATE:20220618
DTEND;VALUE=DATE:20220619
DTSTAMP:20260423T143103
CREATED:20220616T215405Z
LAST-MODIFIED:20240225T204231Z
UID:10000905-1655510400-1655596799@wandern-mit-freunden.ch
SUMMARY:AUSGEBUCHT/San Bernardino-Hinterrhein
DESCRIPTION:Am Samstag 18.6.22 reisen wir auf kühlere Höhen und wandern ab San Bernardino\, Villaggio über den Laghetto Moesola nach Hinterrhein\, Dorf. \n  \nStreckenlänge 11\,4km              654m ufä               651m abä                 4h \n  \n  \n  \nFahrplan ab Zürich:  Zürich ab 07:38/ Chur an 08:52\, ab (Postautostation) 08:58/ Bernardino\, Vilaggio an 10:10 RESERVATIONSPFLICHT \nRückfahrt ab Hinterrhein\, Dorf  15:31 über Thusis \n  \nEssen aus dem Rucksack. \n  \nBadehose nicht vergessen. \n  \n!!!!!BITTE BIS FREITAG 15 UHR ANMELDEN DAMIT ICH NOCH RESERVIEREN KANN!!!!! \n  \nMeine Mobile Nummer 076 530 43 60 \n  \nLiebe Grüsse \nBarbara \n  \nMaximale Teilnehmerzahl 10. \n  \n  \n 
URL:https://wandern-mit-freunden.ch/event/san-bernardino-hinterrhein/
CATEGORIES:Geplante Wanderungen,Wanderung
END:VEVENT
END:VCALENDAR