BEGIN:VCALENDAR
VERSION:2.0
PRODID:-//Wandern mit Freunden - ECPv6.15.20//NONSGML v1.0//EN
CALSCALE:GREGORIAN
METHOD:PUBLISH
X-WR-CALNAME:Wandern mit Freunden
X-ORIGINAL-URL:https://wandern-mit-freunden.ch
X-WR-CALDESC:Veranstaltungen im Wandern mit Freunden
REFRESH-INTERVAL;VALUE=DURATION:PT1H
X-Robots-Tag:noindex
X-PUBLISHED-TTL:PT1H
BEGIN:VTIMEZONE
TZID:Europe/Zurich
BEGIN:DAYLIGHT
TZOFFSETFROM:+0100
TZOFFSETTO:+0200
TZNAME:CEST
DTSTART:20170326T010000
END:DAYLIGHT
BEGIN:STANDARD
TZOFFSETFROM:+0200
TZOFFSETTO:+0100
TZNAME:CET
DTSTART:20171029T010000
END:STANDARD
BEGIN:DAYLIGHT
TZOFFSETFROM:+0100
TZOFFSETTO:+0200
TZNAME:CEST
DTSTART:20180325T010000
END:DAYLIGHT
BEGIN:STANDARD
TZOFFSETFROM:+0200
TZOFFSETTO:+0100
TZNAME:CET
DTSTART:20181028T010000
END:STANDARD
BEGIN:DAYLIGHT
TZOFFSETFROM:+0100
TZOFFSETTO:+0200
TZNAME:CEST
DTSTART:20190331T010000
END:DAYLIGHT
BEGIN:STANDARD
TZOFFSETFROM:+0200
TZOFFSETTO:+0100
TZNAME:CET
DTSTART:20191027T010000
END:STANDARD
BEGIN:DAYLIGHT
TZOFFSETFROM:+0100
TZOFFSETTO:+0200
TZNAME:CEST
DTSTART:20200329T010000
END:DAYLIGHT
BEGIN:STANDARD
TZOFFSETFROM:+0200
TZOFFSETTO:+0100
TZNAME:CET
DTSTART:20201025T010000
END:STANDARD
BEGIN:DAYLIGHT
TZOFFSETFROM:+0100
TZOFFSETTO:+0200
TZNAME:CEST
DTSTART:20210328T010000
END:DAYLIGHT
BEGIN:STANDARD
TZOFFSETFROM:+0200
TZOFFSETTO:+0100
TZNAME:CET
DTSTART:20211031T010000
END:STANDARD
BEGIN:DAYLIGHT
TZOFFSETFROM:+0100
TZOFFSETTO:+0200
TZNAME:CEST
DTSTART:20220327T010000
END:DAYLIGHT
BEGIN:STANDARD
TZOFFSETFROM:+0200
TZOFFSETTO:+0100
TZNAME:CET
DTSTART:20221030T010000
END:STANDARD
BEGIN:DAYLIGHT
TZOFFSETFROM:+0100
TZOFFSETTO:+0200
TZNAME:CEST
DTSTART:20230326T010000
END:DAYLIGHT
BEGIN:STANDARD
TZOFFSETFROM:+0200
TZOFFSETTO:+0100
TZNAME:CET
DTSTART:20231029T010000
END:STANDARD
BEGIN:DAYLIGHT
TZOFFSETFROM:+0100
TZOFFSETTO:+0200
TZNAME:CEST
DTSTART:20240331T010000
END:DAYLIGHT
BEGIN:STANDARD
TZOFFSETFROM:+0200
TZOFFSETTO:+0100
TZNAME:CET
DTSTART:20241027T010000
END:STANDARD
BEGIN:DAYLIGHT
TZOFFSETFROM:+0100
TZOFFSETTO:+0200
TZNAME:CEST
DTSTART:20250330T010000
END:DAYLIGHT
BEGIN:STANDARD
TZOFFSETFROM:+0200
TZOFFSETTO:+0100
TZNAME:CET
DTSTART:20251026T010000
END:STANDARD
END:VTIMEZONE
BEGIN:VEVENT
DTSTART;TZID=Europe/Zurich:20240815T080000
DTEND;TZID=Europe/Zurich:20240815T170000
DTSTAMP:20260422T042506
CREATED:20240813T111842Z
LAST-MODIFIED:20241001T123916Z
UID:10001176-1723708800-1723741200@wandern-mit-freunden.ch
SUMMARY:DO/ Schwimmen mit Freunden. ..chunsch au mit it Aare?
DESCRIPTION:Fast schon jährliche Tradition: Aareschwimmen \nAm Donnerstag 15.8.24  wandern wir vom Marzili in Badehosen immer wieder aufwärts chli dr Aare na und schwimmen dann zurück ins Marzili. \n  \nWer sich gerne treiben lässt\, nimmt am besten noch etwas aufblasbares\, eine Schwimmnudel oder ein Aarebag mit. Wertsachen können eingeschlossen werden. Schloss mitnehmen oder dort mieten. \nSollte es noch etwas frisch sein am Morgen oder sogar noch Gewittern gibt es halt dann zuerst äs Gaffee. \n  \nEssen aus dem Rucksack ( oder Tasche/ oder Aarebag 😉) \n..und natürlich Badehosen nicht vergessen! \n  \nAnfahrt ab Zürich: Zürich ab 8.32/ Bern an 9:28 / Zu Fuss ins Marzili \nRückfahrt ab Bern: Jede wänn er gnueg hät. \n  \nMindestens 3 Personen \n  \nFreu mi ! \nBarbara
URL:https://wandern-mit-freunden.ch/event/do-schwimmen-mit-freunden-chunsch-au-mit-it-aare/
CATEGORIES:Sonstige Ausflüge
END:VEVENT
BEGIN:VEVENT
DTSTART;TZID=Europe/Zurich:20230823T090000
DTEND;TZID=Europe/Zurich:20230823T170000
DTSTAMP:20260422T042506
CREATED:20230819T215112Z
LAST-MODIFIED:20230822T045124Z
UID:10001056-1692781200-1692810000@wandern-mit-freunden.ch
SUMMARY:Aareschwümme
DESCRIPTION:Dieser Event findet ohne Kameras statt! \n  \nAm Mittwoch 23.8.23 bleibt es heiss. Drum mal nöd wandere. Wir machen ein Aareschwümme Tag. \nDe Aareguru gibt aktuel (19.8.23) die Wassertemperatur mit 21 Grad an. \n \nIn der Badi Marzili in Bern haben wir die Möglichkeit unsere Wertsachen in einem Schliessfach zu deponieren. Wer einen «Aarebag» hat kann natürlich auch alles zum Schwimmen mitnehmen. \n  \nHinfahrt ab Zürich: Zürich  ab 08:02/ Bern an 08:58 \nVom Bahnhof Bern zum Marzili können wir laufen. \nRückfahrt ab Bern wenn ihr genug habt. \n  \nEssen aus dem Rucksack oder Marzili-Kiosk \n  \nMeine Mobile Nummer für Fragen: \n076 530 43 60 \n  \nMindesten 3 / Maximal 10 Personen ohne Kamera \n 
URL:https://wandern-mit-freunden.ch/event/voraussichtlich-aareschwuemme/
CATEGORIES:Sonstige Ausflüge
END:VEVENT
BEGIN:VEVENT
DTSTART;VALUE=DATE:20180810
DTEND;VALUE=DATE:20180811
DTSTAMP:20260422T042506
CREATED:20180808T201529Z
LAST-MODIFIED:20180811T125009Z
UID:10000523-1533859200-1533945599@wandern-mit-freunden.ch
SUMMARY:Abkühlung in der Aare
DESCRIPTION:NACHTRAG \nAchtung: Heute Nacht wird es heftige Gewitter geben. Es ist leider\, leider damit zu rechnen\, dass man danach nicht mehr in der Aare schwimmen kann. Wir werden den Ausflug trotzdem wagen und die Lage vor Ort beurteilen. Schlimmstenfalls machen wir einfach einen Spaziergang dr Aare naa und am Schluss einen Sprung ins Marzili Schwimmbecken. \n  \n«Gang doch e chli dr Aare naa. Dere schöne\, schöne \,schöne grüene Aare naa……..» \n(Zitat: Endo Anaconda von Stiller Has) \nIch werde diesem Rat von Endo Anaconda am Freitag 10.8.18 folgen und mich in der Aare abkühlen. Chunsch au mit? \nIm Freibad Marzili in Bern kann man Wertsachen einschliessen und dann der Aare nach hoch laufen. \nSo weit wie man auch zurück schwimmen mag 😉 \nIch werde einen 20 Liter «Aaresack» (In Bern zur Zeit Quasi ausverkauft) mitnehmen. \nFalls jemand nicht Barfuss laufen möchte hätte ich daher Platz für mehrere Sandalen beziehungsweise um sie trocken zurück zu schiffen 🙂 \n                             Fahrplan ab Zürich:   Zürich ab 09:02\,  Bern an 09:58 \n15 min zu Fuss bis Marzilibad. \nAnmeldungen unter «Kommentare» oder per WhatsApp \nMeine Mobile Nummer 076 530 43 60 \nFreue mich auf badefreudige Mitschwimmer! \nBarbara
URL:https://wandern-mit-freunden.ch/event/abkuehlung-in-der-aare/
CATEGORIES:Geplante Wanderungen,Sonstige Ausflüge
END:VEVENT
END:VCALENDAR