BEGIN:VCALENDAR
VERSION:2.0
PRODID:-//Wandern mit Freunden - ECPv6.15.20//NONSGML v1.0//EN
CALSCALE:GREGORIAN
METHOD:PUBLISH
X-WR-CALNAME:Wandern mit Freunden
X-ORIGINAL-URL:https://wandern-mit-freunden.ch
X-WR-CALDESC:Veranstaltungen im Wandern mit Freunden
REFRESH-INTERVAL;VALUE=DURATION:PT1H
X-Robots-Tag:noindex
X-PUBLISHED-TTL:PT1H
BEGIN:VTIMEZONE
TZID:Europe/Zurich
BEGIN:DAYLIGHT
TZOFFSETFROM:+0100
TZOFFSETTO:+0200
TZNAME:CEST
DTSTART:20250330T010000
END:DAYLIGHT
BEGIN:STANDARD
TZOFFSETFROM:+0200
TZOFFSETTO:+0100
TZNAME:CET
DTSTART:20251026T010000
END:STANDARD
BEGIN:DAYLIGHT
TZOFFSETFROM:+0100
TZOFFSETTO:+0200
TZNAME:CEST
DTSTART:20260329T010000
END:DAYLIGHT
BEGIN:STANDARD
TZOFFSETFROM:+0200
TZOFFSETTO:+0100
TZNAME:CET
DTSTART:20261025T010000
END:STANDARD
BEGIN:DAYLIGHT
TZOFFSETFROM:+0100
TZOFFSETTO:+0200
TZNAME:CEST
DTSTART:20270328T010000
END:DAYLIGHT
BEGIN:STANDARD
TZOFFSETFROM:+0200
TZOFFSETTO:+0100
TZNAME:CET
DTSTART:20271031T010000
END:STANDARD
END:VTIMEZONE
BEGIN:VEVENT
DTSTART;TZID=Europe/Zurich:20260204T093000
DTEND;TZID=Europe/Zurich:20260204T153000
DTSTAMP:20260424T070742
CREATED:20260203T080612Z
LAST-MODIFIED:20260203T163856Z
UID:10001346-1770197400-1770219000@wandern-mit-freunden.ch
SUMMARY:Durch die zwei schönsten Tobel der Zürcher Goldküste
DESCRIPTION:Am Mittwoch 4.2.26 wandern wir durch zwei der schönsten Tobel der Zürcher Goldküste. Wir starten in Erlenbach und laufen das Erlenbaches Tobel hinauf. Via Kittenmüli\, Wängirain und Büelen zum Meilemer Tobel. Dieses laufen wir hinunter bis zur Abzweigung Richtung Geisstobel. Weiter geht es über Geisshalden und In der Au bis zum Haslibach und diesem entlang bis Uetikon am See. (Bushaltestelle Tramstrasse. Da sollte auch ein Café sein) \n  \nStreckenlänge: 13.8km                     456m ufä und 425m abä                      ca 4h reine Wanderzeit \nRoute auf Schweizmobil \n  \nAnfahrt ab Zürich HB: Zürich ab 09:30 (Stadelhofen 09:33)/ Erlenbach an 09:45 \nRückfahrt: Ab Uerikon am See. Bushaltestelle Tramstrasse \n  \nEssen aus dem Rucksack \n  \nMaximal 10 Personen \nAnmeldungen können durch eingeloggte Benutzer unten im Kommentarfeld eingetragen werden. \n  \nEure Barbara
URL:https://wandern-mit-freunden.ch/event/durch-die-zwei-schoensten-tobel-der-zuercher-goldkueste/
CATEGORIES:Geplante Wanderungen,Wanderung
END:VEVENT
BEGIN:VEVENT
DTSTART;TZID=Europe/Zurich:20260207T100000
DTEND;TZID=Europe/Zurich:20260207T150000
DTSTAMP:20260424T070742
CREATED:20260205T152101Z
LAST-MODIFIED:20260205T152101Z
UID:10001347-1770458400-1770476400@wandern-mit-freunden.ch
SUMMARY:SAMSTAG: Über den Schlaufensteg / Baar - Zug - Cham (ZG)
DESCRIPTION:Max. Gruppengrösse: 10 Personen \nAm kommenden Samstag (07.02.26)\nüberqueren wir\, auf einer Wanderung ab Baar via Zug bis nach Cham\, den Schlaufensteg. \nGeplante Wanderroute:\nBaar (443m) / Bahnstation\nSchlaufensteg (464m/ 500m)\nZug / Altstadt und dem Zugersee entlang (415m)\nCham (418m) / Bahnstation \nStreckenlänge:\nca. 14 km\, 235 m aufwärts\, 260 m abwärts\, 3.5 Std.\, T1 \nInfos zum Schlaufensteg:\nDer 350 Meter lange Schlaufensteg verbindet die Baarer Gebiete «Buebegunte» und «Vogelwinkel» mit einer eindrücklichen Treppenanlage und Aussichtsplattformen. Den Besuchenden wird auf bis zu 22 Metern Höhe eine neue Perspektive eröffnet\, die ihresgleichen sucht.\nQuelle: https://www.schlaufensteg.ch/ \nRoute auf SchweizMobil.ch:\nL I N K \n \nFahrplan ab Zürich HB:\nZürich HB ab 09:35 / Baar an 09:58 \nRückfahrt ab Cham:\nxx:14 / xx:44 \nVerpflegung aus dem Rucksack \nAnmeldungen\nkönnen durch eingeloggte Benutzer unten im Kommentarfeld eingetragen werden. \nBeat\nhttps://wmf-pfanniblog-2.blogspot.com/\nhttps://www.youtube.com/@beatwmf2059
URL:https://wandern-mit-freunden.ch/event/samstag-ueber-den-schlaufensteg-baar-zug-cham-zg/
CATEGORIES:Geplante Wanderungen,Wanderung
END:VEVENT
BEGIN:VEVENT
DTSTART;TZID=Europe/Zurich:20260211T110000
DTEND;TZID=Europe/Zurich:20260211T160000
DTSTAMP:20260424T070742
CREATED:20260209T100940Z
LAST-MODIFIED:20260212T101923Z
UID:10001348-1770807600-1770825600@wandern-mit-freunden.ch
SUMMARY:MITTWOCH: Castagnola - Gandria - Lugano (TI)
DESCRIPTION:Am kommenden Mittwoch (11.02.26)\nunternehmen wir eine Rundwanderung zwischen Lugano und Gandria. \nGeplante Wanderroute:\nCastagnola\, Paese (320m) / Bus-Haltestelle\nOlivenbaumweg nach Gandria (299m / 270m / 340m)\nAbzweigung P. 437 zum unteren Hangweg nach Ruvigliana (590m)\nParco San Michele (387m) – Parco Civico (272m)\nLugano Città / Funicolare (275m) \nStreckenlänge:\nca. 10 km\, 460 m aufwärts\, 500 m abwärts\, 3.5 Std.\, T1-T2 \nRoute auf SchweizMobil.ch:\nL I N K \n \nWanderung vor 3 Jahren:\n11.12.22 / Castagnola – Gandria – Lugano (TI)\n(Rückweg damals über den oberen Hangweg!) \nFahrplan ab Zürich HB:\n(Späte Abfahrt um 08:33 für hoffentlich besseres Wetter!)\nZürich HB ab 08:33 / Lugano an 10:28\nLugano\, Bellavista ab 10.33 mit Bus B 2 Richtung Castagnola\nCastagnola\, Paese an 10:48\n(Der nächste Bus fährt 15 Minuten später) \nRückfahrt ab Lugano:\nxx:03 / xx:30 \nVerpflegung aus dem Rucksack \nAnmeldungen\nkönnen durch eingeloggte Benutzer unten im Kommentarfeld eingetragen werden. \nBeat\nhttps://wmf-pfanniblog-2.blogspot.com/\nhttps://www.youtube.com/@beatwmf2059
URL:https://wandern-mit-freunden.ch/event/mittwoch-castagnola-gandria-lugano-ti/
CATEGORIES:Geplante Wanderungen,Wanderung
END:VEVENT
BEGIN:VEVENT
DTSTART;TZID=Europe/Zurich:20260215T100000
DTEND;TZID=Europe/Zurich:20260215T150000
DTSTAMP:20260424T070742
CREATED:20260214T084738Z
LAST-MODIFIED:20260214T084738Z
UID:10001350-1771149600-1771167600@wandern-mit-freunden.ch
SUMMARY:Winterwanderung in Obertschappina
DESCRIPTION:Liebe Wanderfreunde \nAm Sonntag 15.2.26 machen wir eine Winterwanderung in Obertschappina.  Obertschappina-Oberurmein-Obergmein-Abstecher Luschersee wenn der Weg begehbar ist-Bruneir-Obertschappina. \n  \nStreckenlänge: 11.3 km                                           526m ufä und abä                                    ca 4h reine Wanderzeit \nTour auf Schweizmobil \n  \nAnfahrt ab Zürich HB: Zürich ab 07:38/ Chur an 08:52\, ab 08:58/ Thusis an 09:34\, ab 09:34 (mit B 531 Kante E) / Tschappina\, Skilift an 09:56  \nRückfahrt ab Obertschappina xx:01 \n  \nEssen aus dem Rucksack \n  \nAnmeldungen können durch eingeloggte Benutzer unten im Kommentarfeld eingetragen werden. \n Maximal 10 Personen
URL:https://wandern-mit-freunden.ch/event/winterwanderung-in-obertschappina/
CATEGORIES:Geplante Wanderungen,Winter-Wanderung
END:VEVENT
BEGIN:VEVENT
DTSTART;TZID=Europe/Zurich:20260218T100000
DTEND;TZID=Europe/Zurich:20260218T150000
DTSTAMP:20260424T070742
CREATED:20260216T141542Z
LAST-MODIFIED:20260216T141542Z
UID:10001351-1771408800-1771426800@wandern-mit-freunden.ch
SUMMARY:MITTWOCH: Bioggio - Mugena - Cademario (TI)
DESCRIPTION:Max. Gruppengrösse: 10 Personen \nAm kommenden Mittwoch (18.02.26)\nwandern wir ab Bioggio via Bosco Luganese hinauf nach Mugena und weiter bis nach Cademario. \nGeplante Wanderroute:\nBioggio / FLP-Haltestelle (292m)\nOratorium Sant’Ilario (396m) – Bosco Luganese (529m)\nP. 561 – P. 573 – Grotto Sgambada (844m)\nMugena (813m) – Carocc (697m)\nCademario\, Kurhaus (820m) / Bus-Haltestelle \nStreckenlänge:\nca. 12 km\, 845 m aufwärts\, 320 m abwärts\, 4 Std.\, T1-T2 \nRoute auf SchweizMobil.ch:\nL I N K \n \nWanderung vor 4 Jahren:\n02.02.22 / Bioggio – Bosco Luganese – Alpe Agra – Mugena – Arosio (TI) \nFahrplan ab Zürich HB:\nZürich HB ab 07:33\nLugano an 09:28 / ab 09:39 (mit FLP Richtung Ponte Tresa)\nBioggio an 09:51 \nRückfahrt ab Cademario\, Kurhaus:\nxx:12 \nVerpflegung aus dem Rucksack \nAnmeldungen\nkönnen durch eingeloggte Benutzer unten im Kommentarfeld eingetragen werden. \nBeat\nhttps://wmf-pfanniblog-2.blogspot.com/\nhttps://www.youtube.com/@beatwmf2059
URL:https://wandern-mit-freunden.ch/event/mittwoch-bioggio-mugena-cademario-ti/
CATEGORIES:Geplante Wanderungen,Wanderung
END:VEVENT
BEGIN:VEVENT
DTSTART;TZID=Europe/Zurich:20260221T100000
DTEND;TZID=Europe/Zurich:20260221T160000
DTSTAMP:20260424T070742
CREATED:20260219T161139Z
LAST-MODIFIED:20260219T161140Z
UID:10001352-1771668000-1771689600@wandern-mit-freunden.ch
SUMMARY:SAMSTAG: Mendrisio - Tremona - Besazio - Stabio (TI)
DESCRIPTION:Max. Gruppengrösse: 10 Personen \nAm kommenden Samstag (21.02.26)\nwandern wir ab Mendrisio S. Martino hinauf nach Tremona und via Besazio weiter bis nach Stabio. \nGeplante Wanderroute:\nMendrisio S. Martino (310m) / Bahnstation\nRuderi del Castello / Parco archeologico di Tremona*) (651m)\nTremona (572m) – Besazio (493m)\nMonte Astorio (474m) – Parco del Castello Stabio (380m)\nStabio (340m) / Bahnstation \n*)Hinweis:\nDer Archäologische Park in Tremona ist erst ab März wieder geöffnet.\nVermutlich ist das Gelände auf dem Hügel trotzdem begehbar!\nhttps://www.parco-archeologico.ch/de/ \nStreckenlänge:\nca. 14 km\, 590 m aufwärts\, 560 m abwärts\, 4 Std.\, T2 \nRoute auf SchweizMobil.ch:\nL I N K \n \nWanderung vor 4 Jahren:\n11.12.21 / Capolago – Meride – Tremona – Besazio – Stabio (TI) \nFahrplan ab Zürich HB:\nZürich HB ab 07:33\nLugano an 09:28 / ab 09:36 (mit S 10 Richtung Como)\nMendrisio S. Martino an 09:54 \nRückfahrt ab Stabio:\nxx:23 / xx:53 \nVerpflegung aus dem Rucksack \nAnmeldungen\nkönnen durch eingeloggte Benutzer unten im Kommentarfeld eingetragen werden. \nBeat\nhttps://wmf-pfanniblog-2.blogspot.com/\nhttps://www.youtube.com/@beatwmf2059
URL:https://wandern-mit-freunden.ch/event/samstag-mendrisio-tremona-besazio-stabio-ti/
CATEGORIES:Geplante Wanderungen,Wanderung
END:VEVENT
BEGIN:VEVENT
DTSTART;TZID=Europe/Zurich:20260225T113000
DTEND;TZID=Europe/Zurich:20260225T160000
DTSTAMP:20260424T070742
CREATED:20260224T075246Z
LAST-MODIFIED:20260224T075246Z
UID:10001355-1772019000-1772035200@wandern-mit-freunden.ch
SUMMARY:Zu den Märzenbechern im Mattetäli
DESCRIPTION:Befor es am Samstag nochmals in der Winter geht hoffe ich\, dass der Frühling im Mattetäli nicht fast schon vorbei ist. \nDaher wandern wir am Mittwoch 25.2.26 von Safenwil via Rothacker ins Mattental. Danach geht es weiter über Engelberg nach Olten. Späte Anfahrt wegen Sonnenstunden. \n  \nStreckenlänge: 10.5km                               332m ufä und 406m abä                           3h reine Wanderzeit \nRoute auf Schweizmobil  \n  \nAnfahrt ab Zürich HB: Zürich ab 11:08/ Lenzburg an 11:27\, ab 10:37/ Safenwil an 11:58 \nRückfahrt ab Olten allpott \n  \nEssen aus dem Rucksack. \nAnmeldungen könne durch eingeloggte Benutzer unten im Kommentarfeld eingetragen werden. \nMaximal 10 Personen \n  \nEure Barbara
URL:https://wandern-mit-freunden.ch/event/zu-den-maerzenbechern-im-mattetaeli-2/
CATEGORIES:Geplante Wanderungen,Wanderung
END:VEVENT
END:VCALENDAR