BEGIN:VCALENDAR
VERSION:2.0
PRODID:-//Wandern mit Freunden - ECPv6.15.20//NONSGML v1.0//EN
CALSCALE:GREGORIAN
METHOD:PUBLISH
X-ORIGINAL-URL:https://wandern-mit-freunden.ch
X-WR-CALDESC:Veranstaltungen im Wandern mit Freunden
REFRESH-INTERVAL;VALUE=DURATION:PT1H
X-Robots-Tag:noindex
X-PUBLISHED-TTL:PT1H
BEGIN:VTIMEZONE
TZID:Europe/Zurich
BEGIN:DAYLIGHT
TZOFFSETFROM:+0100
TZOFFSETTO:+0200
TZNAME:CEST
DTSTART:20250330T010000
END:DAYLIGHT
BEGIN:STANDARD
TZOFFSETFROM:+0200
TZOFFSETTO:+0100
TZNAME:CET
DTSTART:20251026T010000
END:STANDARD
BEGIN:DAYLIGHT
TZOFFSETFROM:+0100
TZOFFSETTO:+0200
TZNAME:CEST
DTSTART:20260329T010000
END:DAYLIGHT
BEGIN:STANDARD
TZOFFSETFROM:+0200
TZOFFSETTO:+0100
TZNAME:CET
DTSTART:20261025T010000
END:STANDARD
BEGIN:DAYLIGHT
TZOFFSETFROM:+0100
TZOFFSETTO:+0200
TZNAME:CEST
DTSTART:20270328T010000
END:DAYLIGHT
BEGIN:STANDARD
TZOFFSETFROM:+0200
TZOFFSETTO:+0100
TZNAME:CET
DTSTART:20271031T010000
END:STANDARD
END:VTIMEZONE
BEGIN:VEVENT
DTSTART;TZID=Europe/Zurich:20260101T100000
DTEND;TZID=Europe/Zurich:20260101T170000
DTSTAMP:20260424T082835
CREATED:20251229T214630Z
LAST-MODIFIED:20251230T102206Z
UID:10001337-1767261600-1767286800@wandern-mit-freunden.ch
SUMMARY:Winterwanderweg in Zermatt
DESCRIPTION:Am Donnerstag 1.1.26 starten wir das neue Jahr mit einer Winterwanderung mit mehr oder weniger Schnee. \nWir wandern von Zermatt nach Zmutt. Weiter geht es über Furi\, Zum See\, Steinmatt und Oberhäusern zurück nach Zermatt. \n  \nStreckenlänge: 11.9km /  559m ufä und abä  /  ca 4h 30 min reine Wanderzeit. Abkürzbar \nRoute auf Schweizmobil \n  \nAnfahrt ab Zürich HB: Zürich ab 07:02/ Bern an 07:58\, ab 08:07/ Visp an 09:04\, ab 09:11/ Zermatt an 10:17 \nRückfahrt ab Zermatt 16:37/ 17:37/ 18:06 \n  \nEssen aus dem Rucksack \n  \nAnmeldungen können durch eingeloggte Benutzer unten im Kommentarfeld eingetragen werden. \nmaximal 10 Personen \nBarbara
URL:https://wandern-mit-freunden.ch/event/voraussichtlich-winterwanderweg-in-zermatt/
CATEGORIES:Geplante Wanderungen,Winter-Wanderung
END:VEVENT
BEGIN:VEVENT
DTSTART;TZID=Europe/Zurich:20260106T103000
DTEND;TZID=Europe/Zurich:20260106T170000
DTSTAMP:20260424T082835
CREATED:20260102T120405Z
LAST-MODIFIED:20260105T083347Z
UID:10001338-1767695400-1767718800@wandern-mit-freunden.ch
SUMMARY:Alle Jahre wieder: Kaffi und 3 Königskuchen mit vorheriger kurzer Wanderung
DESCRIPTION:Liebe Wanderfreunde \nSchon bald traditionell wandern wir am 6. Januar auf einer kleinen Route zu mir nach Hause. \nIch habe bereits wieder zwei dieser 3 Königskuchen der Bio Bäckerei aus Ötwil am See bestellt. Darin sind besonders schnügeligi Könige versteckt. \n \n  \nWanderroute: Küsnachter Tobel-Zollikon-ZH Seefeld \n  \nFahrplan ab Zürich HB: Zürich ab 10:15 (Stadelhofen ab 10:18)/ Küsnacht ZH an 10:27 \nRückfahrt ab Tramhaltestelle Höschgasse \n  \nMittagessen aus dem Rucksack \nMaximal 10 Personen \nIch freue mich! Barbara
URL:https://wandern-mit-freunden.ch/event/alle-jahre-wieder-kaffi-und-3-koenigskuchen-mit-vorheriger-kurzer-wanderung/
CATEGORIES:Geplante Wanderungen,Sonstige Ausflüge,Wanderung
END:VEVENT
BEGIN:VEVENT
DTSTART;TZID=Europe/Zurich:20260111T103000
DTEND;TZID=Europe/Zurich:20260111T150000
DTSTAMP:20260424T082835
CREATED:20260108T081148Z
LAST-MODIFIED:20260109T110247Z
UID:10001339-1768127400-1768143600@wandern-mit-freunden.ch
SUMMARY:SONNTAG: Montagnola - Collina-d'Oro - Lugano (TI)
DESCRIPTION:Max. Gruppengrösse: 10 Personen \nWanderung auf Sonntag verschoben. \nAm kommenden SONNTAG (11.01.26)\nwandern wir ab Montagnola über den Collina-d’Oro-Hügel zurück nach Montagnola\nund weiter bis Lugano-Stazione. \nGeplante Wanderroute:\nCertenago\, Paese (435m) Bus-Haltestelle\nMontagnola (467m) – Bigogno (542m)\nAgra (558m) – Roncone (502m)\nCollina-d’Oro-Hügel – Montagnola\nSant’Abbondio (409m) – Parco Tassino (360m)\nLugano (330m) / Bahnstation \nStreckenlänge:\nca. 13 km\, 400 m aufwärts\, 510 m abwärts\, 3.5 Std.\, T1-T2 \nRoute auf SchweizMobil.ch:\nL I N K \n \nFahrplan ab Zürich HB (geändert!)\nZürich HB ab 07:33 / Lugano an 09:28\nStartkaffi im Bahnhof-Buffet\nLugano\, Stazione Via Sorengo ab 10:13 (mit Bus B 436 Richtung Agra)\nCertenago\, Paese an 10:20 \nRückfahrt ab Lugano:\nxx:30 / xx:58 \nVerpflegung aus dem Rucksack \nAnmeldungen\nkönnen durch eingeloggte Benutzer unten im Kommentarfeld eingetragen werden. \nBeat\nhttps://wmf-pfanniblog-2.blogspot.com/\nhttps://www.youtube.com/@beatwmf2059
URL:https://wandern-mit-freunden.ch/event/samstag-montagnola-collina-doro-lugano-ti/
CATEGORIES:Geplante Wanderungen,Wanderung
END:VEVENT
BEGIN:VEVENT
DTSTART;TZID=Europe/Zurich:20260115T094500
DTEND;TZID=Europe/Zurich:20260115T150000
DTSTAMP:20260424T082835
CREATED:20260113T094150Z
LAST-MODIFIED:20260113T094953Z
UID:10001340-1768470300-1768489200@wandern-mit-freunden.ch
SUMMARY:DONNERSTAG: Winterwanderung ab Flumserberg-Tannenboden (SG)
DESCRIPTION:Max. Gruppengrösse: 10 Personen \nAm kommenden Donnerstag (15.01.26)\nunternehmen wir eine Winterwanderung (ohne Schneeschuhe) am Flumserberg. \nGeplante Wanderroute:\nFlumserberg / Tannenboden (1380m)\nProdalp (1576m) – Obersäss / Chrüz (1600m)\nAbstecher zur Seebenalp am Grosssee (1620m)\nAuf der Winterwanderroute 171 zurück zum Tannenboden \nStreckenlänge:\nca. 12 km\, 600 m auf- und abwärts\, 4 Std.\, T1-T2 \nBerg- und Talfahrt:\nGondelbahn Unterterzen – Oberterzen – Flumserberg-Tannenboden\n(GA gültig!) \nRoute auf SchweizMobil.ch:\nL I N K \n \nWanderung vor 4 Jahren:\n15.12.21 / Winterwanderung am Flumserberg (SG) \nFahrplan ab Zürich HB:\nZürich HB ab 08:12 / Unterterzen an 09:10\nca. 20-Minuten-Bergfahrt mit Gondelbahn\nFlumserberg Tannenboden an ca. 09:45 \nRückfahrt\nab Flumserberg Tannenboden mit Gondelbahn\nUnterterzen ab xx:18 / xx:48 \nVerpflegung aus dem Rucksack \nAnmeldungen\nkönnen durch eingeloggte Benutzer unten im Kommentarfeld eingetragen werden. \nBeat\nhttps://wmf-pfanniblog-2.blogspot.com/\nhttps://www.youtube.com/@beatwmf2059
URL:https://wandern-mit-freunden.ch/event/donnerstag-winterwanderung-ab-flumserberg-tannenboden-sg/
CATEGORIES:Geplante Wanderungen,Winter-Wanderung
END:VEVENT
BEGIN:VEVENT
DTSTART;TZID=Europe/Zurich:20260117T100000
DTEND;TZID=Europe/Zurich:20260117T150000
DTSTAMP:20260424T082835
CREATED:20260116T050631Z
LAST-MODIFIED:20260116T050909Z
UID:10001341-1768644000-1768662000@wandern-mit-freunden.ch
SUMMARY:SAMSTAG: Gais - Sommersberg - Stoss - Gais (AR)
DESCRIPTION:Max. Gruppengrösse: 10 Personen \nMorgen Samstag (17.01.25)\nbegehen wir den «Winterwanderweg Gais»\, mit Verlängerung über den Sommersberg. \nGeplante Wanderroute:\nGais (916m) / Bahnstation\nObere Egg (1032m) – Sommersberg (1173m / 1178m)\nStein (1036m) – Stoss (944m)\nStoss / Schlachtdenkmal (950m)\nRietli (947m) – Oberzwislen (917m) – Hohegg (940m)\nGais (916m) / Bahnstation \nStreckenlänge:\nca. 10 km\, 350 m auf- und abwärts\, 3.5 Std.\, T1-T2 \nInfos (Gegenrichtung):\nSchweizMobil-Route 135 / Winterwanderweg Gais \nHinweis:\nIm Wandergebiet liegt stellenweise bis max. ca. 20 cm Schnee.\nEvtl. muss die Route etwas geändert werden. \nRoute auf SchweizMobil.ch:\nL I N K \n \nFahrplan ab Zürich HB:\nZürich HB ab 08:02\nSt. Gallen an 09:02 / ab 09:22\nGais an 09:49 \nRückfahrt ab Gais:\nxx:27 / xx:57 \nVerpflegung aus dem Rucksack \nAnmeldungen\nkönnen durch eingeloggte Benutzer unten im Kommentarfeld eingetragen werden. \nBeat\nhttps://wmf-pfanniblog-2.blogspot.com/\nhttps://www.youtube.com/@beatwmf2059
URL:https://wandern-mit-freunden.ch/event/samstag-gais-sommersberg-stoss-gais-ar/
CATEGORIES:Geplante Wanderungen,Winter-Wanderung
END:VEVENT
BEGIN:VEVENT
DTSTART;TZID=Europe/Zurich:20260121T100000
DTEND;TZID=Europe/Zurich:20260121T170000
DTSTAMP:20260424T082835
CREATED:20260118T150548Z
LAST-MODIFIED:20260119T154455Z
UID:10001342-1768989600-1769014800@wandern-mit-freunden.ch
SUMMARY:Sunnbüel-Schwarenbach-Gemmipass
DESCRIPTION:Am Mittwoch 21.1.26 wandern wir auf dem Winterwanderweg von Sunnbüel über Schwarenbach zum Gemmipass. \n  \nStreckenlänge: 8.6km                            517m ufä und 108m abä                       ca 4h reine Wanderzeit \nRoute auf Schweizmobil \n  \nAnfahrt ab Zürich HB: Zürich ab 07:32/ Bern an 08:28\, ab 08:39 (auf Zugteil achten. Richtung Brig)/ Kandersteg an 09:40\, ab 09:44 (mit Bus 241)/ Kandersteg\, Talstat. Sunnbüel an 09:54\, ab 10:00 mit Gondelbahn (15.- mit GA/Halbtax) \nRückfahrt ab Gemmipass (Luftseilbahn 15.- mit GA/Halbtax) via Leukerbad\, Leuk\, Visp.. \n  \nEssen aus dem Rücksack. Einkehr eventuell in Schwarenbach \nSelbe Tour vom 1.2.17 \n  \nAnmeldungen können durch eingeloggte Benutzer unten im Kommentarfeld eingetragen werden. \nMaximal 10 Personen
URL:https://wandern-mit-freunden.ch/event/voraussichtlich-sunnbueel-schwarenbach-gemmipass/
CATEGORIES:Geplante Wanderungen,Wanderung,Winter-Wanderung
END:VEVENT
BEGIN:VEVENT
DTSTART;TZID=Europe/Zurich:20260124T100000
DTEND;TZID=Europe/Zurich:20260124T150000
DTSTAMP:20260424T082835
CREATED:20260122T145526Z
LAST-MODIFIED:20260125T071236Z
UID:10001343-1769248800-1769266800@wandern-mit-freunden.ch
SUMMARY:SAMSTAG: Rütihof - Altberg - Killwangen (ZH/AG)
DESCRIPTION:Max. Gruppengrösse: 10 Personen \nAm kommenden Samstag (24.01.26)\nwandern wir ab Zürich-Rütihof über den Altberg nach Killwangen. \nGeplante Wanderroute:\nRütihof (Zürich) (490m) / Bus-Haltestelle\nSonnenberg (480m) – Chilenspitzberg (461m)\nAltberg (629m) / mit Aussichtsturm und Restaurant\nOetwil an der Limmat (404m) – Limmatuferweg\nKillwangen-Spreitenbach (393m) / Bahnstation \nStreckenlänge:\nca. 15 km\, 390 m aufwärts\, 490 m abwärts\, 4 Std.\, T1-T2 \nRoute auf SchweizMobil.ch:\nL I N K \n \nFahrplan ab Zürich:\nZürich\, Bahnhofquai/HB ab 09:34 mit Bus B46 Richtung Zürich\, Rütihof\nZürich\, Rütihof an 09:56 \nHinweis:\nDer Bus B46 fährt ab Haltestelle Bahnhofquai/HB alle 10 Minuten! \nStandort der Bus-Haltestelle:\n \nRückfahrt\nab Bahnstation Killwangen-Spreitenbach: \nVerpflegung aus dem Rucksack \nAnmeldungen\nkönnen durch eingeloggte Benutzer unten im Kommentarfeld eingetragen werden. \nBeat\nhttps://wmf-pfanniblog-2.blogspot.com/\nhttps://www.youtube.com/@beatwmf2059
URL:https://wandern-mit-freunden.ch/event/samstag-ruetihof-altberg-killwangen-zh-ag/
CATEGORIES:Geplante Wanderungen,Wanderung
END:VEVENT
BEGIN:VEVENT
DTSTART;TZID=Europe/Zurich:20260128T093000
DTEND;TZID=Europe/Zurich:20260128T140000
DTSTAMP:20260424T082835
CREATED:20260126T102044Z
LAST-MODIFIED:20260126T102045Z
UID:10001344-1769592600-1769608800@wandern-mit-freunden.ch
SUMMARY:MITTWOCH: Sihlsee-Winterwanderweg ab Einsiedeln (SZ)
DESCRIPTION:HINWEIS:\nFür Einsiedeln ist am Mittwoch leichter Schneefall angesagt.\nFalls das Wetter zu ungemütlich wird\,\nkürzen wir die Route ab und gehen vorzeitig ins Restaurant Tulipan. \nAm kommenden Mittwoch (28.01.26)\nwandern wir ab Einsiedeln auf dem Sihlsee-Winterwanderweg. \nGeplante Wanderroute:\nEinsiedeln (880m) / Bahnstation\nHauptstrasse zum Klosterplatz (900m)\nLincoln (924m) – Hühnermatt am Sihlsee (892m)\nBad (894m) – Tiefenbrüggli (923m)\nGalgenchappeli (929m) – Paracelsuspark (906m)\nEinsiedeln (880m) / Bahnstation \nStreckenlänge:\nca. 11 km\, 170 m auf- und abwärts\, 3 Std.\, T1 \nRouteninfos auf SchweizMobil:\nRoute 555 / Sihlsee-Winterwanderweg \nRoute auf SchweizMobil.ch:\nL I N K\n(verlängert ab/bis Bahnhof Einsiedeln) \n \nFahrplan ab Zürich HB:\nZürich HB ab 08:43\nWädenswil an 09:00 / ab 09:10\nEinsiedeln an 09:33 \nRückfahrt ab Einsiedeln:\nxx:24 / xx:59 \nVerpflegung aus dem Rucksack \nAnmeldungen\nkönnen durch eingeloggte Benutzer unten im Kommentarfeld eingetragen werden. \nBeat\nhttps://wmf-pfanniblog-2.blogspot.com/\nhttps://www.youtube.com/@beatwmf2059
URL:https://wandern-mit-freunden.ch/event/mittwoch-sihlsee-winterwanderweg-ab-einsiedeln-sz/
CATEGORIES:Geplante Wanderungen,Wanderung
END:VEVENT
BEGIN:VEVENT
DTSTART;TZID=Europe/Zurich:20260131T093000
DTEND;TZID=Europe/Zurich:20260131T150000
DTSTAMP:20260424T082835
CREATED:20260129T115947Z
LAST-MODIFIED:20260129T115947Z
UID:10001345-1769851800-1769871600@wandern-mit-freunden.ch
SUMMARY:SAMSTAG: Von Klosters zur Alp Garfiun (GR)
DESCRIPTION:Am kommenden Samstag (31.01.26)\nbegehen wir den Winterwanderweg zwischen Klosters und der Alp Garfiun. \nGeplante Wanderroute:\nSiehe Routeninfos auf schweizer-wanderwege.ch: Von Klosters zur Alp Garfiun\nhttps://www.schweizer-wanderwege.ch/de/wandervorschlaege/1385/Von-Klosters-zur-Alp-Garfiun \nStreckenlänge:\nca. 14 km\, 265 m auf- und abwärts\, 4 Std.\, T1 \nRoute auf SchweizMobil.ch:\nL I N K \n \nHerbstwanderung vor 5 Jahren:\n04.09.21 / Rundwanderung ab Klosters-Platz via Alp Garfiun (GR) \nFahrplan ab Zürich HB:\nZürich HB ab 07:38\nLandquart an 08:41 / ab 08:49\nKlosters Platz an 09:28 \nRückfahrt ab Klosters Platz:\nxx:00 / xx:30 \nVerpflegung aus dem Rucksack \nEinkehrmöglichkeit:\nBergrestaurant Alp Garfiun \nAnmeldungen\nkönnen durch eingeloggte Benutzer unten im Kommentarfeld eingetragen werden. \nBeat\nhttps://wmf-pfanniblog-2.blogspot.com/\nhttps://www.youtube.com/@beatwmf2059
URL:https://wandern-mit-freunden.ch/event/samstag-von-klosters-zur-alp-garfiun-gr/
CATEGORIES:Geplante Wanderungen,Winter-Wanderung
END:VEVENT
END:VCALENDAR