BEGIN:VCALENDAR
VERSION:2.0
PRODID:-//Wandern mit Freunden - ECPv6.15.20//NONSGML v1.0//EN
CALSCALE:GREGORIAN
METHOD:PUBLISH
X-ORIGINAL-URL:https://wandern-mit-freunden.ch
X-WR-CALDESC:Veranstaltungen im Wandern mit Freunden
REFRESH-INTERVAL;VALUE=DURATION:PT1H
X-Robots-Tag:noindex
X-PUBLISHED-TTL:PT1H
BEGIN:VTIMEZONE
TZID:Europe/Zurich
BEGIN:DAYLIGHT
TZOFFSETFROM:+0100
TZOFFSETTO:+0200
TZNAME:CEST
DTSTART:20230326T010000
END:DAYLIGHT
BEGIN:STANDARD
TZOFFSETFROM:+0200
TZOFFSETTO:+0100
TZNAME:CET
DTSTART:20231029T010000
END:STANDARD
BEGIN:DAYLIGHT
TZOFFSETFROM:+0100
TZOFFSETTO:+0200
TZNAME:CEST
DTSTART:20240331T010000
END:DAYLIGHT
BEGIN:STANDARD
TZOFFSETFROM:+0200
TZOFFSETTO:+0100
TZNAME:CET
DTSTART:20241027T010000
END:STANDARD
BEGIN:DAYLIGHT
TZOFFSETFROM:+0100
TZOFFSETTO:+0200
TZNAME:CEST
DTSTART:20250330T010000
END:DAYLIGHT
BEGIN:STANDARD
TZOFFSETFROM:+0200
TZOFFSETTO:+0100
TZNAME:CET
DTSTART:20251026T010000
END:STANDARD
END:VTIMEZONE
BEGIN:VEVENT
DTSTART;TZID=Europe/Zurich:20240907T070000
DTEND;TZID=Europe/Zurich:20240908T170000
DTSTAMP:20260425T132848
CREATED:20240728T110506Z
LAST-MODIFIED:20241001T123809Z
UID:10001171-1725692400-1725814800@wandern-mit-freunden.ch
SUMMARY:AUSGEBUCHT/ Ein Wochenende mit Übernachtung in  Saanen
DESCRIPTION:Liebe Wanderfreunde \nDieses Wochenende hatte ich letztes Jahr schon ausgeschrieben und wegen schlechtem Wetter wieder abgesagt. Ich konnte dann die Zimmerbuchung von der Jugendherberge verschieben auf SA 7.9 auf SO 8.9.24. \nDieses Mal ist die Buchung Fix. Das heisst eine Anmeldung ist Kostenpflichtig und wir werden bei schlechtem Wetter ein Alternativprogramm machen. Zum Beispiel: Kürzere Tour und Bowling oder so. Wäre in diesem Fall für Ideen offen! \n  \nGeplant wären folgende Wanderungen: \nTag 1 von der Lenk\, Leiterli Bergstation ( Ticket mit Halbtax 19.-) über Turnersattel und Dürrischilt nach Gstaad. \n  \nTag 2 von L Etivan über Col de Base nach Les Granger-Gérignoz. \n  \nDa dieses Mal nicht mehr alle\, die letztes Jahr angemeldet waren mitkommen können sind Plätze frei geworden. \nIch habe \n1 Zweier Zimmer  ( schon besetzt von Bettina und Lars) \n1 Familienzimmer für drei Personen ( Nur ein Hochbett und ein Doppelbett (mit zwei Matratzen)) \nund 3 Einzelzimmer \nAlle mit Dusche/ WC \nIch werde die Zimmer nach euren Präferenzen vernünftig aufteilen. \nMaximal 8 Personen. \nWeitere Infos wie Anfahrtszeiten gebe ich dann per erstellter WhatsApp Gruppe durch. \n  \nFreue mich auf weitere Anmeldungen! \nBarbara \n 
URL:https://wandern-mit-freunden.ch/event/ein-wochenende-mit-uebernachtung-in-saanen/
CATEGORIES:Geplante Wanderungen,Mehrtägige Wanderung,Wanderung
END:VEVENT
BEGIN:VEVENT
DTSTART;TZID=Europe/Zurich:20240914T100000
DTEND;TZID=Europe/Zurich:20240914T150000
DTSTAMP:20260425T132848
CREATED:20240912T051809Z
LAST-MODIFIED:20240912T051849Z
UID:10001185-1726308000-1726326000@wandern-mit-freunden.ch
SUMMARY:SAMSTAG: Lausanne - Lutry - Cully - St-Saphorin (VD)
DESCRIPTION:Max. Gruppengrösse: 10 Personen \nAm kommenden Samstag (14.09.24)\nwandern wir dem Genfersee entlang\, von Lausanne bis St-Saphorin. \nGeplante Wanderroute:\nLausanne (439m) / Bahnhof\nLausanne-Ouchy (375m) – Lutry (373m)\nCully (374m) – Rivaz (445m)\nSt-Saphorin (Lavaux) (404m / 380m) / Bahnstation \nStreckenlänge:\nca. 18 km\, 270 m aufwärts\, 330 m abwärts\, 4.5 Std.\, T1 \nRoute auf SchweizMobil.ch:\nL I N K \n \nRoutenInfos:\nSchweizMobil-Route 70 / ViaFrancigena / Etappe 4: Lausanne – Vevey \nFahrplan ab Zürich HB:\nZürich HB ab 07:30 / Lausanne an 09:45 \nRückfahrt ab St-Saphorin:\nxx:11 / xx:44 \nVerpflegung aus dem Rucksack \nAnmeldungen\nkönnen durch eingeloggte Benutzer unten im Kommentarfeld eingetragen werden. \nBeat\nhttps://wmf-pfanniblog-2.blogspot.com/\nhttps://www.youtube.com/@beatwmf2059
URL:https://wandern-mit-freunden.ch/event/samstag-lausanne-lutry-cully-st-saphorin-vd/
CATEGORIES:Geplante Wanderungen,Wanderung
END:VEVENT
BEGIN:VEVENT
DTSTART;TZID=Europe/Zurich:20240918T100000
DTEND;TZID=Europe/Zurich:20240918T150000
DTSTAMP:20260425T132848
CREATED:20240915T154026Z
LAST-MODIFIED:20240916T115819Z
UID:10001186-1726653600-1726671600@wandern-mit-freunden.ch
SUMMARY:MITTWOCH: Flims Waldhaus - Startgels - Foppa - Fidaz - Flims Dorf (GR)
DESCRIPTION:Max. Gruppengrösse: 10 Personen \nAm kommenden Mittwoch (18.09.24)\nwandern wir ab Flims Waldhaus hinauf bis Startgels\nund über Foppa und Fidaz\, dem Flimserstein entlang\, hinunter bis Flims Dorf. \nGeplante Wanderroute:\nFlims Waldhaus\, Camping (1112m) / Postauto-Haltestelle\nLag Prau Pulté (1121m) – Runcahöhe (1336m)\nFlimser Wasserweg – Startgels (1589m)\nFoppa (1429m) – Scheia (1220m) – Fidaz (1188m)\nFlims Dorf\, Post (1074m) / Postauto-Haltestelle \nStreckenlänge:\nca. 14 km\, 640 m aufwärts\, 675 m abwärts\, 4:15 Std.\, T2 \nRoute auf SchweizMobil.ch:\nL I N K \n \nFahrplan ab Zürich HB:\nZürich HB ab 08:07\nChur an 09:22 / ab 09:28 (Kante N mit Bus B 81 Richtung Falera)\nFlims Waldhaus\, Camping an 10:07 \nRückfahrt ab Flims Dorf\, Post:\nxx:28 / xx:58 \nVerpflegung aus dem Rucksack \nAnmeldungen\nkönnen durch eingeloggte Benutzer unten im Kommentarfeld eingetragen werden. \nBeat\nhttps://wmf-pfanniblog-2.blogspot.com/\nhttps://www.youtube.com/@beatwmf2059
URL:https://wandern-mit-freunden.ch/event/geplant-flims-waldhaus-startgels-foppa-fidaz-flims-dorf-gr/
CATEGORIES:Geplante Wanderungen,Wanderung
END:VEVENT
BEGIN:VEVENT
DTSTART;TZID=Europe/Zurich:20240921T100000
DTEND;TZID=Europe/Zurich:20240921T160000
DTSTAMP:20260425T132848
CREATED:20240919T184935Z
LAST-MODIFIED:20241001T123644Z
UID:10001184-1726912800-1726934400@wandern-mit-freunden.ch
SUMMARY:Glaubenberg-Hängebrücke Chessiloch-Chessiloch-Flühli LU
DESCRIPTION:Am Samstag 21.9.24 wandern wir von Glaubenberg\, Passhöhe via Seewenseeli\, Stäldeli und über die Hängebrücke Chessiloch zum Chessiloch. Über die Schwandalp geht es danach noch bis Flühli LU. \n  \nStreckenlänge: 13.44km                             382m ufä/1042m abä                                      ca 4h reine Wanderzeit \n  \n  \nAnfahrt ab Zürich HB: Zürich ab 08:10/ Luzern an 08:51\, ab 08:57/ Entlebuch an 09:22\, ab 09:25 ( mit Bus 232) / Glaubenberg\, Passhöhe an 09:54 \nRückfahrt ab Flühli LU\, Post xx:07 \n  \nEssen aus dem Rucksack \n  \nMindestens 3/ Maximal 10 Personen \nAnmeldungen können durch eingeloggte Benutzer unten im Kommentarfeld eingetragen werden. \n  \nBarbara
URL:https://wandern-mit-freunden.ch/event/glaubenberg-haengebruecke-chessiloch-chessiloch-fluehli-lu/
CATEGORIES:Geplante Wanderungen,Wanderung
END:VEVENT
BEGIN:VEVENT
DTSTART;TZID=Europe/Zurich:20240925T100000
DTEND;TZID=Europe/Zurich:20240925T150000
DTSTAMP:20260425T132848
CREATED:20240922T140029Z
LAST-MODIFIED:20240926T063548Z
UID:10001189-1727258400-1727276400@wandern-mit-freunden.ch
SUMMARY:MITTWOCH: Steinfluh - Spitzli - Urnäsch (AR)
DESCRIPTION:Max. Gruppengrösse: 10 Personen \nAm kommenden Mittwoch (25.09.24)\nwandern wir von Steinfluh (an der Strasse zur Schwägalp)\nhinauf zum Spitzli und steigen ab über die Petersalp nach Urnäsch. \nGeplante Wanderroute:\nSteinfluh (985m) / Postauto-Haltestelle\nOber-Gerstengschwend (1277m) – Gschwendsattel (1434m)\nAbstecher zum Spitzli (1519m)\nUnter-Petersalp (1315m) – Blattendürren (1080m)\nOsteregg (1043m) – Chräg (916m)\nUrnäsch (824m) / Bahnstation \nStreckenlänge:\nca. 9km\, 630 m aufwärts\, 780 m abwärts\, 3.5 Std.\, T2 \nRoute auf SchweizMobil.ch:\nL I N K \n \nFahrplan ab Zürich HB:\nZürich HB ab 08:09\nGossau SG an 09:14 / ab 09:21\nUrnäsch an 09:43 / ab 09:47 (mit Postauto Richtung Schwägalp)\nSteinfluh an 09:53 \nRückfahrt ab Urnäsch\nxx:15 / xx:45 \nVerpflegung aus dem Rucksack \nAnmeldungen\nkönnen durch eingeloggte Benutzer unten im Kommentarfeld eingetragen werden. \nBeat\nhttps://wmf-pfanniblog-2.blogspot.com/\nhttps://www.youtube.com/@beatwmf2059
URL:https://wandern-mit-freunden.ch/event/geplant-steinfluh-spitzli-unaesch-ar/
CATEGORIES:Geplante Wanderungen,Wanderung
END:VEVENT
BEGIN:VEVENT
DTSTART;TZID=Europe/Zurich:20240928T090000
DTEND;TZID=Europe/Zurich:20240928T160000
DTSTAMP:20260425T132848
CREATED:20240925T181521Z
LAST-MODIFIED:20241001T123714Z
UID:10001190-1727514000-1727539200@wandern-mit-freunden.ch
SUMMARY:Claro e il suo Monastero
DESCRIPTION:Am Samstag 28.9.24 wandern wir von Cresciano\, Paese erst ein Stück dem Ticino entlang dann nach Scubiago und Ciaro. Nach einem kleinen Abstecher zu den Ruderi del Castello dei Magoria geht es weiter via Ruderi del Castello di Clara zum Monastero di Santa Maria. Via Valle del Mulino geht es dann zurück nach Clara\, Ponton. \n  \nStreckenlänge: 12.5km                                           599m ufä/ 589m abä                                  ca 4h reine Wanderzeit \n  \n  \nAnfahrt ab Zürich HB: Zürich ab 07:05/ Bellinzona an 08:42\,* ab 08:47 ( Bus 221\, Richtung Biasca\, Stazione Kante A) / Cresciano\, Paese an 09:07 \n*knappe Umsteigezeit! Sollte der Zürizug etwas verspätet sein können wir auch 08:50 auf die S10 Richtung Biasca und in Castione-Arbedo auf den Bus umsteigen. \nRückfahrt voraussichtlich ab Claro\, Ponton xx:03 via Biasca oder xx:53 via Bellinzona. \n  \nEssen aus dem Rücksack \n  \nMindestens 3/ Maximal 10 Personen \nAnmeldungen können durch eingeloggte Benutzer unten im Kommentarfeld eingetragen werden. \n  \nBarbara
URL:https://wandern-mit-freunden.ch/event/claro-e-il-suo-monastero/
CATEGORIES:Geplante Wanderungen,Wanderung
END:VEVENT
END:VCALENDAR