BEGIN:VCALENDAR
VERSION:2.0
PRODID:-//Wandern mit Freunden - ECPv6.15.20//NONSGML v1.0//EN
CALSCALE:GREGORIAN
METHOD:PUBLISH
X-WR-CALNAME:Wandern mit Freunden
X-ORIGINAL-URL:https://wandern-mit-freunden.ch
X-WR-CALDESC:Veranstaltungen im Wandern mit Freunden
REFRESH-INTERVAL;VALUE=DURATION:PT1H
X-Robots-Tag:noindex
X-PUBLISHED-TTL:PT1H
BEGIN:VTIMEZONE
TZID:Europe/Zurich
BEGIN:DAYLIGHT
TZOFFSETFROM:+0100
TZOFFSETTO:+0200
TZNAME:CEST
DTSTART:20230326T010000
END:DAYLIGHT
BEGIN:STANDARD
TZOFFSETFROM:+0200
TZOFFSETTO:+0100
TZNAME:CET
DTSTART:20231029T010000
END:STANDARD
BEGIN:DAYLIGHT
TZOFFSETFROM:+0100
TZOFFSETTO:+0200
TZNAME:CEST
DTSTART:20240331T010000
END:DAYLIGHT
BEGIN:STANDARD
TZOFFSETFROM:+0200
TZOFFSETTO:+0100
TZNAME:CET
DTSTART:20241027T010000
END:STANDARD
BEGIN:DAYLIGHT
TZOFFSETFROM:+0100
TZOFFSETTO:+0200
TZNAME:CEST
DTSTART:20250330T010000
END:DAYLIGHT
BEGIN:STANDARD
TZOFFSETFROM:+0200
TZOFFSETTO:+0100
TZNAME:CET
DTSTART:20251026T010000
END:STANDARD
END:VTIMEZONE
BEGIN:VEVENT
DTSTART;TZID=Europe/Zurich:20240703T100000
DTEND;TZID=Europe/Zurich:20240703T160000
DTSTAMP:20260422T230506
CREATED:20240701T145254Z
LAST-MODIFIED:20240703T030756Z
UID:10001163-1720000800-1720022400@wandern-mit-freunden.ch
SUMMARY:MITTWOCH: Schifffahrt von Morges nach Genf (VD/GE)
DESCRIPTION:Max. Gruppengrösse: 10 Personen \nAm kommenden Mittwoch (03.07.24)\nfahren wir mit dem Schiff von Morges nach Genf\nund besuchen vorher bzw. nachher Parkanlagen in Morges und Genf. \n \nParkanlage in Morges:\nParc de l’Indépendance \n \nParkanlagen in Genf:\nParc la Grange / Jardin Anglais \n \nFahrplan ab Zürich HB:\nZürich HB ab 08:04 / Morges an 10:16 \nSchifffahrt ab Morges:\n(GA / TK gültig!)\nMorges (lac) ab 11:33\nSt-Prex (lac) – Rolle (lac) – Yvoire (F) (lac) – Nernier (F) (lac) – Nyon (lac) – Coppet (lac) – Versoix (lac)\nGenève-Eaux-Vives (lac) an 14:25 \nRückfahrt ab Genf:\nxx:15 / xx:42 \nVerpflegung aus dem Rucksack \nAnmeldungen\nkönnen durch eingeloggte Benutzer unten im Kommentarfeld eingetragen werden. \nBeat\nhttps://wmf-pfanniblog-2.blogspot.com/\nhttps://www.youtube.com/@beatwmf2059
URL:https://wandern-mit-freunden.ch/event/mitwoch-schifffahrt-von-morges-nach-genf-vd-ge/
CATEGORIES:Geplante Wanderungen,Sonstige Ausflüge,Wanderung
END:VEVENT
BEGIN:VEVENT
DTSTART;TZID=Europe/Zurich:20240706T090000
DTEND;TZID=Europe/Zurich:20240706T140000
DTSTAMP:20260422T230506
CREATED:20240704T125941Z
LAST-MODIFIED:20240707T050203Z
UID:10001164-1720256400-1720274400@wandern-mit-freunden.ch
SUMMARY:SAMSTAG: Buchs - Werdenberg - Sevelen (SG)
DESCRIPTION:Max. Gruppengrösse: 10 Personen \nAm kommenden Samstag (06.07.24)\nwandern wir von Buchs SG via Werdenberg nach Sevelen. \nGeplante Wanderroute:\nBuchs SG (447m) / Bahnhof\nWerdenberger See (446m) – Schloss Werdenberg\nAltendorf (485m) – Valgup (581m)\nSt. Ulrich (532m) – Gretschinser Riet (639m)\nSevelen (458m) / Bahnstation \nStreckenlänge:\nca. 15 km\, 490 m aufwärts\, 480 m abwärts\, 4 Std.\, T1-T2 \nRoute auf SchweizMobil.ch:\nL I N K \n \nFahrplan ab Zürich HB:\nZürich HB ab 07:43\nZiegelbrücke an 08:25 / ab 08:28\nBuchs SG an 09:12 \nRückfahrt:\nAb Sevelen\, Veltur oder Sevelen\, Bahnhof \nVerpflegung aus dem Rucksack \nAnmeldungen\nkönnen durch eingeloggte Benutzer unten im Kommentarfeld eingetragen werden. \nBeat\nhttps://wmf-pfanniblog-2.blogspot.com/\nhttps://www.youtube.com/@beatwmf2059
URL:https://wandern-mit-freunden.ch/event/samstag-buchs-werdenberg-sevelen-sg/
CATEGORIES:Geplante Wanderungen,Wanderung
END:VEVENT
BEGIN:VEVENT
DTSTART;TZID=Europe/Zurich:20240714T093000
DTEND;TZID=Europe/Zurich:20240714T150000
DTSTAMP:20260422T230506
CREATED:20240711T160323Z
LAST-MODIFIED:20240711T160324Z
UID:10001165-1720949400-1720969200@wandern-mit-freunden.ch
SUMMARY:SONNTAG: Gotschnaboden - Gotschnagrat - Parsennhütte - Davos (GR)
DESCRIPTION:Max. Gruppengrösse: 10 Personen \nAm Sonntag (14.07.24)\nwandern wir ab Gotschnaboden auf den Gotschnagrat\,\nweiter zur Parsennhütte und hinunter nach Davos Dorf. \nGeplante Wanderroute:\nGotschnaboden (1780m) / Zwischenstation der Gotschnabahn\nChalbersäss (1948m) – Gotschnagrat (2282m)\nPanoramaweg – Parsennhütte (2202m) – Panoramaweg\nMeierhof (1602m) – Tschuggen (1615m)\nDavos Dorf (1560m) / Bahnstation \nStreckenlänge:\nca. 14.5 km\, 690 m aufwärts\, 910 m abwärts\, 4.5 Std.\, T2 \nRoute auf SchweizMobil.ch:\nL I N K \n \nFahrplan ab Zürich HB:\nZürich HB ab 07:38\nLandquart an 08:41 / ab 08:47\nKlosters Platz an 09:28 \nBergfahrt\nmit der Gotschnabahn bis zur Zwischenstation Gotschnaboden\nTicket: 18 Franken \nRückfahrt ab Davos Dorf:\nxx:06 / xx:30 \nVerpflegung aus dem Rucksack \nAnmeldungen\nkönnen durch eingeloggte Benutzer unten im Kommentarfeld eingetragen werden. \nBeat\nhttps://wmf-pfanniblog-2.blogspot.com/\nhttps://www.youtube.com/@beatwmf2059
URL:https://wandern-mit-freunden.ch/event/sonntag-gotschnaboden-gotschnagrat-parsennhuette-davos-gr/
CATEGORIES:Geplante Wanderungen,Wanderung
END:VEVENT
BEGIN:VEVENT
DTSTART;TZID=Europe/Zurich:20240717T100000
DTEND;TZID=Europe/Zurich:20240717T150000
DTSTAMP:20260422T230506
CREATED:20240716T060656Z
LAST-MODIFIED:20240716T060953Z
UID:10001166-1721210400-1721228400@wandern-mit-freunden.ch
SUMMARY:MITTWOCH: Broc - Jaunbachschlucht - Charmey - Broc (FR)
DESCRIPTION:Max. Gruppengrösse: 10 Personen \nMorgen Mittwoch (17.07.24)\nunternehmen wir eine Rundwanderung zwischen Broc und Charmey\,\nmit Durchquerung der Jaunbachschlucht. \nGeplante Wanderroute:\nBroc-Chocolaterie (688m) / Bahnstation\nJaunbachschlucht / Gorges de la Jogne\nLac de Montsalvens – Charmey (Gruyère) (876m)\nCrésuz (909m) – Châtel-sur-Montsalvens (910m) – Botterens (731m)\nBroc-Village (718m) / Bahnstation \nStreckenlänge:\nca. 15.5 km\, 560 m aufwärts\, 530 m abwärts\, 4.5 Std.\, T1-T2 \nRoute auf SchweizMobil.ch:\nL I N K \n \nWanderung vor 10 Jahren:\n27.07.14 / Dem Greyerzersee entlang und durch die Jaunbachschlucht \nFahrplan ab Zürich HB:\nZürich HB ab 07:32\nFribourg/Freiburg an 08:55 / ab 09:04\nBroc-Chocolaterie an 09:57 \nRückfahrt ab Broc-Village:\nxx:05 / xx:35 \nVerpflegung aus dem Rucksack \nAnmeldungen\nkönnen durch eingeloggte Benutzer unten im Kommentarfeld eingetragen werden. \nBeat\nhttps://wmf-pfanniblog-2.blogspot.com/\nhttps://www.youtube.com/@beatwmf2059
URL:https://wandern-mit-freunden.ch/event/mittwoch-broc-jaunbachschlucht-charmey-broc-fr/
CATEGORIES:Geplante Wanderungen,Wanderung
END:VEVENT
BEGIN:VEVENT
DTSTART;TZID=Europe/Zurich:20240720T100000
DTEND;TZID=Europe/Zurich:20240720T150000
DTSTAMP:20260422T230506
CREATED:20240718T083712Z
LAST-MODIFIED:20240718T083712Z
UID:10001167-1721469600-1721487600@wandern-mit-freunden.ch
SUMMARY:SAMSTAG: Clariden-Höhenweg vom Klausenpass zum Fisetenpass (UR)
DESCRIPTION:Max. Gruppengrösse: 10 Personen \nAm kommenden Samstag (20.07.24)\nwandern wir auf dem Clariden-Höhenweg zwischen dem Klausenpass und dem Fisetenpass\,\nvorbei am Griesslisee\, einem «neuen» Gletschersee. \n\nGeplante Wanderroute:\nKlausenpass (1948m) / Bushaltestelle\nGriesslisee (2098m) – Gemsfairenhüttli (1947m)\nFisetenpass (2034m) \nTalfahrt:\nFisetenpass – Urnerboden mit der Luftseilbahn\nTicket: 12 Franken\nhttps://seilbahn-urnerboden.ch/ \nStreckenlänge:\nca. 9.5 km\, 550 m aufwärts\, 490 m abwärts\, 3.5 Std.\, T2 \nRoute auf SchweizMobil.ch:\nL I N K \n \nInfos zur Route:\nSchweizMobil-Route 588 / Clariden-Höhenweg: Klausenpass – Fisetenpass Bergstation \nWanderung vor 11 Jahren:\n13.07.13 / Clariden-Höhenweg zwischen Klausenpass und Fisetenpass \nFahrplan ab Zürich HB:\nZürich HB ab 07:43\nLinthal an 09:16 / ab 09:25\nKlausen Passhöhe an 10:09 (mit Bus B 408) \nRückfahrt ab Urnerboden\, Dorf:\n14:41 mit Bus Richtung Linthal\n15:52 mit Bus Richtung Altdorf \nVerpflegung aus dem Rucksack \nAnmeldungen\nkönnen durch eingeloggte Benutzer unten im Kommentarfeld eingetragen werden. \nBeat\nhttps://wmf-pfanniblog-2.blogspot.com/\nhttps://www.youtube.com/@beatwmf2059
URL:https://wandern-mit-freunden.ch/event/samstag-clariden-hoehenweg-vom-klausenpass-zum-fisetenpass-ur/
CATEGORIES:Geplante Wanderungen,Wanderung
END:VEVENT
BEGIN:VEVENT
DTSTART;TZID=Europe/Zurich:20240724T100000
DTEND;TZID=Europe/Zurich:20240724T150000
DTSTAMP:20260422T230506
CREATED:20240722T082406Z
LAST-MODIFIED:20240722T094325Z
UID:10001168-1721815200-1721833200@wandern-mit-freunden.ch
SUMMARY:MITTWOCH: Ab Schleitheim der Wutach entlang und über den Wiizemersteg (SH/DE)
DESCRIPTION:Max. Gruppengrösse: 10 Personen \nEuro und ID mitnehmen! \nAm kommenden Mittwoch (24.07.24)\nunternehmen wir eine Rundwanderung ab Schleitheim\,\nentlang der renaturierten Wutach und durch das Naturschutzgebiet Seldenhalde. \nGeplante Wanderroute:\nSchleitheim\, Bahnhofstrasse (467m) / Bus-Haltestelle\nAbstieg zur Renaturierten Wutach / Oberwiesen (450m)\nWeizener Steg / Wiizemersteg über die Wutach (465m)\nZurück über (namenloser Steg) hinüber zur Seldenhalde (475m)\nNaturschutzgebiet Seldenhalde\nWiizemersteg über die Wutach (465m)\nStühlingen / Zollübergang Schwarzwaldstrasse / Wutachbrücke (450m)\nAuhalde / Hinderegggrabe (480m)\nSchleitheim\, Bahnhofstrasse (467m) / Bus-Haltestelle \nStreckenlänge:\nca. 15 km\, 270 m auf- und abwärts\, T1-T2 \nRoute auf SchweizMobil.ch:\nL I N K \n \nFahrplan ab Zürich HB:\nZürich HB ab 08:34\nSchaffhausen an 09:13 / ab 09:20 (mit Bus B 21 ab Kante H / Richtung Schleitheim)\nSchleitheim\, Bahnhofstrasse an 09:47 \nRückfahrt:\nab Schleitheim\, Bahnhofstrasse xx:07 / xx:37 \nVerpflegung aus dem Rucksack \nAnmeldungen\nkönnen durch eingeloggte Benutzer unten im Kommentarfeld eingetragen werden. \nBeat\nhttps://wmf-pfanniblog-2.blogspot.com/\nhttps://www.youtube.com/@beatwmf2059
URL:https://wandern-mit-freunden.ch/event/mittwoch-ab-schleitheim-der-wutach-entlang-und-ueber-den-wiizemersteg-sh-de/
CATEGORIES:Geplante Wanderungen,Wanderung
END:VEVENT
BEGIN:VEVENT
DTSTART;TZID=Europe/Zurich:20240726T093000
DTEND;TZID=Europe/Zurich:20240726T153000
DTSTAMP:20260422T230506
CREATED:20240724T173248Z
LAST-MODIFIED:20241001T124103Z
UID:10001169-1721986200-1722007800@wandern-mit-freunden.ch
SUMMARY:FREITAG: Laseberg-Stockhorn-Oberstocksee-Hinderstocksee
DESCRIPTION:Am Freitag 26.8.24 wandern wir von Chrindi via Oberbärgi auf den Laseberg und dann zum Stockhorn. Über den Strüssligrad geht es weiter zum Oberstocksee und Hinderstocksee bis Chrindi zurück. \n  \nStreckenlänge: 10.25km                                               874m ufä und abä                                ca 4h 30min reine Wanderzeit \n  \n  \nFahrplan ab Zürich HB: Zürich ab 07:32/ Bern an 08:28\, ab 08:39/ Erlenbach im Simmental an 09:28 \nBergbahn Chrindi Retour 21.- \n  \nEssen aus dem Rucksack. Badhösli cha me au na mitnäh 🙂 \n  \nAnmeldungen können durch eingeloggte Benutzer unten im Kommentarfeld eingetragen werden. \nMindestens 3/ Maximal 10 Personen \n  \nBarbara
URL:https://wandern-mit-freunden.ch/event/freitag-laseberg-stockhorn-oberstocksee-hinderstocksee/
CATEGORIES:Geplante Wanderungen,Wanderung
END:VEVENT
BEGIN:VEVENT
DTSTART;TZID=Europe/Zurich:20240729T093000
DTEND;TZID=Europe/Zurich:20240729T150000
DTSTAMP:20260422T230506
CREATED:20240727T093403Z
LAST-MODIFIED:20240730T060920Z
UID:10001170-1722245400-1722265200@wandern-mit-freunden.ch
SUMMARY:MONTAG: Bergli - Berglistüber Wasserfall - Braunwald (GL)
DESCRIPTION:Max. Gruppengrösse: 10 Personen \nAm kommenden Montag (29.07.24)\nwandern wir zum Berglistüber Wasserfall oberhalb von Linthal\,\nweiter Richtung Urner Boden bis zur Kantonsgrenze GL-UR\nund anschliessend hinüber nach Braunwald. \nGeplante Wanderroute:\nKlausenpassstrasse / Linthal\, Bergli (914m) / Bus-Haltestelle\nAbstecher zum Berglistüber Wasserfall\nKantonsgrenze GL/UR (1300m)\nVorder Stafel (1398m) – Unter Stafel (1441m)\nNussbüel / Bergrestaurant (1270m)\nBraunwald / Braunwaldbahn (1256m) \nStreckenlänge:\nca. 12.5 km\, 790 m aufwärts\, 450 m abwärts\, 4.5 Std.\, T2 \nRoute auf SchweizMobil.ch:\nL I N K \n \nWanderung vor 8 Jahren:\n03.07.16 / Zum Berglistüber-Wasserfall \nFahrplan ab Zürich HB:\nZürich HB ab 07:43\nLinthal an 09:16 / ab 09:25 (mit Bus B 408)\nLinthal\, Bergli an 09:33 \nRückfahrt ab Braunwald:\nxx:25 \nVerpflegung aus dem Rucksack \nEinkehrmöglichkeit:\nBergrestaurant Nussbüel \nAnmeldungen\nkönnen durch eingeloggte Benutzer unten im Kommentarfeld eingetragen werden. \nBeat\nhttps://wmf-pfanniblog-2.blogspot.com/\nhttps://www.youtube.com/@beatwmf2059
URL:https://wandern-mit-freunden.ch/event/montag-bergli-berglistueber-wasserfall-braunwald-gl/
CATEGORIES:Geplante Wanderungen,Wanderung
END:VEVENT
END:VCALENDAR