BEGIN:VCALENDAR
VERSION:2.0
PRODID:-//Wandern mit Freunden - ECPv6.15.20//NONSGML v1.0//EN
CALSCALE:GREGORIAN
METHOD:PUBLISH
X-ORIGINAL-URL:https://wandern-mit-freunden.ch
X-WR-CALDESC:Veranstaltungen im Wandern mit Freunden
REFRESH-INTERVAL;VALUE=DURATION:PT1H
X-Robots-Tag:noindex
X-PUBLISHED-TTL:PT1H
BEGIN:VTIMEZONE
TZID:Europe/Zurich
BEGIN:DAYLIGHT
TZOFFSETFROM:+0100
TZOFFSETTO:+0200
TZNAME:CEST
DTSTART:20190331T010000
END:DAYLIGHT
BEGIN:STANDARD
TZOFFSETFROM:+0200
TZOFFSETTO:+0100
TZNAME:CET
DTSTART:20191027T010000
END:STANDARD
BEGIN:DAYLIGHT
TZOFFSETFROM:+0100
TZOFFSETTO:+0200
TZNAME:CEST
DTSTART:20200329T010000
END:DAYLIGHT
BEGIN:STANDARD
TZOFFSETFROM:+0200
TZOFFSETTO:+0100
TZNAME:CET
DTSTART:20201025T010000
END:STANDARD
BEGIN:DAYLIGHT
TZOFFSETFROM:+0100
TZOFFSETTO:+0200
TZNAME:CEST
DTSTART:20210328T010000
END:DAYLIGHT
BEGIN:STANDARD
TZOFFSETFROM:+0200
TZOFFSETTO:+0100
TZNAME:CET
DTSTART:20211031T010000
END:STANDARD
END:VTIMEZONE
BEGIN:VEVENT
DTSTART;VALUE=DATE:20200902
DTEND;VALUE=DATE:20200903
DTSTAMP:20260420T114559
CREATED:20200830T125004Z
LAST-MODIFIED:20200902T174958Z
UID:10000723-1599004800-1599091199@wandern-mit-freunden.ch
SUMMARY:MITTWOCH: Rundwanderung ab Schwarzenburg übers Guggershörnli (BE)
DESCRIPTION:Am kommenden Mittwoch (02.09.20)\nunternehmen wir eine Rundwanderung ab Schwarzenburg übers Guggershorn.\n(zum «Vreneli ab em Guggisberg«) \nGeplante Wanderroute:\nSchwarzenburg (792m)\nSchiltberg (865m) – Pfad (914m) – Wahlenhaus (1103m)\nGuggershorn (1283m) – Schwendelberg (1294m)\nNeuenmatt (1117m) – Steinern (989m)\nEisengruben (957m) – Rothenfuhren (853m)\nSchwarzenburg (792m) \nStreckenlänge:\nca. 16 km\, 730 m auf- und abwärts\, 5 Std.\, T1-T2 \nRoute auf SchweizMobil: \n \nFahrplan ab Zürich HB:\nZürich HB ab 08:02\nBern an 08:58 / ab 09:06\nSchwarzenburg an 09:41 \nRückfahrt\nab Schwarzenburg:\nxx:18 / xx:48 \nVerpflegung aus dem Rucksack \nAnmeldungen\nkönnen durch eingeloggte Teilnehmer unten im Kommentarfeld erfolgen\noder mir per WhatsApp oder SMS mitgeteilt werden. \nBeat\nhttps://wmf-pfanniblog.blogspot.com/\nhttps://pfanniblog.blogspot.ch/
URL:https://wandern-mit-freunden.ch/event/mittwoch-rundwanderung-ab-schwarzenburg-uebers-guggershoernli-be/
CATEGORIES:Geplante Wanderungen,Wanderung
END:VEVENT
BEGIN:VEVENT
DTSTART;VALUE=DATE:20200905
DTEND;VALUE=DATE:20200906
DTSTAMP:20260420T114559
CREATED:20200902T185526Z
LAST-MODIFIED:20200902T185526Z
UID:10000725-1599264000-1599350399@wandern-mit-freunden.ch
SUMMARY:Von der Mettmenalp zur Leglerhütte
DESCRIPTION:Liebe Wanderfreunde \nSepp und ich laden euch ein\, am kommenden Samstag\, 5. September\, mit uns auf eine Wanderung in den Zigerschlitz zu kommen. \nGeplante Route: \nMettmenalp – Stausee Garichti – Widerstein – Auf den Matten – Leglerhütte – Mettmenalp. \nTotal 14\,5 km\, je 988 m duruf und durab\, ca. 5 1/4 Std. Wanderzeit\, T2 bis T3 \nLink zu Schweiz Mobil. \nVerpflegung aus dem Rucksack. Kafihalt in der Leglerhütte. \nFahrplan  \nZürich ab 6.43 (S25 Richtung Linthal)\nSchwanden an 7.52 / ab 8.03\nKies Niederental an 8.23 \nLuftseilbahn zur Mettmenalp (Billett retour 18.- bzw. 15.- für AHV) \nIch erlaube mir\, die maximale Teilnehmerzahl auf 10 Personen zu begrenzen. \nAnmeldungen bitte unten im Kommentarfeld eintragen. \nNo Frage? 079 721 50 94 \nBis bald!\nBea
URL:https://wandern-mit-freunden.ch/event/von-der-mettmenalp-zur-leglerhuette/
CATEGORIES:Geplante Wanderungen,Wanderung
END:VEVENT
BEGIN:VEVENT
DTSTART;VALUE=DATE:20200909
DTEND;VALUE=DATE:20200910
DTSTAMP:20260420T114559
CREATED:20180814T083810Z
LAST-MODIFIED:20200910T071045Z
UID:10000524-1599609600-1599695999@wandern-mit-freunden.ch
SUMMARY:MITTWOCH: Alpstein-Wanderung / Ebenalp - Schäfler - Säntis
DESCRIPTION:Am kommenden Mittwoch (09.09.20)\nunternehmen wir die Bergwanderung von der Ebenalp zum Säntis. \nGeplante Wanderroute:\nEbenalp (1590m)\nChlus (1726m) – Schäfler (1924m) – Lötzlisalpsattel (1900m)\nHöchniderisattel (2114m) – Rossegg – Blau Schnee\nGirensattel (2397m) – «Himmelsleiter» – Tierwiesstollen (2466m)\nSäntis (2502m) \nStreckenlänge:\nca. 9 km\, 1250 m aufwärts\, 370 m abwärts\, 5 Std.\, T3. \nHinweis:\nFür die Durchquerung der Schneefelder -> Gutes Schuhwerk / Stöcke!\nFür kalte «Himmelsleiter» -> Handschuhe \nRoute auf SchweizMobil: \n \nWanderung auf dieser Route im vorletzten Jahr: \n22.08.18 / Alpstein-Wanderung: Ebenalp – Schäfler – Säntis \n**** \nZwei Säntis-Wanderungen vor 8 Jahren auf dieser Route: \n15.08.12 / Alpstein-Wanderung (2): Ebenalp – Schäfler – Säntis \n24.07.12 / Alpstein-Wanderung: Ebenalp – Schäfler – Säntis (nur Bilder) \n**** \nFahrplan ab Zürich HB:\nZürich HB ab 07:09\nGossau an 08:14 / ab 08:21\nWasserauen an 09:12 / Ebenalp an ca. 09:30 \nBergfahrt\nab Wasserauen mit der Ebenalp-Luftseilbahn\n(Ticketpreis mit Halbtax -> Fr. 10.-) \nTalfahrt\nab Säntis mit der Luftseilbahn hinunter zur Schwägalp\n(Ticketpreis mit Halbtax -> Fr. 19.-) \nVerpflegung aus dem Rucksack \nAnmeldungen\nkönnen durch eingeloggte Teilnehmer unten im Kommentarfeld erfolgen\noder mir per WhatsApp oder SMS mitgeteilt werden. \nBeat / http://pfanniblog.blogspot.ch/
URL:https://wandern-mit-freunden.ch/event/alpstein-wanderung-ebenalp-schaefler-saentis/
CATEGORIES:Geplante Wanderungen,Wanderung
END:VEVENT
BEGIN:VEVENT
DTSTART;VALUE=DATE:20200912
DTEND;VALUE=DATE:20200914
DTSTAMP:20260420T114559
CREATED:20200811T192053Z
LAST-MODIFIED:20200909T184944Z
UID:10000719-1599868800-1600041599@wandern-mit-freunden.ch
SUMMARY:Wander-Wochenende in Airolo
DESCRIPTION:  \n*  * * A U S G E B UC H T * * * \nLiebe Wanderfreudige \nIch versuche mich hier mal mit einer neuen Organisations-Form eines Mehrtägers.  \nAm Wochenende vom 12./13. September habe ich im Hotel Forni in Airolo einige Doppelzimmer reserviert. \nDie Idee ist\, dass wir am Samstag und Sonntag je eine schöne Wanderung im gewohnten Rahmen (Anreise mit ÖV\, ca. 5 Std. Wanderung \, < 1’000 Höhenmeter) unternehmen und in Airolo übernachten. Das  Hotel bietet ein Sonderangebot\, das über diesen Link abgerufen werden kann. Es wird nicht möglich sein\, vorab Gepäck im Hotel zu deponieren.  \nDie konkreten Wandervorschläge und Fahrpläne werde ich – in Abhängigkeit des Wetters –  rechtzeitig publizieren.\n \nDie Gruppengrösse habe ich auf maximal 10 Personen festgelegt; es stehen also noch vier Doppelzimmer zur Verfügung. \nIhr habt alle voneinander die Kontaktdaten. Sprecht euch mit einem Zimmerpartner ab und tragt eure Anmeldung nur als Duo ein. Ich werde einzelne Anmeldungen wieder löschen\, ebenso  «Vorabreservationen».\n \nSelbstredend\, dass hier das Motto «De Schnäller isch de Gschwinder» gilt.  \nSepp und ich freuen uns\, mit ein paar Mitwanderern zusammen ein lässiges Wochenende zu verbringen.  \nUf bald! \nBea \n 
URL:https://wandern-mit-freunden.ch/event/wander-wochenende-in-airolo/
CATEGORIES:Geplante Wanderungen,Mehrtägige Wanderung
END:VEVENT
BEGIN:VEVENT
DTSTART;VALUE=DATE:20200916
DTEND;VALUE=DATE:20200917
DTSTAMP:20260420T114559
CREATED:20200906T133908Z
LAST-MODIFIED:20240225T204931Z
UID:10000726-1600214400-1600300799@wandern-mit-freunden.ch
SUMMARY:Eine Wanderung im Muotatal
DESCRIPTION:Am Mittwoch 16.9.2020 unternehmen wir eine Wanderung im Muotatal. \nDie geplante Tour: Muotahal\, Hölloch-Mittlistweid-Obergschwend-Gross Band-Balm und der Muota nach bis Muotathal\, Sternen. \n  \nStreckenlänge: 15\,1 km              941m ufä                987m abä                ca. 5h 30 \n  \n  \nFahrplan ab Zürich Hbf: \nZürich ab 07:35 / Rotkreuz an 08:10\, ab 08:14 / Schwyz an 08:36\, ab 08:39 / Muotathal\, Hölloch an 09:11 \n  \nRückfahrt voraussichtlich ab Muotathal\, Sternen 15:46/16:16/16:46…. \n  \nEssen aus dem Rucksack \nMaximale Gruppengrösse 10 Personen. \nHinweis: Einer der Kommentare ist keine Anmeldung. Zählt  daher nicht zur Gruppengrösse mit! \nMeine Mobile Nummer: 076 530 43 60 \nBarbara
URL:https://wandern-mit-freunden.ch/event/eine-wanderung-im-muotathal/
CATEGORIES:Geplante Wanderungen,Wanderung
END:VEVENT
BEGIN:VEVENT
DTSTART;VALUE=DATE:20200919
DTEND;VALUE=DATE:20200920
DTSTAMP:20260420T114559
CREATED:20200831T152004Z
LAST-MODIFIED:20200920T070623Z
UID:10000724-1600473600-1600559999@wandern-mit-freunden.ch
SUMMARY:Tal- und Höhenwanderung im Safiental (Surselva / GR)
DESCRIPTION:V E R S C H O B E N! \nVoraussichtlich am Samstag (19.09.20*)\nunternehmen wir eine Tal- und Höhenwanderung im Safiental. \n*) Das definitive Datum wird später festgelegt!\nAnmeldungen bitte erst eintragen\, nachdem das Datum definitiv feststeht. \nGeplante Wanderroute:\nNeukirch (Safien) (1291m)\nSafien Platz (1315m) – Camanaboda (1763m)\nCamaner Hütta (1959m) – Thalkirch (1686m)\nTurra / Turrahus (1694m) \nStreckenlänge:\nca. 16 km\, 1000 m aufwärts\, 600 m abwärts\, 5 Std.\, T1-T2 \nRoute auf SchweizMobil:\nL I N K \n \nFahrplan ab Zürich HB:\nZürich HB ab 06:37\nChur an 07:52 / ab 07:56\nVersam-Safien an 08:16 / ab 08:39 (mit Postauto)\nNeukirch (Safien) an 09:09 \nRückfahrt\nab Thalkirch\, Turahus\n15:29 / 17:29 \nVerpflegung aus dem Rucksack \nEinkehrmöglichkeit in Turra:\nBerggasthaus Turrahus \nAnmeldungen\nkönnen durch eingeloggte Teilnehmer unten im Kommentarfeld erfolgen\noder mir per WhatsApp oder SMS mitgeteilt werden:\n077 / 464 39 75 \nBeat\nhttps://wmf-pfanniblog.blogspot.com/\nhttps://pfanniblog.blogspot.ch/
URL:https://wandern-mit-freunden.ch/event/tal-und-hoehenwanderung-im-safiental-surselva-gr/
CATEGORIES:Geplante Wanderungen,Wanderung
END:VEVENT
BEGIN:VEVENT
DTSTART;VALUE=DATE:20200919
DTEND;VALUE=DATE:20200920
DTSTAMP:20260420T114559
CREATED:20200915T140503Z
LAST-MODIFIED:20200920T065143Z
UID:10000727-1600473600-1600559999@wandern-mit-freunden.ch
SUMMARY:SAMSTAG: Passwanderung vom Safiental hinüber nach Splügen
DESCRIPTION:Am kommenden Samstag (19.09.20)\nunternehmen wir die Passwanderung\nvon Turra im Safiental über den Safierberg hinunter nach Splügen im Rheinwald. \nGeplante Wanderroute:\nTurra / Turrahus (1694m)\nSafierberg (2482m) / Passübergang\nStutzalp (ca. 2000m)\nSplügen (1458m) \nStreckenlänge:\nca. 15 km\, 850 m aufwärts\, 1100 m abwärts\, 5 Std.\, T2 \nRoute auf SchweizMobil:\n \nFahrplan ab Zürich HB:\nZürich HB ab 06:37\nChur an 07:52 / ab 07:56\nVersam-Safien an 08:16 / ab 08:39 (mit Postauto)\nThalkirch\, Turahus an 09:39 \nRückfahrt\n15:53 ab Splügen\, Dorf\n(oder um 16:52 mit obligatorischer Reservierung vor 14:40 in Bellinzona) \nVerpflegung aus dem Rucksack \nAnmeldungen\nkönnen durch eingeloggte Teilnehmer unten im Kommentarfeld erfolgen\noder mir per WhatsApp oder SMS mitgeteilt werden. \nBeat\nhttps://wmf-pfanniblog.blogspot.com/\nhttps://pfanniblog.blogspot.ch/
URL:https://wandern-mit-freunden.ch/event/passwanderung-vom-safiental-hinueber-nach-spluegen/
CATEGORIES:Geplante Wanderungen,Wanderung
END:VEVENT
BEGIN:VEVENT
DTSTART;VALUE=DATE:20200926
DTEND;VALUE=DATE:20200927
DTSTAMP:20260420T114559
CREATED:20200922T115915Z
LAST-MODIFIED:20200927T051918Z
UID:10000729-1601078400-1601164799@wandern-mit-freunden.ch
SUMMARY:SAMSTAG: Lugano-Paradiso - San Salvatore - Morcote (TI)
DESCRIPTION:Am kommenden Samstag (26.09.20)\nwandern wir ab Lugano-Paradiso über den San Salvatore nach Morcote. \nGeplante Wanderroute:\nLugano-Paradiso (304m)\nMonte San Salvatore (888m / 913m\nCiona (618m) – Carona (623m)\nParco San Grato (704m) – Alpe Vicania (659m)\nMorcote (273m) \nStreckenlänge:\nca. 13 km\, 860 m aufwärts\, 890 m abwärts\, 4.5 Std.\, T2 \nRoute auf SchweizMobil: \n \nWanderung vor 3 Jahren:\n15.01.17 / Lugano-Pazzallo – Monte San Salvatore – Carona – Morcote \nFahrplan ab Zürich HB:\nZürich HB ab 07:10\nLugano an 09:26 / ab 09:35\nLugano-Paradiso an 09:37 \nRückfahrt:\nab Morcote\, Piazza Grande um 15:05 / 15:57 / 16:35 mit Bus\noder ab Morcote (lago) um 15:15 / 16:25 mit Schiff \nVerpflegung aus dem Rucksack \nAnmeldungen\nkönnen durch eingeloggte Teilnehmer unten im Kommentarfeld erfolgen\noder mir per WhatsApp oder SMS mitgeteilt werden. \nBeat\nhttps://wmf-pfanniblog.blogspot.com/\nhttps://pfanniblog.blogspot.ch/
URL:https://wandern-mit-freunden.ch/event/lugano-paradiso-san-salvatore-morcote-ti/
CATEGORIES:Geplante Wanderungen,Wanderung
END:VEVENT
BEGIN:VEVENT
DTSTART;VALUE=DATE:20200930
DTEND;VALUE=DATE:20201001
DTSTAMP:20260420T114559
CREATED:20200928T044149Z
LAST-MODIFIED:20201001T051603Z
UID:10000731-1601424000-1601510399@wandern-mit-freunden.ch
SUMMARY:MITTWOCH: Naters - Blatten - Birgisch - Mund (VS)
DESCRIPTION:Am kommenden Mittwoch (30.09.20)\nunternehmen wir eine Wanderung am Sonnenhang über Brig-Naters. \nGeplante Wanderroute:\nNaters / Bellavista / Chilchmatte (830m)\nHegdorn (900m) – Bitschji (1080m) – Geimen (1037m) – Blindtälli\nBlatten (1327m)\nGeimen (1037m) – Birgisch (1091m) – Mundchi (1181m)\nMund (1195m) \nStreckenlänge:\nca. 15 km\, 990 m aufwärts\, 640 m abwärts\, 5 Std.\, T2 \nRoute auf SchweizMobil: \n \nWanderung vor 8 Jahren:\n21.11.12 / Am Sonnenhang über Brig: Naters – Blatten – Birgisch – Mund \nFahrplan ab Zürich HB:\nZürich HB ab 07:02\nBrig an 09:11 / ab 09:18 (mit Postauto)\nNaters-Bellavista an 09:25 \nRückfahrt ab Mund-Dorf:\n15:20 / (16:30) / 17:19 \nVerpflegung aus dem Rucksack \nEinkehrmöglichkeit in Mund:\nRestaurant Safran \nAnmeldungen\nkönnen durch eingeloggte Teilnehmer unten im Kommentarfeld erfolgen\noder mir per WhatsApp oder SMS mitgeteilt werden. \nBeat\nhttps://wmf-pfanniblog.blogspot.com/\nhttps://pfanniblog.blogspot.ch/
URL:https://wandern-mit-freunden.ch/event/mittwoch-naters-blatten-birgisch-mund-vs/
CATEGORIES:Geplante Wanderungen,Wanderung
END:VEVENT
END:VCALENDAR