BEGIN:VCALENDAR
VERSION:2.0
PRODID:-//Wandern mit Freunden - ECPv6.15.20//NONSGML v1.0//EN
CALSCALE:GREGORIAN
METHOD:PUBLISH
X-ORIGINAL-URL:https://wandern-mit-freunden.ch
X-WR-CALDESC:Veranstaltungen im Wandern mit Freunden
REFRESH-INTERVAL;VALUE=DURATION:PT1H
X-Robots-Tag:noindex
X-PUBLISHED-TTL:PT1H
BEGIN:VTIMEZONE
TZID:Europe/Zurich
BEGIN:DAYLIGHT
TZOFFSETFROM:+0100
TZOFFSETTO:+0200
TZNAME:CEST
DTSTART:20190331T010000
END:DAYLIGHT
BEGIN:STANDARD
TZOFFSETFROM:+0200
TZOFFSETTO:+0100
TZNAME:CET
DTSTART:20191027T010000
END:STANDARD
BEGIN:DAYLIGHT
TZOFFSETFROM:+0100
TZOFFSETTO:+0200
TZNAME:CEST
DTSTART:20200329T010000
END:DAYLIGHT
BEGIN:STANDARD
TZOFFSETFROM:+0200
TZOFFSETTO:+0100
TZNAME:CET
DTSTART:20201025T010000
END:STANDARD
BEGIN:DAYLIGHT
TZOFFSETFROM:+0100
TZOFFSETTO:+0200
TZNAME:CEST
DTSTART:20210328T010000
END:DAYLIGHT
BEGIN:STANDARD
TZOFFSETFROM:+0200
TZOFFSETTO:+0100
TZNAME:CET
DTSTART:20211031T010000
END:STANDARD
END:VTIMEZONE
BEGIN:VEVENT
DTSTART;VALUE=DATE:20200601
DTEND;VALUE=DATE:20200602
DTSTAMP:20260425T132807
CREATED:20200528T082240Z
LAST-MODIFIED:20200602T050046Z
UID:10000703-1590969600-1591055999@wandern-mit-freunden.ch
SUMMARY:MONTAG: Bürersteig - Brugg / über Geissberg und Bruggerberg (AG)
DESCRIPTION:Am kommenden Montag (01.06.20 / Pfingstmontag)\nunternehmen wir eine Wanderung\nüber Geissberg und Bruggerberg im Kanton Aargau. \nGeplante Wanderroute:\nBürersteig (550m)\nGeissberg (697m) – Rütifels (602m) – Burgruine Besserstein (548m)\nRüfenach (377m) – Bruggerberg / Alpezeiger (499m)\nBrugg (352m) \nStreckenlänge:\nca. 16 km\, 440 m aufwärts\, 640 m abwärts\, 4.5 Std.\, T1-T2 \nRoute auf SchweizMobil: \n \nFahrplan ab Zürich HB:\nZürich HB ab 09:06\nBrugg an 09:30 / ab 09:34 (Bus Richtung Laufenburg)\nBürersteig-Passhöhe an 09:49 \nRückfahrt ab Brugg \nVerpflegung aus dem Rucksack \nAnmeldungen\nkönnen durch eingeloggte Teilnehmer unten im Kommentarfeld erfolgen\noder mir per WhatsApp oder SMS mitgeteilt werden. \nBeat / http://pfanniblog.blogspot.ch/
URL:https://wandern-mit-freunden.ch/event/buerersteig-brugg-ueber-geissberg-und-bruggerberg-ag/
CATEGORIES:Geplante Wanderungen,Wanderung
END:VEVENT
BEGIN:VEVENT
DTSTART;VALUE=DATE:20200603
DTEND;VALUE=DATE:20200604
DTSTAMP:20260425T132807
CREATED:20200531T152616Z
LAST-MODIFIED:20200602T154833Z
UID:10000704-1591142400-1591228799@wandern-mit-freunden.ch
SUMMARY:Vom Alpthal an den Sihlsee
DESCRIPTION:Am kommenden Mittwoch\, 3. Juni\, treffen wir uns im Alpthal/SZ zu einer Wanderung. \nHinweis am Dienstagmorgen:\nDie Gruppe ist komplett. Keine weiteren Anmeldungen mehr möglich. \nAufgrund der Wetterlage (mögliche Gewitter am Nachmittag) ist der Start um eine Stunde vorverlegt.  \nSie führt uns auf die Furggelen\, über den Gschwändstock\, in die Nähe des Mittelpunkts des Kantons Schwyz\, über den Spital (sorry\, der Hoger heisst wirklich so) und runter ins Gross. \n \nDauer ca. 5 Std.\nLänge 14 km\, 860 m duruf\, 1’060 m durab\nT2 bis T3 \nLink zur aufgezeichneten Route auf Schweiz Mobil. \nVerpflegung aus dem Rucksack. \nFahrplan ab Zürich (neu) \n7.43 S25 Richtung Linthal\n8.00 Wädenswil an / 8.10 ab\n8.33 Einsiedeln an / 8.37 ab\n8.54 Alpthal Rest. Brunni an \nSepp und ich freuen uns auf ein paar aufgestellte Mitwanderer. Im Schweife von Corona werden uns jedoch erlauben\, die Grösse der Gruppe auf 10 zu limitieren. \nAlles klar? Suscht\nnou-sibbe-nün 721 50 94 \nBea
URL:https://wandern-mit-freunden.ch/event/vom-alpthal-an-den-sihlsee/
CATEGORIES:Geplante Wanderungen,Wanderung
END:VEVENT
BEGIN:VEVENT
DTSTART;VALUE=DATE:20200606
DTEND;VALUE=DATE:20200607
DTSTAMP:20260425T132807
CREATED:20200604T094542Z
LAST-MODIFIED:20200607T024916Z
UID:10000706-1591401600-1591487999@wandern-mit-freunden.ch
SUMMARY:SAMSTAG: Wiedermal ins Tessin\, nach Lugano
DESCRIPTION:Am kommenden Samstag (06.06.20)\nunternehmen wir einen Streifzug in der nahen Umgebung von Lugano\n(je nach Wetterentwicklung am Nachmittag etwas kürzer oder etwas länger). \nGeplante Wanderroute:\nFLP-Haltestelle «Sorengo Laghetto» (350m)\nDem Lago di Muzzano entlang – Muzzano (384m)\nBiogno – Chiesa Santi Quirico und Giulitta (473m)\nUmrundung des Breganzona-Hügels\nMuzzano – Tassino –  Parco Tassino (360m)\nAbstieg zur Uferpromenade am Luganersee (272m)\nStadtzentrum Lugano \nStreckenlänge:\nca. 14 km\, 460 m aufwärts\, 530 m abwärts\, 4 Std.\, T1 \nRoute auf SchweizMobil: \n \nFahrplan ab Zürich HB:\nZürich HB ab 07:10\nLugano an 09:26 / ab 09:39 (mit FLP Richtung Ponte Tresa)\nSorengo Laghetto an 09:42 (Halt auf Verlangen) \nRückfahrt ab Lugano \nVerpflegung aus dem Rucksack \nAnmeldungen\nkönnen durch eingeloggte Teilnehmer unten im Kommentarfeld erfolgen\noder mir per WhatsApp oder SMS mitgeteilt werden. \nBeat / http://pfanniblog.blogspot.ch/
URL:https://wandern-mit-freunden.ch/event/samstag-wiedermal-ins-tessin-nach-lugano/
CATEGORIES:Geplante Wanderungen,Wanderung
END:VEVENT
BEGIN:VEVENT
DTSTART;VALUE=DATE:20200613
DTEND;VALUE=DATE:20200614
DTSTAMP:20260425T132807
CREATED:20200608T043657Z
LAST-MODIFIED:20200608T044029Z
UID:10000708-1592006400-1592092799@wandern-mit-freunden.ch
SUMMARY:Vom Zürichberg zum Zürichsee
DESCRIPTION:Voraussichtlich am Samstag (13.06.20*)\nunternehmen wir eine Wanderung\nzwischen Zürichberg / Adlisberg / Zürichsee.\nWir besuchen unterwegs einen steinernen Elefanten mitten im Bach. \n*) Das definitive Datum wird später festgelegt!\nAnmeldungen bitte erst eintragen\, nachdem das Datum definitiv feststeht. \nGeplante Wanderroute:\nZürichberg / Tram-Haltestelle Zürich-Zoo\nAllmend Fluntern (609m) / Friedhof Fluntern\nUmwanderung des Zoo-Areals entlang dem Aussengehege\nLoorenkopfturm auf dem Adlisberg (693m)\nDegenried / Restaurant Degenried (578m)\nStöckentobelbach / Elefantenbach\nElefant im Bach (ca. 530m)\nBurgwies (451m) – Botanischer Garten (ca. 440m)\nSeefeld / Zürichhorn (410m)\nDem Zürichsee und der Limmat entlang zum Zürich HB \nStreckenlänge:\nca. 19 km\, 340 m aufwärts\, 540 m abwärts\, 5 Std.\, T1-T2 \nRoute auf SchweizMobil:\nL I N K \n \nWanderung vor 6 Jahren:\n28.06.14 / Vom Elefantenpark zum Elefantenbach (Zürichberg / Adlisberg) \nTreffpunkt:\nca. 10 Uhr bei der Tram-Haltestelle Zürich-Zoo\nAnfahrt\nab Zürich HB mit Tram 6 in Richtung Zürich Zoo\nZürich\, Bahnhofquai/HB ab 09:46 / Zürich\, Zoo an 10:01 \nVerpflegung aus dem Rucksack \nAnmeldungen\nkönnen durch eingeloggte Teilnehmer unten im Kommentarfeld erfolgen\noder mir per WhatsApp oder SMS mitgeteilt werden:\n077 / 464 39 75 \nBeat / http://pfanniblog.blogspot.ch/
URL:https://wandern-mit-freunden.ch/event/vom-zuerichberg-zum-zuerichsee/
CATEGORIES:Geplante Wanderungen,Wanderung
END:VEVENT
BEGIN:VEVENT
DTSTART;VALUE=DATE:20200620
DTEND;VALUE=DATE:20200621
DTSTAMP:20260425T132807
CREATED:20200602T083844Z
LAST-MODIFIED:20200621T024808Z
UID:10000705-1592611200-1592697599@wandern-mit-freunden.ch
SUMMARY:Von Visp nach Brig\, entlang der Visperi-Suone (VS)
DESCRIPTION:Am Samstag (20.06.20)\nunternehmen wir eine Wanderung\nentlang der Visperi-Suone zwischen Visp und Brig. \nGeplante Wanderroute:\nVisp Bahnhof (650m) –\nHinter dem Spital erfolgt Zustieg zur Visperi Suone (727m)\nGamsen / P. 723 / P. 687 – Waldmatte (759m)\nHolzji (842m) – Wickert (891m)\nAbstieg in die Saltina-Schlucht (ca. 800m)\nder Saltina entlang nach Brig\nBahnhof Brig (672m) \nStreckenlänge:\nca. 16 km\, 560 m aufwärts\, 530 m abwärts\, 4.5 Std.\, T2-T3 \nRoute auf SchweizMobil: \n \nWanderung vor 6 Jahren:\n29.05.14 / Entlang der Visperi: Suonenwanderung zwischen Visp und Brig \nFahrplan ab Zürich HB:\nZürich HB ab 08:02 / Visp an 10:02 \nRückfahrt ab Brig \nVerpflegung aus dem Rucksack \nAnmeldungen\nkönnen durch eingeloggte Teilnehmer unten im Kommentarfeld erfolgen\noder mir per WhatsApp oder SMS mitgeteilt werden. \nBeat / http://pfanniblog.blogspot.ch/
URL:https://wandern-mit-freunden.ch/event/von-visp-nach-brig-entlang-der-visperi-suone-vs/
CATEGORIES:Geplante Wanderungen,Wanderung
END:VEVENT
BEGIN:VEVENT
DTSTART;VALUE=DATE:20200624
DTEND;VALUE=DATE:20200625
DTSTAMP:20260425T132807
CREATED:20200605T054504Z
LAST-MODIFIED:20200625T093809Z
UID:10000707-1592956800-1593043199@wandern-mit-freunden.ch
SUMMARY:Über den Sassigrat ob Isenthal (UR)
DESCRIPTION:Dienstag-Vormittag / Die 10-er-Gruppe ist nun vollzählig:\nGabi\, Barbara\, Eveline\, Esther W.\, Georges\, Susi\, Margrit\, Berta\, Ursula K.\, Beat\nBitte keine weiteren Anmeldungen eintragen! \nHabe für Postauto 10 Plätze reserviert. \nAm kommenden Mittwoch (24.06.20)\nüberqueren wir den Sassigrat ob Isenthal im Kanton Uri. \nGeplante Wanderroute:\nIsenthal / St. Jakob (978m)\nOber Rüteli (1341m) – Biwaldalp (1695m)\nSassigrat (1868m)\nMusenalp (1483m) – Hinterchlosterberg (1116m)\nIsenthal (770m) \nStreckenlänge:\nca. 12 km\, 910 m aufwärts\, 1110 m abwärts\, 4.5 Std.\, T2 \nRoute auf SchweizMobil: \n \nWanderung vor 8 Jahren:\n08.09.12 / Am Fuss des Uri-Rotstock-Massivs: St. Jakob – Sassigrat – Isenthal \nFahrplan ab Zürich HB:\nZürich HB ab 08:10\nArth-Goldau an 09:03 / ab 09:09\nFlüelen an 09:30 / ab 09:43 (mit Postauto)\nIsenthal\, Seilbahn St. Jakob an 10:16 \nRückfahrt\nab Isenthal-Post: 15:56 / 17:56 \nVerpflegung aus dem Rucksack \nEinkehrmöglichkeit in Isenthal:\nGasthaus Tourist \nAnmeldungen\nkönnen durch eingeloggte Teilnehmer unten im Kommentarfeld erfolgen\noder mir per WhatsApp oder SMS mitgeteilt werden. \nBeat / http://pfanniblog.blogspot.ch/
URL:https://wandern-mit-freunden.ch/event/ueber-den-sassigrat-ob-isenthal-ur/
CATEGORIES:Geplante Wanderungen,Wanderung
END:VEVENT
BEGIN:VEVENT
DTSTART;VALUE=DATE:20200628
DTEND;VALUE=DATE:20200629
DTSTAMP:20260425T132807
CREATED:20200625T093532Z
LAST-MODIFIED:20200629T073208Z
UID:10000710-1593302400-1593388799@wandern-mit-freunden.ch
SUMMARY:SONNTAG: Rundwanderung durchs Lorzentobel bei Baar (ZG)
DESCRIPTION:Hinweis am Samstagabend (20 Uhr):\nGruppengrösse sollte 10 Personen nicht übersteigen.\nAngemeldet sind nun 9 Personen:\nHedi\, Esther F.\, Alessia\, Georges\, Werner\, Esther W.\, Barbara\, Bettina\, Beat  \nAm kommenden Sonntag (28.06.20)\nunternehmen wir eine Rundwanderung durchs Lorzentobel bei Baar im Kanton Zug. \nGeplante Wanderroute:\nBaar / Bahnhof (443m)\nHöll / Höllgrotten (504m) – Steg über Lorze / P. 600\nBurgruine Wildenburg (636m) / Wasserfall\nP. 596 – P. 603 – P. 549\nRuggeren / Langmoos (491m)\nBaar \nStreckenlänge:\nca. 15 km\, 400 m auf- und abwärts\, 4 Std.\, T1-T2 \nRoute auf SchweizMobil: \n \nWanderung vor 7 Jahren:\n19.05.13 / Rundwanderung bei Baar / ZG: Baarburg – Höll(grotten) – Wildenburg \nFahrplan ab Zürich HB:\nZürich HB ab 08:35 / Baar an 08:57 \nRückfahrt ab Baar \nVerpflegung aus dem Rucksack \nAnmeldungen\nkönnen durch eingeloggte Teilnehmer unten im Kommentarfeld erfolgen\noder mir per WhatsApp oder SMS mitgeteilt werden. \nBeat / http://pfanniblog.blogspot.ch/
URL:https://wandern-mit-freunden.ch/event/rundwanderung-durchs-lorzentobel-bei-baar-zg/
CATEGORIES:Geplante Wanderungen,Wanderung
END:VEVENT
END:VCALENDAR