BEGIN:VCALENDAR
VERSION:2.0
PRODID:-//Wandern mit Freunden - ECPv6.15.20//NONSGML v1.0//EN
CALSCALE:GREGORIAN
METHOD:PUBLISH
X-WR-CALNAME:Wandern mit Freunden
X-ORIGINAL-URL:https://wandern-mit-freunden.ch
X-WR-CALDESC:Veranstaltungen im Wandern mit Freunden
REFRESH-INTERVAL;VALUE=DURATION:PT1H
X-Robots-Tag:noindex
X-PUBLISHED-TTL:PT1H
BEGIN:VTIMEZONE
TZID:Europe/Zurich
BEGIN:DAYLIGHT
TZOFFSETFROM:+0100
TZOFFSETTO:+0200
TZNAME:CEST
DTSTART:20250330T010000
END:DAYLIGHT
BEGIN:STANDARD
TZOFFSETFROM:+0200
TZOFFSETTO:+0100
TZNAME:CET
DTSTART:20251026T010000
END:STANDARD
BEGIN:DAYLIGHT
TZOFFSETFROM:+0100
TZOFFSETTO:+0200
TZNAME:CEST
DTSTART:20260329T010000
END:DAYLIGHT
BEGIN:STANDARD
TZOFFSETFROM:+0200
TZOFFSETTO:+0100
TZNAME:CET
DTSTART:20261025T010000
END:STANDARD
BEGIN:DAYLIGHT
TZOFFSETFROM:+0100
TZOFFSETTO:+0200
TZNAME:CEST
DTSTART:20270328T010000
END:DAYLIGHT
BEGIN:STANDARD
TZOFFSETFROM:+0200
TZOFFSETTO:+0100
TZNAME:CET
DTSTART:20271031T010000
END:STANDARD
END:VTIMEZONE
BEGIN:VEVENT
DTSTART;TZID=Europe/Zurich:20260425T093000
DTEND;TZID=Europe/Zurich:20260425T170000
DTSTAMP:20260424T155928
CREATED:20260424T064736Z
LAST-MODIFIED:20260424T065551Z
UID:10001377-1777109400-1777136400@wandern-mit-freunden.ch
SUMMARY:Steinböcke und Krokus?
DESCRIPTION:Am Samstag 25.4.26 wandern wir von Beatenberg auf das Niederhorn und via Burgfeld oder Oberburgfeld (Je nach Krokus Stand ) und Chüematte nach Mauren. Die Bahn läuft nicht! Dafür bekommen wir vielleicht Steinböcke zu sehen. \nFür die momentan nicht so fiten (wie eventuell ich) gibt es eine Abkürzungsmöglichkeit ohne Gipfel. \n  \nRoute auf Schweizmobil \nStreckenlänge: 12.7km / 911m ufä und 846m abä / ca 5h reine Wanderzeit \n  \nAbkürzungsroute auf Schweizmobil \nStreckenlänge: 11km / 824m ufä und 760m abä / ca 4h 15min reine Wanderzeit \n  \nAnfahrt ab Zürich HB: Zürich ab 07:02/ Interlaken West an 08:53\, ab 09:05 ( mit B 101 Kante B)/ Beatenberg\, Hubel an 09:32 \nRückfahrt ab Beatenberg\, Waldegg: spät! \n  \nEssen aus dem Rucksack \n  \nAnmeldungen können durch eingeloggte Benutzer unten im Kommentarfeld eingetragen werden. \nMaximal 10 Personen \n  \nEure Barbara
URL:https://wandern-mit-freunden.ch/event/steinboecke-und-krokus/
CATEGORIES:Geplante Wanderungen,Wanderung
END:VEVENT
END:VCALENDAR