BEGIN:VCALENDAR
VERSION:2.0
PRODID:-//Wandern mit Freunden - ECPv6.15.20//NONSGML v1.0//EN
CALSCALE:GREGORIAN
METHOD:PUBLISH
X-WR-CALNAME:Wandern mit Freunden
X-ORIGINAL-URL:https://wandern-mit-freunden.ch
X-WR-CALDESC:Veranstaltungen im Wandern mit Freunden
REFRESH-INTERVAL;VALUE=DURATION:PT1H
X-Robots-Tag:noindex
X-PUBLISHED-TTL:PT1H
BEGIN:VTIMEZONE
TZID:Europe/Zurich
BEGIN:DAYLIGHT
TZOFFSETFROM:+0100
TZOFFSETTO:+0200
TZNAME:CEST
DTSTART:20250330T010000
END:DAYLIGHT
BEGIN:STANDARD
TZOFFSETFROM:+0200
TZOFFSETTO:+0100
TZNAME:CET
DTSTART:20251026T010000
END:STANDARD
BEGIN:DAYLIGHT
TZOFFSETFROM:+0100
TZOFFSETTO:+0200
TZNAME:CEST
DTSTART:20260329T010000
END:DAYLIGHT
BEGIN:STANDARD
TZOFFSETFROM:+0200
TZOFFSETTO:+0100
TZNAME:CET
DTSTART:20261025T010000
END:STANDARD
BEGIN:DAYLIGHT
TZOFFSETFROM:+0100
TZOFFSETTO:+0200
TZNAME:CEST
DTSTART:20270328T010000
END:DAYLIGHT
BEGIN:STANDARD
TZOFFSETFROM:+0200
TZOFFSETTO:+0100
TZNAME:CET
DTSTART:20271031T010000
END:STANDARD
END:VTIMEZONE
BEGIN:VEVENT
DTSTART;TZID=Europe/Zurich:20260422T100000
DTEND;TZID=Europe/Zurich:20260422T163000
DTSTAMP:20260422T015003
CREATED:20260421T064747Z
LAST-MODIFIED:20260421T065102Z
UID:10001375-1776852000-1776875400@wandern-mit-freunden.ch
SUMMARY:Böningen-Senggflue-Iseltwald-Giessbachfälle-⛴️-Brienz
DESCRIPTION:Am Mittwoch 22.4.26 wandern wir von Böningen\, Wäldli zur Senggflue und weiter nach Iseltwald. Dann gehts weiter zu den Giessbachfällen. Mit dem Schiff fahren wir dann je nach Zeit nach Brienz oder Interlacken. \n  \nStreckenlänge: 12.9 km 591 m ufä und 496 m abä ca 4h reine Wanderzeit \nStrecke auf Schweizmobil \n  \nAnfahrt ab Zürich HB: Zürich ab 07:02/ Interlaken Ost an 08:59\, ab 09:05 ( mit B103 ) / Iseltwald\, Dorfplatz an 09:21\, ab 09:25 ( ebenfalls mit B103 / Hällt im Hinweg nicht in Bönigen\, Wäldli ) \nRückfahrt ab Giessbach\, See: mit Schiff: 14:51 nach Interlaken\,Ost (1h) oder 16:09 nach Brienz (11min) \n  \nAnmeldungen können durch eingeloggte Benutzer unten im Kommentarfeld eingetragen werden. \nMaximale Teilnehmerzahl 10 Personen. \n  \nEure Barbara
URL:https://wandern-mit-freunden.ch/event/boeningen-senggflue-iseldwald-giessbachfaelle-%e2%9b%b4%ef%b8%8f-brienz/
CATEGORIES:Geplante Wanderungen,Wanderung
END:VEVENT
END:VCALENDAR