BEGIN:VCALENDAR
VERSION:2.0
PRODID:-//Wandern mit Freunden - ECPv6.15.20//NONSGML v1.0//EN
CALSCALE:GREGORIAN
METHOD:PUBLISH
X-ORIGINAL-URL:https://wandern-mit-freunden.ch
X-WR-CALDESC:Veranstaltungen im Wandern mit Freunden
REFRESH-INTERVAL;VALUE=DURATION:PT1H
X-Robots-Tag:noindex
X-PUBLISHED-TTL:PT1H
BEGIN:VTIMEZONE
TZID:Europe/Zurich
BEGIN:DAYLIGHT
TZOFFSETFROM:+0100
TZOFFSETTO:+0200
TZNAME:CEST
DTSTART:20230326T010000
END:DAYLIGHT
BEGIN:STANDARD
TZOFFSETFROM:+0200
TZOFFSETTO:+0100
TZNAME:CET
DTSTART:20231029T010000
END:STANDARD
BEGIN:DAYLIGHT
TZOFFSETFROM:+0100
TZOFFSETTO:+0200
TZNAME:CEST
DTSTART:20240331T010000
END:DAYLIGHT
BEGIN:STANDARD
TZOFFSETFROM:+0200
TZOFFSETTO:+0100
TZNAME:CET
DTSTART:20241027T010000
END:STANDARD
BEGIN:DAYLIGHT
TZOFFSETFROM:+0100
TZOFFSETTO:+0200
TZNAME:CEST
DTSTART:20250330T010000
END:DAYLIGHT
BEGIN:STANDARD
TZOFFSETFROM:+0200
TZOFFSETTO:+0100
TZNAME:CET
DTSTART:20251026T010000
END:STANDARD
END:VTIMEZONE
BEGIN:VEVENT
DTSTART;TZID=Europe/Zurich:20240816T093000
DTEND;TZID=Europe/Zurich:20240816T150000
DTSTAMP:20260422T231013
CREATED:20240814T132221Z
LAST-MODIFIED:20240814T133037Z
UID:10001177-1723800600-1723820400@wandern-mit-freunden.ch
SUMMARY:FREITAG: Brambrüesch - Dreibündenstein - Feldis (GR)
DESCRIPTION:Max. Gruppengrösse: 10 Personen \nAm Freitag (16.08.24)\nwandern wir von Brambrüesch ob Chur zum Dreibündenstein\nund hinunter nach Feldis ob Rhäzüns. \nGeplante Wanderroute:\nBrambrüesch (1591m)\nSpundisköpf (1814m) – Hühnerköpfe (1947m)\nDreibündenstein / Term Bel (2160m)\nAlp da Veulden (1948m) – Plaun Graund (1558m)\nFeldis (1470m) \nStreckenlänge:\nca. 12 km\, 735 m aufwärts\, 860 m abwärts\, 4.5 Std.\, T2 \nRoute auf SchweizMobil.ch:\nL I N K \n \nWanderung vor 11 Jahren:\nZum (zweiten) Churer Hausberg: Brambrüesch / Dreibündenstein \nFahrplan ab Zürich HB:\nZürich HB ab 07:38\nChur an 08:52 / Fussweg ca. 15 Minuten / ab 09:20 mit Brambrüeschbahnen\nBrambrüesch an ca. 09:40 \nRückfahrt ab Feldis\nxx:10 / xx:40 \nBergfahrt:\nmit Brambrüeschbahn (Luftseilbahn und Gondelbahn)\nTicket: 11 Franken \nTalfahrt:\nLuftseilbahn Feldis – Rhäzüns\nTicket: Fr. 4.70 / kostenlos mit GA/TK \nVerpflegung aus dem Rucksack \nAnmeldungen\nkönnen durch eingeloggte Benutzer unten im Kommentarfeld eingetragen werden. \nBeat\nhttps://wmf-pfanniblog-2.blogspot.com/\nhttps://www.youtube.com/@beatwmf2059
URL:https://wandern-mit-freunden.ch/event/freitag-brambrueesch-dreibuendenstein-feldis-gr/
CATEGORIES:Geplante Wanderungen,Wanderung
END:VEVENT
END:VCALENDAR