BEGIN:VCALENDAR
VERSION:2.0
PRODID:-//Wandern mit Freunden - ECPv6.15.20//NONSGML v1.0//EN
CALSCALE:GREGORIAN
METHOD:PUBLISH
X-WR-CALNAME:Wandern mit Freunden
X-ORIGINAL-URL:https://wandern-mit-freunden.ch
X-WR-CALDESC:Veranstaltungen im Wandern mit Freunden
REFRESH-INTERVAL;VALUE=DURATION:PT1H
X-Robots-Tag:noindex
X-PUBLISHED-TTL:PT1H
BEGIN:VTIMEZONE
TZID:Europe/Zurich
BEGIN:DAYLIGHT
TZOFFSETFROM:+0100
TZOFFSETTO:+0200
TZNAME:CEST
DTSTART:20230326T010000
END:DAYLIGHT
BEGIN:STANDARD
TZOFFSETFROM:+0200
TZOFFSETTO:+0100
TZNAME:CET
DTSTART:20231029T010000
END:STANDARD
BEGIN:DAYLIGHT
TZOFFSETFROM:+0100
TZOFFSETTO:+0200
TZNAME:CEST
DTSTART:20240331T010000
END:DAYLIGHT
BEGIN:STANDARD
TZOFFSETFROM:+0200
TZOFFSETTO:+0100
TZNAME:CET
DTSTART:20241027T010000
END:STANDARD
BEGIN:DAYLIGHT
TZOFFSETFROM:+0100
TZOFFSETTO:+0200
TZNAME:CEST
DTSTART:20250330T010000
END:DAYLIGHT
BEGIN:STANDARD
TZOFFSETFROM:+0200
TZOFFSETTO:+0100
TZNAME:CET
DTSTART:20251026T010000
END:STANDARD
END:VTIMEZONE
BEGIN:VEVENT
DTSTART;TZID=Europe/Zurich:20240714T093000
DTEND;TZID=Europe/Zurich:20240714T150000
DTSTAMP:20260423T015333
CREATED:20240711T160323Z
LAST-MODIFIED:20240711T160324Z
UID:10001165-1720949400-1720969200@wandern-mit-freunden.ch
SUMMARY:SONNTAG: Gotschnaboden - Gotschnagrat - Parsennhütte - Davos (GR)
DESCRIPTION:Max. Gruppengrösse: 10 Personen \nAm Sonntag (14.07.24)\nwandern wir ab Gotschnaboden auf den Gotschnagrat\,\nweiter zur Parsennhütte und hinunter nach Davos Dorf. \nGeplante Wanderroute:\nGotschnaboden (1780m) / Zwischenstation der Gotschnabahn\nChalbersäss (1948m) – Gotschnagrat (2282m)\nPanoramaweg – Parsennhütte (2202m) – Panoramaweg\nMeierhof (1602m) – Tschuggen (1615m)\nDavos Dorf (1560m) / Bahnstation \nStreckenlänge:\nca. 14.5 km\, 690 m aufwärts\, 910 m abwärts\, 4.5 Std.\, T2 \nRoute auf SchweizMobil.ch:\nL I N K \n \nFahrplan ab Zürich HB:\nZürich HB ab 07:38\nLandquart an 08:41 / ab 08:47\nKlosters Platz an 09:28 \nBergfahrt\nmit der Gotschnabahn bis zur Zwischenstation Gotschnaboden\nTicket: 18 Franken \nRückfahrt ab Davos Dorf:\nxx:06 / xx:30 \nVerpflegung aus dem Rucksack \nAnmeldungen\nkönnen durch eingeloggte Benutzer unten im Kommentarfeld eingetragen werden. \nBeat\nhttps://wmf-pfanniblog-2.blogspot.com/\nhttps://www.youtube.com/@beatwmf2059
URL:https://wandern-mit-freunden.ch/event/sonntag-gotschnaboden-gotschnagrat-parsennhuette-davos-gr/
CATEGORIES:Geplante Wanderungen,Wanderung
END:VEVENT
END:VCALENDAR