BEGIN:VCALENDAR
VERSION:2.0
PRODID:-//Wandern mit Freunden - ECPv6.15.20//NONSGML v1.0//EN
CALSCALE:GREGORIAN
METHOD:PUBLISH
X-WR-CALNAME:Wandern mit Freunden
X-ORIGINAL-URL:https://wandern-mit-freunden.ch
X-WR-CALDESC:Veranstaltungen im Wandern mit Freunden
REFRESH-INTERVAL;VALUE=DURATION:PT1H
X-Robots-Tag:noindex
X-PUBLISHED-TTL:PT1H
BEGIN:VTIMEZONE
TZID:Europe/Zurich
BEGIN:DAYLIGHT
TZOFFSETFROM:+0100
TZOFFSETTO:+0200
TZNAME:CEST
DTSTART:20230326T010000
END:DAYLIGHT
BEGIN:STANDARD
TZOFFSETFROM:+0200
TZOFFSETTO:+0100
TZNAME:CET
DTSTART:20231029T010000
END:STANDARD
BEGIN:DAYLIGHT
TZOFFSETFROM:+0100
TZOFFSETTO:+0200
TZNAME:CEST
DTSTART:20240331T010000
END:DAYLIGHT
BEGIN:STANDARD
TZOFFSETFROM:+0200
TZOFFSETTO:+0100
TZNAME:CET
DTSTART:20241027T010000
END:STANDARD
BEGIN:DAYLIGHT
TZOFFSETFROM:+0100
TZOFFSETTO:+0200
TZNAME:CEST
DTSTART:20250330T010000
END:DAYLIGHT
BEGIN:STANDARD
TZOFFSETFROM:+0200
TZOFFSETTO:+0100
TZNAME:CET
DTSTART:20251026T010000
END:STANDARD
END:VTIMEZONE
BEGIN:VEVENT
DTSTART;TZID=Europe/Zurich:20240706T090000
DTEND;TZID=Europe/Zurich:20240706T140000
DTSTAMP:20260423T015738
CREATED:20240704T125941Z
LAST-MODIFIED:20240707T050203Z
UID:10001164-1720256400-1720274400@wandern-mit-freunden.ch
SUMMARY:SAMSTAG: Buchs - Werdenberg - Sevelen (SG)
DESCRIPTION:Max. Gruppengrösse: 10 Personen \nAm kommenden Samstag (06.07.24)\nwandern wir von Buchs SG via Werdenberg nach Sevelen. \nGeplante Wanderroute:\nBuchs SG (447m) / Bahnhof\nWerdenberger See (446m) – Schloss Werdenberg\nAltendorf (485m) – Valgup (581m)\nSt. Ulrich (532m) – Gretschinser Riet (639m)\nSevelen (458m) / Bahnstation \nStreckenlänge:\nca. 15 km\, 490 m aufwärts\, 480 m abwärts\, 4 Std.\, T1-T2 \nRoute auf SchweizMobil.ch:\nL I N K \n \nFahrplan ab Zürich HB:\nZürich HB ab 07:43\nZiegelbrücke an 08:25 / ab 08:28\nBuchs SG an 09:12 \nRückfahrt:\nAb Sevelen\, Veltur oder Sevelen\, Bahnhof \nVerpflegung aus dem Rucksack \nAnmeldungen\nkönnen durch eingeloggte Benutzer unten im Kommentarfeld eingetragen werden. \nBeat\nhttps://wmf-pfanniblog-2.blogspot.com/\nhttps://www.youtube.com/@beatwmf2059
URL:https://wandern-mit-freunden.ch/event/samstag-buchs-werdenberg-sevelen-sg/
CATEGORIES:Geplante Wanderungen,Wanderung
END:VEVENT
END:VCALENDAR