BEGIN:VCALENDAR
VERSION:2.0
PRODID:-//Wandern mit Freunden - ECPv6.15.20//NONSGML v1.0//EN
CALSCALE:GREGORIAN
METHOD:PUBLISH
X-WR-CALNAME:Wandern mit Freunden
X-ORIGINAL-URL:https://wandern-mit-freunden.ch
X-WR-CALDESC:Veranstaltungen im Wandern mit Freunden
REFRESH-INTERVAL;VALUE=DURATION:PT1H
X-Robots-Tag:noindex
X-PUBLISHED-TTL:PT1H
BEGIN:VTIMEZONE
TZID:Europe/Zurich
BEGIN:DAYLIGHT
TZOFFSETFROM:+0100
TZOFFSETTO:+0200
TZNAME:CEST
DTSTART:20190331T010000
END:DAYLIGHT
BEGIN:STANDARD
TZOFFSETFROM:+0200
TZOFFSETTO:+0100
TZNAME:CET
DTSTART:20191027T010000
END:STANDARD
BEGIN:DAYLIGHT
TZOFFSETFROM:+0100
TZOFFSETTO:+0200
TZNAME:CEST
DTSTART:20200329T010000
END:DAYLIGHT
BEGIN:STANDARD
TZOFFSETFROM:+0200
TZOFFSETTO:+0100
TZNAME:CET
DTSTART:20201025T010000
END:STANDARD
BEGIN:DAYLIGHT
TZOFFSETFROM:+0100
TZOFFSETTO:+0200
TZNAME:CEST
DTSTART:20210328T010000
END:DAYLIGHT
BEGIN:STANDARD
TZOFFSETFROM:+0200
TZOFFSETTO:+0100
TZNAME:CET
DTSTART:20211031T010000
END:STANDARD
END:VTIMEZONE
BEGIN:VEVENT
DTSTART;VALUE=DATE:20200704
DTEND;VALUE=DATE:20200705
DTSTAMP:20260425T143651
CREATED:20200629T090808Z
LAST-MODIFIED:20200705T062837Z
UID:10000711-1593820800-1593907199@wandern-mit-freunden.ch
SUMMARY:SAMSTAG: Auf dem Furka-Höhenweg von Realp nach Andermatt (UR)
DESCRIPTION:Hinweis am Freitagabend:\nMax. Gruppengrösse 10 Personen. \nAngemeldet sind bisher 8 Personen:\nIris\, Bea & Sepp\, Barbara\, Eveline\, Beat\, Hedi\, Juliet \nAm kommenden Samstag (04.07.20)\nwandern wir auf dem Furka-Höhenweg / Urschner-Höhenweg\nim Abschnitt zwischen Realp und Andermatt. \nGeplante Wanderroute:\nRealp (1538m)\nP.2018 – Blauseeli (ca. 2130m) – Unter Hübschboden (ca. 2070m)\nTrübsee – Lutersee (ca. 2000m) – P. 1723\nAbstieg nach Andermatt (1435m) \nStreckenlänge:\nca. 15 km\, 845 m aufwärts\, 945 m abwärts\, 5 Std.\, T2 \nRoute auf SchweizMobil: \n \nInfos zur Route auf wandersite.ch:\nFurka-Höhenweg: Realp – Andermatt \nFahrplan ab Zürich HB:\nZürich HB ab 07:10\nArth-Goldau an 08:03 / ab 08:09\nErstfeld an 08:40 / ab 08:43\nGöschenen an 09:08 / ab 09:14\nAndermatt an 09:24 / ab 09:37\nRealp an 09:50 / Halt auf Verlangen! \nRückfahrt ab Andermatt:\nxx:29 \nVerpflegung aus dem Rucksack \nAnmeldungen\nkönnen durch eingeloggte Teilnehmer unten im Kommentarfeld erfolgen\noder mir per WhatsApp oder SMS mitgeteilt werden. \nBeat / http://pfanniblog.blogspot.ch/
URL:https://wandern-mit-freunden.ch/event/auf-dem-furka-hoehenweg-von-realp-nach-andermatt-ur/
CATEGORIES:Geplante Wanderungen,Wanderung
END:VEVENT
END:VCALENDAR