BEGIN:VCALENDAR
VERSION:2.0
PRODID:-//Wandern mit Freunden - ECPv6.15.20//NONSGML v1.0//EN
CALSCALE:GREGORIAN
METHOD:PUBLISH
X-WR-CALNAME:Wandern mit Freunden
X-ORIGINAL-URL:https://wandern-mit-freunden.ch
X-WR-CALDESC:Veranstaltungen im Wandern mit Freunden
REFRESH-INTERVAL;VALUE=DURATION:PT1H
X-Robots-Tag:noindex
X-PUBLISHED-TTL:PT1H
BEGIN:VTIMEZONE
TZID:Europe/Zurich
BEGIN:DAYLIGHT
TZOFFSETFROM:+0100
TZOFFSETTO:+0200
TZNAME:CEST
DTSTART:20190331T010000
END:DAYLIGHT
BEGIN:STANDARD
TZOFFSETFROM:+0200
TZOFFSETTO:+0100
TZNAME:CET
DTSTART:20191027T010000
END:STANDARD
BEGIN:DAYLIGHT
TZOFFSETFROM:+0100
TZOFFSETTO:+0200
TZNAME:CEST
DTSTART:20200329T010000
END:DAYLIGHT
BEGIN:STANDARD
TZOFFSETFROM:+0200
TZOFFSETTO:+0100
TZNAME:CET
DTSTART:20201025T010000
END:STANDARD
BEGIN:DAYLIGHT
TZOFFSETFROM:+0100
TZOFFSETTO:+0200
TZNAME:CEST
DTSTART:20210328T010000
END:DAYLIGHT
BEGIN:STANDARD
TZOFFSETFROM:+0200
TZOFFSETTO:+0100
TZNAME:CET
DTSTART:20211031T010000
END:STANDARD
END:VTIMEZONE
BEGIN:VEVENT
DTSTART;VALUE=DATE:20200524
DTEND;VALUE=DATE:20200525
DTSTAMP:20260425T182628
CREATED:20200522T121502Z
LAST-MODIFIED:20240225T205028Z
UID:10000700-1590278400-1590364799@wandern-mit-freunden.ch
SUMMARY:Zum Türlersee
DESCRIPTION:DIE 5 PLÄTZE SIND VOLL ! \nAm Sonntag 24.5.2020 mache ich eine kleine Wanderung zum Türlersee. \nStart ist in Ebertswil. \nStreckenlänge: 13\,34 km/               555 ufä/                506 abä/                 ca 4h \n  \nFahrplan ab Zürich Hbf :     Zürich ab 9:47 /  Thalwil an 10:00\, ab 10:04 /  Ebertswil\, Schulhaus an 10:39 \nRückfahrt ab Aeugsterberg\, Landhaus oder Türlersee \nIch freue mich über 4 Mitwanderer/Mitwanderinnen! \nDa wir im Zug und Bus schlecht genug Abstand nehmen können\, bitte ich euch dort Masken zu tragen. Danke! \nMeine Mobile Nummer: 076 530 43 60 \nLiebe Grüsse \nBarbara
URL:https://wandern-mit-freunden.ch/event/zum-tuerlersee/
CATEGORIES:Geplante Wanderungen
END:VEVENT
END:VCALENDAR